BEGIN:VCALENDAR
VERSION:2.0
PRODID:-//Events - ECPv6.15.20//NONSGML v1.0//EN
CALSCALE:GREGORIAN
METHOD:PUBLISH
X-ORIGINAL-URL:https://www.monmouth.edu/events
X-WR-CALDESC:Events for Events
REFRESH-INTERVAL;VALUE=DURATION:PT1H
X-Robots-Tag:noindex
X-PUBLISHED-TTL:PT1H
BEGIN:VTIMEZONE
TZID:America/New_York
BEGIN:DAYLIGHT
TZOFFSETFROM:-0500
TZOFFSETTO:-0400
TZNAME:EDT
DTSTART:20240310T070000
END:DAYLIGHT
BEGIN:STANDARD
TZOFFSETFROM:-0400
TZOFFSETTO:-0500
TZNAME:EST
DTSTART:20241103T060000
END:STANDARD
BEGIN:DAYLIGHT
TZOFFSETFROM:-0500
TZOFFSETTO:-0400
TZNAME:EDT
DTSTART:20250309T070000
END:DAYLIGHT
BEGIN:STANDARD
TZOFFSETFROM:-0400
TZOFFSETTO:-0500
TZNAME:EST
DTSTART:20251102T060000
END:STANDARD
BEGIN:DAYLIGHT
TZOFFSETFROM:-0500
TZOFFSETTO:-0400
TZNAME:EDT
DTSTART:20260308T070000
END:DAYLIGHT
BEGIN:STANDARD
TZOFFSETFROM:-0400
TZOFFSETTO:-0500
TZNAME:EST
DTSTART:20261101T060000
END:STANDARD
END:VTIMEZONE
BEGIN:VEVENT
DTSTART;TZID=America/New_York:20251130T143000
DTEND;TZID=America/New_York:20251130T163000
DTSTAMP:20260423T050855
CREATED:20250918T124102Z
LAST-MODIFIED:20251130T114028Z
UID:40810119691-1764513000-1764520200@www.monmouth.edu
SUMMARY:Men's Basketball at Lafayette
DESCRIPTION:Monmouth University Men’s Basketball at Lafayette\nStreaming Video\nStreaming Audio
URL:https://www.monmouth.edu/events/event/monmouth-university-mens-basketball-at-lafayette/
LOCATION:Kirby Sports Center – Easton\, PA
CATEGORIES:Men's Basketball
END:VEVENT
BEGIN:VEVENT
DTSTART;TZID=America/New_York:20251203T200000
DTEND;TZID=America/New_York:20251203T220000
DTSTAMP:20260423T050855
CREATED:20250918T124114Z
LAST-MODIFIED:20251203T115644Z
UID:40810119693-1764792000-1764799200@www.monmouth.edu
SUMMARY:Men's Basketball vs Princeton - Jersey Day Doubleheader
DESCRIPTION:Monmouth University Men’s Basketball vs Princeton – Jersey Day Doubleheader\nStreaming Video\nTickets;agency=MNMV_PLAGENCY_MPV&orgid=44869&pid=9616199#/event/9616199/seatmap/?minPrice=14.5&maxPrice=107.5&quantity=2&sort=price_desc&ada=false&seatSelection=true&onlyCoupon=true&onlyVoucher=false
URL:https://www.monmouth.edu/events/event/mens-basketball-vs-princeton/
LOCATION:OceanFirst Bank Center – West Long Branch\, NJ
CATEGORIES:Men's Basketball
END:VEVENT
BEGIN:VEVENT
DTSTART;TZID=America/New_York:20251205T000000
DTEND;TZID=America/New_York:20251205T235959
DTSTAMP:20260423T050855
CREATED:20251121T163921Z
LAST-MODIFIED:20251205T175509Z
UID:40810120267-1764892800-1764979199@www.monmouth.edu
SUMMARY:Women's Track and Field at Penn Opener
DESCRIPTION:Monmouth University Women’s Track and Field at Penn Opener\nStreaming Video\nTickets
URL:https://www.monmouth.edu/events/event/monmouth-university-womens-track-and-field-at-penn-opener-2/
LOCATION:Philadelphia\, PA (Ott Center)
CATEGORIES:Women's Track & Field
END:VEVENT
BEGIN:VEVENT
DTSTART;TZID=America/New_York:20251205T140000
DTEND;TZID=America/New_York:20251205T235900
DTSTAMP:20260423T050855
CREATED:20251120T222415Z
LAST-MODIFIED:20251205T235512Z
UID:40810120233-1764943200-1764979140@www.monmouth.edu
SUMMARY:Men's Track and Field at Penn Opener
DESCRIPTION:Monmouth University Men’s Track and Field at Penn Opener\nStreaming Video\nTickets
URL:https://www.monmouth.edu/events/event/monmouth-university-mens-track-and-field-at-penn-opener-2/
LOCATION:Philadelphia\, PA (Ott Center)
CATEGORIES:Men's Track & Field
END:VEVENT
BEGIN:VEVENT
DTSTART;TZID=America/New_York:20251206T120000
DTEND;TZID=America/New_York:20251206T140000
DTSTAMP:20260423T050855
CREATED:20250918T124114Z
LAST-MODIFIED:20251206T122509Z
UID:40810119695-1765022400-1765029600@www.monmouth.edu
SUMMARY:Men's Basketball at Georgia Tech
DESCRIPTION:Monmouth University Men’s Basketball at Georgia Tech\nStreaming Video;sourceLang=en&om-navmethod=espn:globalsearch:results\nStreaming Audio
URL:https://www.monmouth.edu/events/event/mens-basketball-at-georgia-tech/
LOCATION:McCamish Pavilion – Atlanta\, GA
CATEGORIES:Men's Basketball
END:VEVENT
END:VCALENDAR