BEGIN:VCALENDAR
VERSION:2.0
PRODID:-//Events - ECPv6.15.20//NONSGML v1.0//EN
CALSCALE:GREGORIAN
METHOD:PUBLISH
X-ORIGINAL-URL:https://www.monmouth.edu/events
X-WR-CALDESC:Events for Events
REFRESH-INTERVAL;VALUE=DURATION:PT1H
X-Robots-Tag:noindex
X-PUBLISHED-TTL:PT1H
BEGIN:VTIMEZONE
TZID:America/New_York
BEGIN:DAYLIGHT
TZOFFSETFROM:-0500
TZOFFSETTO:-0400
TZNAME:EDT
DTSTART:20240310T070000
END:DAYLIGHT
BEGIN:STANDARD
TZOFFSETFROM:-0400
TZOFFSETTO:-0500
TZNAME:EST
DTSTART:20241103T060000
END:STANDARD
BEGIN:DAYLIGHT
TZOFFSETFROM:-0500
TZOFFSETTO:-0400
TZNAME:EDT
DTSTART:20250309T070000
END:DAYLIGHT
BEGIN:STANDARD
TZOFFSETFROM:-0400
TZOFFSETTO:-0500
TZNAME:EST
DTSTART:20251102T060000
END:STANDARD
BEGIN:DAYLIGHT
TZOFFSETFROM:-0500
TZOFFSETTO:-0400
TZNAME:EDT
DTSTART:20260308T070000
END:DAYLIGHT
BEGIN:STANDARD
TZOFFSETFROM:-0400
TZOFFSETTO:-0500
TZNAME:EST
DTSTART:20261101T060000
END:STANDARD
END:VTIMEZONE
BEGIN:VEVENT
DTSTART;TZID=America/New_York:20251101T000000
DTEND;TZID=America/New_York:20251101T235959
DTSTAMP:20260422T041111
CREATED:20250917T174032Z
LAST-MODIFIED:20251101T165510Z
UID:40810119650-1761955200-1762041599@www.monmouth.edu
SUMMARY:Rowing  Heart of the Housatonic Regatta
DESCRIPTION:Monmouth University Rowing  Heart of the Housatonic Regatta
URL:https://www.monmouth.edu/events/event/monmouth-university-rowing-heart-of-the-housatonic-regatta/
LOCATION:Shelton\, CT
CATEGORIES:Women's Rowing
END:VEVENT
BEGIN:VEVENT
DTSTART;TZID=America/New_York:20251101T120000
DTEND;TZID=America/New_York:20251101T150000
DTSTAMP:20260422T041111
CREATED:20251002T205512Z
LAST-MODIFIED:20251031T194208Z
UID:40810119769-1761998400-1762009200@www.monmouth.edu
SUMMARY:Women's Swimming vs Iona
DESCRIPTION:Monmouth University Women’s Swimming vs Iona
URL:https://www.monmouth.edu/events/event/monmouth-university-womens-swimming-vs-iona/
LOCATION:Richard E. Steadman Natatorium
CATEGORIES:Women's Swimming
END:VEVENT
BEGIN:VEVENT
DTSTART;TZID=America/New_York:20251101T120000
DTEND;TZID=America/New_York:20251101T150000
DTSTAMP:20260422T041111
CREATED:20251003T172513Z
LAST-MODIFIED:20251101T184030Z
UID:40810119794-1761998400-1762009200@www.monmouth.edu
SUMMARY:Men's Swimming vs Iona
DESCRIPTION:Monmouth University Men’s Swimming vs Iona
URL:https://www.monmouth.edu/events/event/monmouth-university-mens-swimming-vs-iona/
LOCATION:Richard E. Steadman Natatorium
CATEGORIES:Men's Swimming
END:VEVENT
BEGIN:VEVENT
DTSTART;TZID=America/New_York:20251101T130000
DTEND;TZID=America/New_York:20251101T160000
DTSTAMP:20260422T041111
CREATED:20241219T144034Z
LAST-MODIFIED:20251101T195413Z
UID:40810117152-1762002000-1762012800@www.monmouth.edu
SUMMARY:Monmouth University Football at Bryant
DESCRIPTION:Monmouth University Football at Bryant\nStreaming Video\nStreaming Audio
URL:https://www.monmouth.edu/events/event/monmouth-university-football-at-bryant/
LOCATION:Smithfield\, RI
CATEGORIES:Men's Football
END:VEVENT
BEGIN:VEVENT
DTSTART;TZID=America/New_York:20251102T130000
DTEND;TZID=America/New_York:20251102T150000
DTSTAMP:20260422T041111
CREATED:20250707T224110Z
LAST-MODIFIED:20251102T160929Z
UID:40810119294-1762088400-1762095600@www.monmouth.edu
SUMMARY:Women's Soccer vs No. 2 Stony Brook
DESCRIPTION:Monmouth University Women’s Soccer vs No. 2 Stony Brook\nStreaming Video
URL:https://www.monmouth.edu/events/event/womens-soccer-vs-caa-semifinals-2/
LOCATION:Hesse Field on The Great Lawn
CATEGORIES:Women's Soccer
END:VEVENT
BEGIN:VEVENT
DTSTART;TZID=America/New_York:20251104T190000
DTEND;TZID=America/New_York:20251104T210000
DTSTAMP:20260422T041111
CREATED:20250918T124101Z
LAST-MODIFIED:20251104T194028Z
UID:40810119677-1762282800-1762290000@www.monmouth.edu
SUMMARY:Men's Basketball vs Caldwell - Student White-Out
DESCRIPTION:Monmouth University Men’s Basketball vs Caldwell – Student White-Out\nStreaming Video\nTickets;agency=MNMV_PLAGENCY_MPV&orgid=44869&pid=9616197#/event/9616197/seatmap/?minPrice=14.5&maxPrice=107.5&quantity=2&sort=price_desc&ada=false&seatSelection=true&onlyCoupon=true&onlyVoucher=false
URL:https://www.monmouth.edu/events/event/monmouth-university-mens-basketball-vs-caldwell/
LOCATION:OceanFirst Bank Center – West Long Branch\, NJ
CATEGORIES:Men's Basketball
END:VEVENT
BEGIN:VEVENT
DTSTART;TZID=America/New_York:20251106T180000
DTEND;TZID=America/New_York:20251106T200000
DTSTAMP:20260422T041111
CREATED:20250707T231115Z
LAST-MODIFIED:20251106T194025Z
UID:40810119298-1762452000-1762459200@www.monmouth.edu
SUMMARY:Men's Soccer at Stony Brook
DESCRIPTION:Monmouth University Men’s Soccer at Stony Brook\nStreaming Video;utm_source=multiple&utm_content=landingpage&utm_term=monmouth&contract_id=0063m00000qeqqqaao
URL:https://www.monmouth.edu/events/event/mens-soccer-vs-caa-first-round-2/
LOCATION:Stony Brook\, NY
CATEGORIES:Men's Soccer
END:VEVENT
BEGIN:VEVENT
DTSTART;TZID=America/New_York:20251106T180000
DTEND;TZID=America/New_York:20251106T210000
DTSTAMP:20260422T041111
CREATED:20251002T205513Z
LAST-MODIFIED:20251106T220926Z
UID:40810119771-1762452000-1762462800@www.monmouth.edu
SUMMARY:Women's Swimming vs Manhattan
DESCRIPTION:Monmouth University Women’s Swimming vs Manhattan
URL:https://www.monmouth.edu/events/event/monmouth-university-womens-swimming-vs-manhattan-2/
LOCATION:Richard E. Steadman Natatorium
CATEGORIES:Women's Swimming
END:VEVENT
BEGIN:VEVENT
DTSTART;TZID=America/New_York:20251106T180000
DTEND;TZID=America/New_York:20251106T210000
DTSTAMP:20260422T041111
CREATED:20251003T172513Z
LAST-MODIFIED:20251106T192508Z
UID:40810119796-1762452000-1762462800@www.monmouth.edu
SUMMARY:Men's Swimming vs Manhattan
DESCRIPTION:Monmouth University Men’s Swimming vs Manhattan
URL:https://www.monmouth.edu/events/event/monmouth-university-mens-swimming-vs-manhattan/
LOCATION:Richard E. Steadman Natatorium
CATEGORIES:Men's Swimming
END:VEVENT
BEGIN:VEVENT
DTSTART;TZID=America/New_York:20251107T000000
DTEND;TZID=America/New_York:20251108T235959
DTSTAMP:20260422T041111
CREATED:20250917T151039Z
LAST-MODIFIED:20251108T182509Z
UID:40810119642-1762473600-1762646399@www.monmouth.edu
SUMMARY:Men's Tennis vs Dragon Invitational
DESCRIPTION:Monmouth University Men’s Tennis vs Dragon Invitational
URL:https://www.monmouth.edu/events/event/monmouth-university-mens-tennis-vs-dragon-invitational-2/
LOCATION:Philadelphia\, PA
CATEGORIES:Men's Tennis
END:VEVENT
BEGIN:VEVENT
DTSTART;TZID=America/New_York:20251107T000000
DTEND;TZID=America/New_York:20251108T235959
DTSTAMP:20260422T041111
CREATED:20250917T222512Z
LAST-MODIFIED:20251108T164038Z
UID:40810119657-1762473600-1762646399@www.monmouth.edu
SUMMARY:Bowling vs NEC 1
DESCRIPTION:Monmouth University Bowling vs NEC 1
URL:https://www.monmouth.edu/events/event/monmouth-university-bowling-vs-nec-1/
LOCATION:Mt Joy\, PA
CATEGORIES:Women's Bowling
END:VEVENT
BEGIN:VEVENT
DTSTART;TZID=America/New_York:20251107T100000
DTEND;TZID=America/New_York:20251107T130000
DTSTAMP:20260422T041111
CREATED:20251101T200831Z
LAST-MODIFIED:20251106T214028Z
UID:40810120138-1762509600-1762520400@www.monmouth.edu
SUMMARY:Field Hockey vs No. 4 Hofstra University
DESCRIPTION:Monmouth University Field Hockey vs No. 4 Hofstra University\nStreaming Video
URL:https://www.monmouth.edu/events/event/field-hockey-vs-no-4-hofstra-university/
LOCATION:West Long Branch\, NJ
CATEGORIES:Women's Field Hockey
END:VEVENT
BEGIN:VEVENT
DTSTART;TZID=America/New_York:20251108T000000
DTEND;TZID=America/New_York:20251108T235959
DTSTAMP:20260422T041111
CREATED:20250707T224110Z
LAST-MODIFIED:20251102T160930Z
UID:40810119296-1762560000-1762646399@www.monmouth.edu
SUMMARY:Women's Soccer vs CAA Championship
DESCRIPTION:Monmouth University Women’s Soccer vs CAA Championship
URL:https://www.monmouth.edu/events/event/womens-soccer-vs-caa-championship-2/
LOCATION:TBA
CATEGORIES:Women's Soccer
END:VEVENT
BEGIN:VEVENT
DTSTART;TZID=America/New_York:20251108T120000
DTEND;TZID=America/New_York:20251108T150000
DTSTAMP:20260422T041111
CREATED:20241219T144034Z
LAST-MODIFIED:20251107T212514Z
UID:40810117155-1762603200-1762614000@www.monmouth.edu
SUMMARY:Football vs New Hampshire - Heroes Day
DESCRIPTION:Monmouth University Football vs New Hampshire – Heroes Day\nStreaming Video\nTickets;agency=MNMV_PLAGENCY_MPV&orgid=44869&pid=9572420#/event/9572420/seatmap/?selectBuyers=false&minPrice=25.5&maxPrice=36.5&quantity=2&sort=price_desc&ada=false&seatSelection=true&onlyCoupon=true&onlyVoucher=false
URL:https://www.monmouth.edu/events/event/monmouth-university-football-vs-new-hampshire/
LOCATION:Kessler Stadium\, 107 Larchwood Ave\, West Long Branch\, NJ\, United States
CATEGORIES:Men's Football
GEO:40.279417;-74.010815
X-APPLE-STRUCTURED-LOCATION;VALUE=URI;X-ADDRESS=Kessler Stadium 107 Larchwood Ave West Long Branch NJ United States;X-APPLE-RADIUS=500;X-TITLE=107 Larchwood Ave:geo:-74.010815,40.279417
END:VEVENT
BEGIN:VEVENT
DTSTART;TZID=America/New_York:20251108T153000
DTEND;TZID=America/New_York:20251108T173000
DTSTAMP:20260422T041111
CREATED:20250918T124101Z
LAST-MODIFIED:20251108T200943Z
UID:40810119679-1762615800-1762623000@www.monmouth.edu
SUMMARY:Men's Basketball at La Salle
DESCRIPTION:Monmouth University Men’s Basketball at La Salle\nStreaming Video\nStreaming Audio
URL:https://www.monmouth.edu/events/event/monmouth-university-mens-basketball-at-la-salle/
LOCATION:John E. Glaser Arena – Philadelphia\, PA
CATEGORIES:Men's Basketball
END:VEVENT
BEGIN:VEVENT
DTSTART;TZID=America/New_York:20251108T190000
DTEND;TZID=America/New_York:20251109T185959
DTSTAMP:20260422T041111
CREATED:20250707T231116Z
LAST-MODIFIED:20250707T231116Z
UID:40810119304-1762628400-1762714799@www.monmouth.edu
SUMMARY:Monmouth University Men's Soccer vs CAA Semifinals
DESCRIPTION:Monmouth University Men’s Soccer vs CAA Semifinals
URL:https://www.monmouth.edu/events/event/monmouth-university-mens-soccer-vs-caa-semifinals/
LOCATION:TBA
CATEGORIES:Men's Soccer
END:VEVENT
BEGIN:VEVENT
DTSTART;TZID=America/New_York:20251109T000000
DTEND;TZID=America/New_York:20251109T235959
DTSTAMP:20260422T041111
CREATED:20250707T231115Z
LAST-MODIFIED:20251106T194025Z
UID:40810119300-1762646400-1762732799@www.monmouth.edu
SUMMARY:Men's Soccer vs CAA Semifinals
DESCRIPTION:Monmouth University Men’s Soccer vs CAA Semifinals
URL:https://www.monmouth.edu/events/event/mens-soccer-vs-caa-semifinals-2/
LOCATION:TBA
CATEGORIES:Men's Soccer
END:VEVENT
BEGIN:VEVENT
DTSTART;TZID=America/New_York:20251109T120000
DTEND;TZID=America/New_York:20251109T150000
DTSTAMP:20260422T041111
CREATED:20251107T213926Z
LAST-MODIFIED:20251108T215523Z
UID:40810120162-1762689600-1762700400@www.monmouth.edu
SUMMARY:Field Hockey vs No. 3 Drexel
DESCRIPTION:Monmouth University Field Hockey vs No. 3 Drexel\nStreaming Video
URL:https://www.monmouth.edu/events/event/field-hockey-vs-no-3-drexel/
LOCATION:West Long Branch\, NJ
CATEGORIES:Women's Field Hockey
END:VEVENT
BEGIN:VEVENT
DTSTART;TZID=America/New_York:20251113T190000
DTEND;TZID=America/New_York:20251113T210000
DTSTAMP:20260422T041111
CREATED:20250918T124101Z
LAST-MODIFIED:20251113T210927Z
UID:40810119681-1763060400-1763067600@www.monmouth.edu
SUMMARY:Men's Basketball at Seton Hall
DESCRIPTION:Monmouth University Men’s Basketball at Seton Hall\nStreaming Video\nStreaming Audio
URL:https://www.monmouth.edu/events/event/monmouth-university-mens-basketball-at-seton-hall-2/
LOCATION:Prudential Center – Newark\, NJ
CATEGORIES:Men's Basketball
END:VEVENT
BEGIN:VEVENT
DTSTART;TZID=America/New_York:20251114T130000
DTEND;TZID=America/New_York:20251114T160000
DTSTAMP:20260422T041111
CREATED:20250728T172514Z
LAST-MODIFIED:20251113T235509Z
UID:40810119375-1763125200-1763136000@www.monmouth.edu
SUMMARY:Men's Cross Country vs NCAA Mid-Atlantic Regional
DESCRIPTION:Monmouth University Men’s Cross Country vs NCAA Mid-Atlantic Regional
URL:https://www.monmouth.edu/events/event/monmouth-university-mens-cross-country-vs-ncaa-mid-atlantic-regional/
LOCATION:Lehigh\, Pa.
CATEGORIES:Men's Cross Country
END:VEVENT
BEGIN:VEVENT
DTSTART;TZID=America/New_York:20251115T000000
DTEND;TZID=America/New_York:20251115T235959
DTSTAMP:20260422T041111
CREATED:20250707T231115Z
LAST-MODIFIED:20251106T194025Z
UID:40810119302-1763164800-1763251199@www.monmouth.edu
SUMMARY:Men's Soccer vs CAA Championship
DESCRIPTION:Monmouth University Men’s Soccer vs CAA Championship
URL:https://www.monmouth.edu/events/event/mens-soccer-vs-caa-championship-2/
LOCATION:TBA
CATEGORIES:Men's Soccer
END:VEVENT
BEGIN:VEVENT
DTSTART;TZID=America/New_York:20251115T120000
DTEND;TZID=America/New_York:20251115T150000
DTSTAMP:20260422T041111
CREATED:20241219T144049Z
LAST-MODIFIED:20251114T220929Z
UID:40810117156-1763208000-1763218800@www.monmouth.edu
SUMMARY:Football at North Carolina A&T
DESCRIPTION:Monmouth University Football at North Carolina A&T\nStreaming Video
URL:https://www.monmouth.edu/events/event/monmouth-university-football-at-north-carolina-at/
LOCATION:Greensboro\, NC
CATEGORIES:Men's Football
END:VEVENT
BEGIN:VEVENT
DTSTART;TZID=America/New_York:20251118T210000
DTEND;TZID=America/New_York:20251118T230000
DTSTAMP:20260422T041111
CREATED:20250918T124101Z
LAST-MODIFIED:20251118T215508Z
UID:40810119683-1763499600-1763506800@www.monmouth.edu
SUMMARY:Men's Basketball at Syracuse
DESCRIPTION:Monmouth University Men’s Basketball at Syracuse\nStreaming Video;sourceLang=en&om-navmethod=espn:globalsearch:results\nStreaming Audio
URL:https://www.monmouth.edu/events/event/monmouth-university-mens-basketball-at-syracuse/
LOCATION:JMA Wireless Dome – Syracuse\, NY
CATEGORIES:Men's Basketball
END:VEVENT
BEGIN:VEVENT
DTSTART;TZID=America/New_York:20251119T170000
DTEND;TZID=America/New_York:20251119T200000
DTSTAMP:20260422T041111
CREATED:20251002T205513Z
LAST-MODIFIED:20251119T225509Z
UID:40810119773-1763571600-1763582400@www.monmouth.edu
SUMMARY:Women's Swimming at Patriot Invitational
DESCRIPTION:Monmouth University Women’s Swimming at Patriot Invitational
URL:https://www.monmouth.edu/events/event/monmouth-university-womens-swimming-at-patriot-invitational/
LOCATION:Fairfax\, VA
CATEGORIES:Women's Swimming
END:VEVENT
BEGIN:VEVENT
DTSTART;TZID=America/New_York:20251119T170000
DTEND;TZID=America/New_York:20251119T200000
DTSTAMP:20260422T041111
CREATED:20251003T172513Z
LAST-MODIFIED:20251119T202509Z
UID:40810119798-1763571600-1763582400@www.monmouth.edu
SUMMARY:Men's Swimming at Patriot Invitational
DESCRIPTION:Monmouth University Men’s Swimming at Patriot Invitational
URL:https://www.monmouth.edu/events/event/monmouth-university-mens-swimming-at-patriot-invitational/
LOCATION:Fairfax\, VA
CATEGORIES:Men's Swimming
END:VEVENT
BEGIN:VEVENT
DTSTART;TZID=America/New_York:20251120T000000
DTEND;TZID=America/New_York:20251120T235959
DTSTAMP:20260422T041111
CREATED:20251118T225417Z
LAST-MODIFIED:20251120T225508Z
UID:40810120213-1763596800-1763683199@www.monmouth.edu
SUMMARY:Women's Swimming at Patriot Invitational
DESCRIPTION:Monmouth University Women’s Swimming at Patriot Invitational
URL:https://www.monmouth.edu/events/event/monmouth-university-womens-swimming-at-patriot-invitational-2/
LOCATION:Fairfax\, VA
CATEGORIES:Women's Swimming
END:VEVENT
BEGIN:VEVENT
DTSTART;TZID=America/New_York:20251120T000000
DTEND;TZID=America/New_York:20251120T235959
DTSTAMP:20260422T041111
CREATED:20251119T202420Z
LAST-MODIFIED:20251120T202508Z
UID:40810120225-1763596800-1763683199@www.monmouth.edu
SUMMARY:Men's Swimming at Patriot Invitational
DESCRIPTION:Monmouth University Men’s Swimming at Patriot Invitational
URL:https://www.monmouth.edu/events/event/monmouth-university-mens-swimming-at-patriot-invitational-2/
LOCATION:Fairfax\, VA
CATEGORIES:Men's Swimming
END:VEVENT
BEGIN:VEVENT
DTSTART;TZID=America/New_York:20251121T000000
DTEND;TZID=America/New_York:20251121T235959
DTSTAMP:20260422T041111
CREATED:20251118T225417Z
LAST-MODIFIED:20251121T225508Z
UID:40810120215-1763683200-1763769599@www.monmouth.edu
SUMMARY:Women's Swimming at Patriot Invitational
DESCRIPTION:Monmouth University Women’s Swimming at Patriot Invitational
URL:https://www.monmouth.edu/events/event/monmouth-university-womens-swimming-at-patriot-invitational-3/
LOCATION:Fairfax\, VA
CATEGORIES:Women's Swimming
END:VEVENT
BEGIN:VEVENT
DTSTART;TZID=America/New_York:20251121T000000
DTEND;TZID=America/New_York:20251121T235959
DTSTAMP:20260422T041111
CREATED:20251119T202420Z
LAST-MODIFIED:20251121T204030Z
UID:40810120227-1763683200-1763769599@www.monmouth.edu
SUMMARY:Men's Swimming at Patriot Invitational
DESCRIPTION:Monmouth University Men’s Swimming at Patriot Invitational
URL:https://www.monmouth.edu/events/event/monmouth-university-mens-swimming-at-patriot-invitational-3/
LOCATION:Fairfax\, VA
CATEGORIES:Men's Swimming
END:VEVENT
BEGIN:VEVENT
DTSTART;TZID=America/New_York:20251121T000000
DTEND;TZID=America/New_York:20251122T235959
DTSTAMP:20260422T041111
CREATED:20250917T222512Z
LAST-MODIFIED:20251122T180928Z
UID:40810119659-1763683200-1763855999@www.monmouth.edu
SUMMARY:Bowling vs Garden State Classic
DESCRIPTION:Monmouth University Bowling vs Garden State Classic
URL:https://www.monmouth.edu/events/event/monmouth-university-bowling-vs-garden-state-classic/
LOCATION:Howell\, NJ
CATEGORIES:Women's Bowling
END:VEVENT
END:VCALENDAR