BEGIN:VCALENDAR
VERSION:2.0
PRODID:-//Events - ECPv6.15.20//NONSGML v1.0//EN
CALSCALE:GREGORIAN
METHOD:PUBLISH
X-WR-CALNAME:Events
X-ORIGINAL-URL:https://www.monmouth.edu/events
X-WR-CALDESC:Events for Events
REFRESH-INTERVAL;VALUE=DURATION:PT1H
X-Robots-Tag:noindex
X-PUBLISHED-TTL:PT1H
BEGIN:VTIMEZONE
TZID:America/New_York
BEGIN:DAYLIGHT
TZOFFSETFROM:-0500
TZOFFSETTO:-0400
TZNAME:EDT
DTSTART:20190310T070000
END:DAYLIGHT
BEGIN:STANDARD
TZOFFSETFROM:-0400
TZOFFSETTO:-0500
TZNAME:EST
DTSTART:20191103T060000
END:STANDARD
BEGIN:DAYLIGHT
TZOFFSETFROM:-0500
TZOFFSETTO:-0400
TZNAME:EDT
DTSTART:20200308T070000
END:DAYLIGHT
BEGIN:STANDARD
TZOFFSETFROM:-0400
TZOFFSETTO:-0500
TZNAME:EST
DTSTART:20201101T060000
END:STANDARD
BEGIN:DAYLIGHT
TZOFFSETFROM:-0500
TZOFFSETTO:-0400
TZNAME:EDT
DTSTART:20210314T070000
END:DAYLIGHT
BEGIN:STANDARD
TZOFFSETFROM:-0400
TZOFFSETTO:-0500
TZNAME:EST
DTSTART:20211107T060000
END:STANDARD
BEGIN:DAYLIGHT
TZOFFSETFROM:-0500
TZOFFSETTO:-0400
TZNAME:EDT
DTSTART:20220313T070000
END:DAYLIGHT
BEGIN:STANDARD
TZOFFSETFROM:-0400
TZOFFSETTO:-0500
TZNAME:EST
DTSTART:20221106T060000
END:STANDARD
END:VTIMEZONE
BEGIN:VEVENT
DTSTART;VALUE=DATE:20211001
DTEND;VALUE=DATE:20211004
DTSTAMP:20260423T161853
CREATED:20210901T190414Z
LAST-MODIFIED:20210901T194614Z
UID:40810110932-1633046400-1633305599@www.monmouth.edu
SUMMARY:Homecoming Weekend 2021
DESCRIPTION:Come to Shadow Lawn for our Tailgate Party on October 2! We’ll also be featuring plenty of on-campus and remote activities all weekend long.
URL:https://www.monmouth.edu/events/event/homecoming-weekend-2021/
CATEGORIES:Alumni,Alumni Calendar Featured,Alumni Events,Community Member,Faculty,Featured,Homecoming
ATTACH;FMTTYPE=image/jpeg:https://www.monmouth.edu/events/wp-content/uploads/sites/19/2021/09/21-Alumni-HOMECOMING-Shadowlawn-1120.jpg
END:VEVENT
BEGIN:VEVENT
DTSTART;TZID=America/New_York:20210701T190000
DTEND;TZID=America/New_York:20210731T235900
DTSTAMP:20260423T161853
CREATED:20210517T153132Z
LAST-MODIFIED:20210712T144121Z
UID:40810110914-1625166000-1627775940@www.monmouth.edu
SUMMARY:Monmouth University Music & Arts Festival 2021
DESCRIPTION:Entering its 2nd year on the virtual stage\, this year’s Monmouth University Music & Arts Festival will feature members of the Garden State Philharmonic performing music from Civil War era Marches through Ragtime\, Dixieland\, and Jazz featuring music by composers George Gershwin\, Scott Joplin\, C.W. Handy\, Duke Ellington\, and Louis Armstrong. The festival will also highlight selections and solos from The Monmouth University Chamber Choir\, a performance by the Blue Hawk House Band and a special reading by former United States Poet Laureate and Pulitzer Prize winner Natasha Tretheway. The festival will premiere at 7:00 PM on July 1st and be available to view through July 31st. To receive the streaming link for the festival you will need to register. \nThe Monmouth University Music & Arts Festival is designed to provide Monmouth County communities and beyond\, along with the students\, faculty\, and staff at Monmouth University\, with the opportunity to enjoy a top-flight music and arts event each summer. \nIn 2022\, we are looking forward to presenting a robust program of offerings as the festival will host its inaugural in-person event. Our university is the year-round home for working musicians and artists\, not to mention scores of students honing their talents as instrumental and theatrical performers\, visual artists\, and arts administrators. With the Music and Arts Festival becoming a yearly tradition\, we hope to attract nationally and internationally acclaimed musicians and other fine artists to our campus. Not only will they supplement our students’ arts education\, they will be on site each summer to provide visitors with opportunities to experience premiere concerts and exhibitions right here on the Shore. \nPROGRAM: \nThe Garden State Philharmonic – Brass Quintet and Percussion\nSTRIKE UP THE BAND!\n \nStrike up the Band  – George Gershwin\, arr. Holcombe\n\nSignal March  – G.W.E. Friederich\n\nThe Entertainer – Scott Joplin arr. Arthur Frackenpohl\n\nHigh Society – Cole Porter\,  arr. Luther Henderson \nBeale Street Blues – C.W Handy\, arr. Luther Henderson \nSweet Georgia Brown – Ben Bernie & Maceo Pinkard\,  arr. Luther Henderson \nIt Don’t Mean a Thing if it Ain’t Got That Swing – Duke Ellington\, arr. David Kosmyna \nSousa Stars and Stripes –  John Philip Sousa – Holcombe \nThe Monmouth University Chamber Choir \nSteal Away – American Spiritual\, arr. Gwyneth Walker \nA Gershwin Jazz Trio – Words and music by Ira and George Gershwin\, arr. Jay Althouse \n\n“Nice Work if you Can Get it.”\n“Someone to Watch Over Me.”\n“I Got Rhythm.”\n\nSeasons of Love – Words and music Jonathan Larson\, arr. Steve Zegree\nSoloists:  Brynn Coy\, Jordan Dilone\, Tyler Oden\, Kailey Rouse\, David Wilderotter \nVocal Solos by Members of the Monmouth University Chamber and Concert Choirs \nShenandoah – American Folk Song\, arr. Jay Althouse\nBrynn Coy – soprano \nDesperado – Eagles –\nSamantha Jordan\, mezzo soprano \nShe Used to Be Mine – from the Broadway musical “Waitress\,” Sarah Barellies\nRachel Wilson\, soprano \nWayfaring Stranger – American Spiritual\, arr. Nick Garrett\nNick Garrett\, guitar and voice \nStrange Fruit – Billie Holiday\nJenae Louis-Jacques\, mezzo soprano \nRun Away with Me – Words and music Kait Kerrigan and Brian Lowdermilk\nDavid Wilderotter\, baritone \nCry Me a River – Arthur Hamilton\nGeorgette Abinader\, mezzo soprano \nWho I’d Be – from “Shrek the Musical\,” Words and music David Lindsay- Abaire and Jeanine Tesori \nMitchell Hendricks\, baritone\, Mia Heim\, mezzo soprano Jordan Dilone\, tenor \nSummertime – from the Opera “Porgy and Bess\,” George Gershwin\nJenae Louis-Jacques\, mezzo soprano \nSomewhere Over a Rainbow – Words and music by Edgar Harburg and Harold Arlen\, arr. Murray Cutter.\nKristen Wilczewski\, soprano \nBlue Hawk House Band\nCover version of “Freedom\,” composed by John Lomax\, Jonny Coffer\, Alan Lomax\, Frank Tirado\, Dean McIntosh\, Kendrick Lamar\, Carla Marie & Beyoncé \nPerformance Groups:\n \nGarden State Philharmonic – Brass Quintet and Percussion:\nDiane Wittry – Music Director and Conductor\nMichael Baker (Trumpet 1)\, Olivia Pidi (Trumpet 2)\, Karl Kramer-Johansen (Horn)\, Roger Verdi (Trombone)\, Wes Krygsman (Tuba)\, Gregory Landes (Percussion)\, Michael Avagliano (Score Reader)\nFor more information on the program and performers click here \nMonmouth University Chamber Choir:\nDr. David Tripold\, director\, Maggie Tripold\, accompanist\nGeorgette Abinader; Kendall Brighton; Brynn Coy; Jordan Dilone; Mia Heim; Mitchell Hendricks; Arina Martin; Erin McGinniss; Tyler Oden; Lindsay Ploskonka; Delaney Rivera; Kailey Rouse; Nicholas Sewell; David Wilderotter; Rachel Wilson \nBlue Hawk House Band\nGeorge Wurzbach\, Director\nMani Kissling (vocals)\, Mark Rodriguez (Guitars/Keyboards\,) Dee DiMeola (Drums)\, Max Adolf (Guitar)\, Michael Rabbits (Rap) Dillon Schindler (Keyboards) Sara Wojciehowski (Bass/producer)\, B. J. Biedebach (engineer) \n 
URL:https://www.monmouth.edu/events/event/monmouth-university-music-arts-festival-2021/
LOCATION:Virtual
CATEGORIES:Alumni,Alumni Affairs,Alumni Calendar Featured,Alumni Events,Arts at Monmouth,Concerts,Featured,Free,Virtual
ATTACH;FMTTYPE=image/jpeg:https://www.monmouth.edu/events/wp-content/uploads/sites/19/2021/05/musicheader-1.jpg
END:VEVENT
BEGIN:VEVENT
DTSTART;VALUE=DATE:20210611
DTEND;VALUE=DATE:20210615
DTSTAMP:20260423T161853
CREATED:20210505T183352Z
LAST-MODIFIED:20210505T185928Z
UID:40810110866-1623369600-1623715199@www.monmouth.edu
SUMMARY:Alumni Weekend 2021
DESCRIPTION:Join us for a smattering of virtual get-togethers and in-person events for Alumni Weekend 2021.
URL:https://www.monmouth.edu/events/event/alumni-weekend-2021/
CATEGORIES:Alumni,Alumni Affairs,Alumni Calendar Featured,Alumni Events,Community Member,Current Student,Faculty,Featured,Graduate Student,Social Events,Special Events,Virtual
ATTACH;FMTTYPE=image/jpeg:https://www.monmouth.edu/events/wp-content/uploads/sites/19/2021/05/21-Alumni-Weekend-social.jpg
END:VEVENT
BEGIN:VEVENT
DTSTART;TZID=America/New_York:20210329T183000
DTEND;TZID=America/New_York:20210329T183000
DTSTAMP:20260423T161853
CREATED:20210217T155840Z
LAST-MODIFIED:20211221T193024Z
UID:40810110683-1617042600-1617042600@www.monmouth.edu
SUMMARY:A Conversation with Olivia Nuzzi: The Future of American Politics and the Press
DESCRIPTION:Join Patrick Murray\, director of the Monmouth University Poll\, in a discussion with one of the nation’s highest profile political reporters about the state of the news media and how it covers political issues and players. \nOlivia Nuzzi is currently New York magazine’s Washington correspondent. She grew up in Monmouth County\, New Jersey\, cutting her journalistic teeth with local outlets while still in high school. Olivia is known as a tenacious reporter who pursues the odd and unusual angles in today’s top political stories\, writing with a unique\, unfiltered voice. She once scored an impromptu exclusive Oval Office interview with Donald Trump and has written about the challenges of texting with Rudy Giuliani. She is currently working with Ryan Lizza on a book about the 2020 election. \nPatrick Murray was named the Monmouth University Polling Institute’s founding director in 2005. He frequently appears as a commentator on polling and politics for regional and national outlets. During federal election years\, Murray also serves as an exit poll analyst for the NBC News Decision Desk. \n  \n  \nThis free event is open to the public\, but you must register.\nFor more information:  polling@monmouth.edu \nRegistration\nOops! We could not locate your form.
URL:https://www.monmouth.edu/events/event/a-conversation-with-olivia-nuzzi-the-future-of-american-politics-and-the-press/
LOCATION:Virtual
CATEGORIES:Alumni Calendar Featured,Virtual
END:VEVENT
BEGIN:VEVENT
DTSTART;TZID=America/New_York:20210306T180000
DTEND;TZID=America/New_York:20210306T180000
DTSTAMP:20260423T161853
CREATED:20210115T194919Z
LAST-MODIFIED:20210115T195422Z
UID:40810110620-1615053600-1615053600@www.monmouth.edu
SUMMARY:Virtual Wine vs. Stein
DESCRIPTION:
URL:https://www.monmouth.edu/events/event/wine-vs-stein-2021/
CATEGORIES:Alumni,Alumni Calendar Featured,Alumni Events,Community Member,Faculty,Graduate Student,Virtual
ATTACH;FMTTYPE=image/jpeg:https://www.monmouth.edu/events/wp-content/uploads/sites/19/2021/01/21-Alum-Wine-v-Stein-Social.jpg
END:VEVENT
BEGIN:VEVENT
DTSTART;VALUE=DATE:20210201
DTEND;VALUE=DATE:20210301
DTSTAMP:20260423T161853
CREATED:20210125T180119Z
LAST-MODIFIED:20210217T145139Z
UID:40810110641-1612137600-1614556799@www.monmouth.edu
SUMMARY:Black History Month 2021
DESCRIPTION:Each year\, Monmouth University observes National Black History Month throughout the month of February. Originating in 1926 under the vision of African American historian Carter G. Woodson\, Black History Month provides opportunities for all members of the university to explore the histories\, legacies\, and current contributions of individuals across the African Diaspora. Join the Black History Month Planning Committee for our month-long virtual event series including events organized by students\, faculty\, and staff.
URL:https://www.monmouth.edu/events/event/black-history-month-2021/
CATEGORIES:Alumni,Alumni Calendar Featured,Community Member,Current Student,Diversity and Inclusion,Faculty,Featured,Graduate Student,Intercultural Center,Undergraduate Student,Virtual
ATTACH;FMTTYPE=image/jpeg:https://www.monmouth.edu/events/wp-content/uploads/sites/19/2021/01/bhmcal-copy.jpg
END:VEVENT
BEGIN:VEVENT
DTSTART;VALUE=DATE:20201023
DTEND;VALUE=DATE:20201026
DTSTAMP:20260423T161853
CREATED:20200917T161209Z
LAST-MODIFIED:20201022T140252Z
UID:40810110428-1603411200-1603670399@www.monmouth.edu
SUMMARY:Homecoming 2020
DESCRIPTION:
URL:https://www.monmouth.edu/events/event/homecoming-2020/
CATEGORIES:Alumni,Alumni Calendar Featured,Alumni Events,Community Member,Faculty,Featured,Virtual
ATTACH;FMTTYPE=image/jpeg:https://www.monmouth.edu/events/wp-content/uploads/sites/19/2020/09/20-HomeComing_event-cal.jpg
END:VEVENT
BEGIN:VEVENT
DTSTART;TZID=America/New_York:20201014T180000
DTEND;TZID=America/New_York:20201014T180000
DTSTAMP:20260423T161853
CREATED:20200914T141727Z
LAST-MODIFIED:20201021T184835Z
UID:40810110425-1602698400-1602698400@www.monmouth.edu
SUMMARY:The 2020 Election: Polls and Persuasion
DESCRIPTION:
URL:https://www.monmouth.edu/events/event/2020-election/
CATEGORIES:Alumni,Alumni Calendar Featured,Alumni Events,Community Member,Current Student,Faculty,Free,Graduate Student,Lectures,Media,Undergraduate Student,Virtual
ATTACH;FMTTYPE=image/jpeg:https://www.monmouth.edu/events/wp-content/uploads/sites/19/2020/09/murray-patrick.jpg
END:VEVENT
BEGIN:VEVENT
DTSTART;TZID=America/New_York:20200930T180000
DTEND;TZID=America/New_York:20200930T180000
DTSTAMP:20260423T161853
CREATED:20200909T140412Z
LAST-MODIFIED:20200928T170849Z
UID:40810110419-1601488800-1601488800@www.monmouth.edu
SUMMARY:The Virtual Shift: What Can I Expect When Navigating the Job Search Today
DESCRIPTION:About the Event\nInternship and full-time job searching can be stressful in the most normal circumstances\, but the uncertainties of a global pandemic can make this process seem even more overwhelming. Every aspect of the job search\, including networking\, interviewing\, and negotiating\, now takes place virtually. \nIn this webinar\, Damon Albano ’02\, Global Head of University Recruitment\, Johnson & Johnson\, will share his advice on tips for the remote job hunt\, what to expect when you first start a new job\, what he looks for on a resume and virtual interview. \nThis event is co-sponsored by The Office of Alumni Engagement and Annual Giving and Career Services. \nRegister\nOops! We could not locate your form.
URL:https://www.monmouth.edu/events/event/the-virtual-shift/
CATEGORIES:Alumni,Alumni Calendar Featured,Current Student,Faculty,Virtual,Workshops and Professional Development
END:VEVENT
END:VCALENDAR