BEGIN:VCALENDAR
VERSION:2.0
PRODID:-//Events - ECPv6.15.20//NONSGML v1.0//EN
CALSCALE:GREGORIAN
METHOD:PUBLISH
X-ORIGINAL-URL:https://www.monmouth.edu/events
X-WR-CALDESC:Events for Events
REFRESH-INTERVAL;VALUE=DURATION:PT1H
X-Robots-Tag:noindex
X-PUBLISHED-TTL:PT1H
BEGIN:VTIMEZONE
TZID:America/New_York
BEGIN:DAYLIGHT
TZOFFSETFROM:-0500
TZOFFSETTO:-0400
TZNAME:EDT
DTSTART:20250309T070000
END:DAYLIGHT
BEGIN:STANDARD
TZOFFSETFROM:-0400
TZOFFSETTO:-0500
TZNAME:EST
DTSTART:20251102T060000
END:STANDARD
BEGIN:DAYLIGHT
TZOFFSETFROM:-0500
TZOFFSETTO:-0400
TZNAME:EDT
DTSTART:20260308T070000
END:DAYLIGHT
BEGIN:STANDARD
TZOFFSETFROM:-0400
TZOFFSETTO:-0500
TZNAME:EST
DTSTART:20261101T060000
END:STANDARD
BEGIN:DAYLIGHT
TZOFFSETFROM:-0500
TZOFFSETTO:-0400
TZNAME:EDT
DTSTART:20270314T070000
END:DAYLIGHT
BEGIN:STANDARD
TZOFFSETFROM:-0400
TZOFFSETTO:-0500
TZNAME:EST
DTSTART:20271107T060000
END:STANDARD
END:VTIMEZONE
BEGIN:VEVENT
DTSTART;TZID=America/New_York:20260502T133500
DTEND;TZID=America/New_York:20260502T133500
DTSTAMP:20260422T190030
CREATED:20260216T192838Z
LAST-MODIFIED:20260304T155847Z
UID:40810121592-1777728900-1777728900@www.monmouth.edu
SUMMARY:Yankees vs. Orioles (Alumni Yankee Games)
DESCRIPTION:Join Monmouth University and the New York Yankees for some fun-filled games at Yankee Stadium! Each ticket includes an exclusive New York Yankees jersey co-branded with the Monmouth University logo\, a $5 donation to the Access Fund\, and other bonuses depending on the event. \nTransportation is not included. View information about transportation and parking.
URL:https://www.monmouth.edu/events/event/yankees-vs-orioles-alumni-yankee-games/
LOCATION:Yankee Stadium
CATEGORIES:Alumni,Alumni Calendar Featured,Alumni Events,Social Events
ATTACH;FMTTYPE=image/jpeg:https://www.monmouth.edu/events/wp-content/uploads/sites/19/2025/02/Yankee-Game-graphic.jpg
END:VEVENT
BEGIN:VEVENT
DTSTART;TZID=America/New_York:20260613T170000
DTEND;TZID=America/New_York:20260613T193000
DTSTAMP:20260422T190030
CREATED:20260211T150709Z
LAST-MODIFIED:20260304T160301Z
UID:40810121550-1781370000-1781379000@www.monmouth.edu
SUMMARY:Wine and Stein 2026
DESCRIPTION:Saturday\, June 13\, 2026 | 5–7:30 p.m. Great Hall \n\n\n\nPrice: $55 (Early Bird Pricing until April 15) \n\n\n\nNote: Price includes a $5 gift to the Access Fund\, supporting scholarships for students with unmet financial need. \n\n\n\nOur annual wine and beer tasting event is back! Come raise a glass and reconnect with fellow Hawks at this beloved tradition. Don’t miss your chance to receive this year’s commemorative glass\, enjoy fine beverages\, savor delicious food\, and experience live music in great company. Cheers to another unforgettable evening!
URL:https://www.monmouth.edu/events/event/wine-and-stein-2026/
LOCATION:The Great Hall
CATEGORIES:Alumni,Alumni Calendar Featured,Alumni Events,Featured,Social Events
ATTACH;FMTTYPE=image/jpeg:https://www.monmouth.edu/events/wp-content/uploads/sites/19/2026/02/26_Wine_Stein_Lockup_Final-1.jpg
END:VEVENT
BEGIN:VEVENT
DTSTART;TZID=America/New_York:20260722T133500
DTEND;TZID=America/New_York:20260722T133500
DTSTAMP:20260422T190030
CREATED:20260216T193011Z
LAST-MODIFIED:20260304T155823Z
UID:40810121595-1784727300-1784727300@www.monmouth.edu
SUMMARY:Yankees vs. Pirates (Alumni Yankee Games)
DESCRIPTION:Join Monmouth University and the New York Yankees for some fun-filled games at Yankee Stadium! Each ticket includes an exclusive New York Yankees jersey co-branded with the Monmouth University logo\, a $5 donation to the Access Fund\, and other bonuses depending on the event. \nTransportation is not included. View information about transportation and parking.
URL:https://www.monmouth.edu/events/event/yankees-vs-pirates/
LOCATION:Yankee Stadium
CATEGORIES:Alumni,Alumni Calendar Featured,Alumni Events,Social Events
ATTACH;FMTTYPE=image/jpeg:https://www.monmouth.edu/events/wp-content/uploads/sites/19/2025/02/Yankee-Game-graphic.jpg
END:VEVENT
BEGIN:VEVENT
DTSTART;TZID=America/New_York:20260813T133500
DTEND;TZID=America/New_York:20260813T133500
DTSTAMP:20260422T190030
CREATED:20260216T193230Z
LAST-MODIFIED:20260304T155856Z
UID:40810121596-1786628100-1786628100@www.monmouth.edu
SUMMARY:Yankees vs. Mariners (Alumni Yankee Games)
DESCRIPTION:Join Monmouth University and the New York Yankees for some fun-filled games at Yankee Stadium! Each ticket includes an exclusive New York Yankees jersey co-branded with the Monmouth University logo\, a $5 donation to the Access Fund\, and other bonuses depending on the event. \nTransportation is not included. View information about transportation and parking.
URL:https://www.monmouth.edu/events/event/yankees-vs-mariners-alumni-yankee-games/
LOCATION:Yankee Stadium
CATEGORIES:Alumni,Alumni Calendar Featured,Alumni Events,Social Events
ATTACH;FMTTYPE=image/jpeg:https://www.monmouth.edu/events/wp-content/uploads/sites/19/2025/02/Yankee-Game-graphic.jpg
END:VEVENT
END:VCALENDAR