BEGIN:VCALENDAR
VERSION:2.0
PRODID:-//Events - ECPv6.15.20//NONSGML v1.0//EN
CALSCALE:GREGORIAN
METHOD:PUBLISH
X-ORIGINAL-URL:https://www.monmouth.edu/events
X-WR-CALDESC:Events for Events
REFRESH-INTERVAL;VALUE=DURATION:PT1H
X-Robots-Tag:noindex
X-PUBLISHED-TTL:PT1H
BEGIN:VTIMEZONE
TZID:America/New_York
BEGIN:DAYLIGHT
TZOFFSETFROM:-0500
TZOFFSETTO:-0400
TZNAME:EDT
DTSTART:20250309T070000
END:DAYLIGHT
BEGIN:STANDARD
TZOFFSETFROM:-0400
TZOFFSETTO:-0500
TZNAME:EST
DTSTART:20251102T060000
END:STANDARD
BEGIN:DAYLIGHT
TZOFFSETFROM:-0500
TZOFFSETTO:-0400
TZNAME:EDT
DTSTART:20260308T070000
END:DAYLIGHT
BEGIN:STANDARD
TZOFFSETFROM:-0400
TZOFFSETTO:-0500
TZNAME:EST
DTSTART:20261101T060000
END:STANDARD
BEGIN:DAYLIGHT
TZOFFSETFROM:-0500
TZOFFSETTO:-0400
TZNAME:EDT
DTSTART:20270314T070000
END:DAYLIGHT
BEGIN:STANDARD
TZOFFSETFROM:-0400
TZOFFSETTO:-0500
TZNAME:EST
DTSTART:20271107T060000
END:STANDARD
END:VTIMEZONE
BEGIN:VEVENT
DTSTART;TZID=America/New_York:20260407T183000
DTEND;TZID=America/New_York:20260407T210000
DTSTAMP:20260422T021817
CREATED:20260403T142451Z
LAST-MODIFIED:20260403T184206Z
UID:40810122076-1775586600-1775595600@www.monmouth.edu
SUMMARY:Music and Theatre Department's Industry Alumni Networking Event
DESCRIPTION:Monmouth University’s Department of Music and Theatre Arts hosts its annual Industry Alumni Networking Event\, connecting current students and recent graduates with alumni from companies across music/entertainment\, sports and media. The event\, featuring music department alumni\, provides insights on launching careers in music and entertainment\, including panels on adaptability\, skills\, and networking. \nFeatured Alumni\nOlivia Melfi\, ’25Studio Manager\, Lakehouse Recording Studios; Label Manager\, Shore Points Records \nKelli Torres\, ’19Office Manager\, Vydia \nNatalie Zeller\, ’17Producer\, Publicis/Grey \nRichard Govel\, ’22NIL Marketing\, Klutch Sports Group \nCassidy Crosby\, ’19Media Sponsorships Lead\, VEVO
URL:https://www.monmouth.edu/events/event/music-and-theatre-departments-industry-alumni-networking-event/
LOCATION:Lauren K. Woods Theatre
CATEGORIES:Alumni,Alumni Events,Current Student,Media,Music,Music + Theatre Arts,Student Activities
END:VEVENT
BEGIN:VEVENT
DTSTART;TZID=America/New_York:20260411T181000
DTEND;TZID=America/New_York:20260411T181000
DTSTAMP:20260422T021817
CREATED:20260317T142919Z
LAST-MODIFIED:20260317T151454Z
UID:40810121884-1775931000-1775931000@www.monmouth.edu
SUMMARY:Hawks in Florida: Tampa Bay Rays vs. New York Yankees
DESCRIPTION:Tampa Bay Rays vs. New York Yankees\nSaturday\, April 11 First pitch at 6:10 p.m. Tropicana Field (1 Tropicana Drive\, St. Petersburg FL 33705) \nJoin fellow Hawks for a fun game day experience as the Tampa Bay Rays take on the New York Yankees at Tropicana Field! Choose from seating in a variety of sections and before first pitch\, connect with fellow alumni at a pre-game tailgate in the parking lot to kick off the day with Hawks spirit before heading into the stadium together. A $5 donation included with your ticket goes to the Monmouth University Access Fund\, which supports scholarships for students with unmet financial need. \n\nBuy Your Tickets
URL:https://www.monmouth.edu/events/event/hawks-in-florida-tampa-bay-rays-vs-new-york-yankees/
LOCATION:Tropicana Field\, 1 Tropicana Drive\,\, St. Petersburg\, Florida\, 33705\, United States
CATEGORIES:Alumni,Alumni Events,Athletics,Social Events
END:VEVENT
END:VCALENDAR