BEGIN:VCALENDAR
VERSION:2.0
PRODID:-//Events - ECPv6.15.20//NONSGML v1.0//EN
CALSCALE:GREGORIAN
METHOD:PUBLISH
X-WR-CALNAME:Events
X-ORIGINAL-URL:https://www.monmouth.edu/events
X-WR-CALDESC:Events for Events
REFRESH-INTERVAL;VALUE=DURATION:PT1H
X-Robots-Tag:noindex
X-PUBLISHED-TTL:PT1H
BEGIN:VTIMEZONE
TZID:America/New_York
BEGIN:DAYLIGHT
TZOFFSETFROM:-0500
TZOFFSETTO:-0400
TZNAME:EDT
DTSTART:20240310T070000
END:DAYLIGHT
BEGIN:STANDARD
TZOFFSETFROM:-0400
TZOFFSETTO:-0500
TZNAME:EST
DTSTART:20241103T060000
END:STANDARD
BEGIN:DAYLIGHT
TZOFFSETFROM:-0500
TZOFFSETTO:-0400
TZNAME:EDT
DTSTART:20250309T070000
END:DAYLIGHT
BEGIN:STANDARD
TZOFFSETFROM:-0400
TZOFFSETTO:-0500
TZNAME:EST
DTSTART:20251102T060000
END:STANDARD
BEGIN:DAYLIGHT
TZOFFSETFROM:-0500
TZOFFSETTO:-0400
TZNAME:EDT
DTSTART:20260308T070000
END:DAYLIGHT
BEGIN:STANDARD
TZOFFSETFROM:-0400
TZOFFSETTO:-0500
TZNAME:EST
DTSTART:20261101T060000
END:STANDARD
END:VTIMEZONE
BEGIN:VEVENT
DTSTART;TZID=America/New_York:20251112T173000
DTEND;TZID=America/New_York:20251112T173000
DTSTAMP:20260423T174500
CREATED:20251003T202917Z
LAST-MODIFIED:20251003T202917Z
UID:40810119813-1762968600-1762968600@www.monmouth.edu
SUMMARY:Trivia Night @ Icarus Brewing
DESCRIPTION:Wednesday\, Nov. 12Free EventIcarus Brewing—2045 Route 88\, Brick\, NJ 08724 \n\n\n\nHappy Hour: 5:30–6:30 p.m.Trivia: 6:30 p.m. \n\n\n\n\n\n\n\nGather your crew and head to Icarus Brewing for a lively night of trivia\, craft brews and good vibes! Reconnect\, compete\, and reminisce as you test your knowledge and enjoy an evening of laughs\, prizes\, and Hawk Pride!
URL:https://www.monmouth.edu/events/event/trivia-night-icarus-brewing/
CATEGORIES:Alumni,Alumni Events,Community Member,Free,Social Events
END:VEVENT
END:VCALENDAR