BEGIN:VCALENDAR
VERSION:2.0
PRODID:-//Events - ECPv6.15.20//NONSGML v1.0//EN
CALSCALE:GREGORIAN
METHOD:PUBLISH
X-ORIGINAL-URL:https://www.monmouth.edu/events
X-WR-CALDESC:Events for Events
REFRESH-INTERVAL;VALUE=DURATION:PT1H
X-Robots-Tag:noindex
X-PUBLISHED-TTL:PT1H
BEGIN:VTIMEZONE
TZID:America/New_York
BEGIN:DAYLIGHT
TZOFFSETFROM:-0500
TZOFFSETTO:-0400
TZNAME:EDT
DTSTART:20240310T070000
END:DAYLIGHT
BEGIN:STANDARD
TZOFFSETFROM:-0400
TZOFFSETTO:-0500
TZNAME:EST
DTSTART:20241103T060000
END:STANDARD
BEGIN:DAYLIGHT
TZOFFSETFROM:-0500
TZOFFSETTO:-0400
TZNAME:EDT
DTSTART:20250309T070000
END:DAYLIGHT
BEGIN:STANDARD
TZOFFSETFROM:-0400
TZOFFSETTO:-0500
TZNAME:EST
DTSTART:20251102T060000
END:STANDARD
BEGIN:DAYLIGHT
TZOFFSETFROM:-0500
TZOFFSETTO:-0400
TZNAME:EDT
DTSTART:20260308T070000
END:DAYLIGHT
BEGIN:STANDARD
TZOFFSETFROM:-0400
TZOFFSETTO:-0500
TZNAME:EST
DTSTART:20261101T060000
END:STANDARD
END:VTIMEZONE
BEGIN:VEVENT
DTSTART;TZID=America/New_York:20250327T180500
DTEND;TZID=America/New_York:20250327T210000
DTSTAMP:20260425T113840
CREATED:20240709T161855Z
LAST-MODIFIED:20250305T175815Z
UID:40810112564-1743098700-1743109200@www.monmouth.edu
SUMMARY:Saint Omer
DESCRIPTION:Rama\, a literature professor and novelist\, travels from Paris to Saint-Omer to observe the trial of Laurence Coly and write about the case. Coly is a student and Senegalese immigrant accused of leaving her 15-month-old daughter on a beach to be swept away by the tide in Berck. Rama\, who is four-months pregnant and\, like Coly\, is in a mixed-race relationship and has a complex relationship with her own Senegalese immigrant mother\, feels a personal connection to Coly. She plans to write a modern day retelling of the Greek Medea myth about the case. As she learns more about Coly’s life and the isolation Coly experienced from her family and society while living in France\, Rama becomes increasingly anxious about her own life and pregnancy. \nThere will be a post screening Q&A hosted by Marina Vujnovic with special guest speaker Prof. Julius Adekunle.
URL:https://www.monmouth.edu/events/event/saint-omer/
LOCATION:Pollak Theatre
CATEGORIES:Alumni,Alumni Affairs,Alumni Events,Arts at Monmouth,Featured,Film,Free,Institute for Global Understanding
ATTACH;FMTTYPE=image/jpeg:https://www.monmouth.edu/events/wp-content/uploads/sites/19/2024/07/saintomer_header.jpg
END:VEVENT
END:VCALENDAR