BEGIN:VCALENDAR
VERSION:2.0
PRODID:-//Events - ECPv6.15.20//NONSGML v1.0//EN
CALSCALE:GREGORIAN
METHOD:PUBLISH
X-WR-CALNAME:Events
X-ORIGINAL-URL:https://www.monmouth.edu/events
X-WR-CALDESC:Events for Events
REFRESH-INTERVAL;VALUE=DURATION:PT1H
X-Robots-Tag:noindex
X-PUBLISHED-TTL:PT1H
BEGIN:VTIMEZONE
TZID:America/New_York
BEGIN:DAYLIGHT
TZOFFSETFROM:-0500
TZOFFSETTO:-0400
TZNAME:EDT
DTSTART:20230312T070000
END:DAYLIGHT
BEGIN:STANDARD
TZOFFSETFROM:-0400
TZOFFSETTO:-0500
TZNAME:EST
DTSTART:20231105T060000
END:STANDARD
BEGIN:DAYLIGHT
TZOFFSETFROM:-0500
TZOFFSETTO:-0400
TZNAME:EDT
DTSTART:20240310T070000
END:DAYLIGHT
BEGIN:STANDARD
TZOFFSETFROM:-0400
TZOFFSETTO:-0500
TZNAME:EST
DTSTART:20241103T060000
END:STANDARD
BEGIN:DAYLIGHT
TZOFFSETFROM:-0500
TZOFFSETTO:-0400
TZNAME:EDT
DTSTART:20250309T070000
END:DAYLIGHT
BEGIN:STANDARD
TZOFFSETFROM:-0400
TZOFFSETTO:-0500
TZNAME:EST
DTSTART:20251102T060000
END:STANDARD
END:VTIMEZONE
BEGIN:VEVENT
DTSTART;TZID=America/New_York:20241210T193000
DTEND;TZID=America/New_York:20241210T213000
DTSTAMP:20260425T113601
CREATED:20240610T205042Z
LAST-MODIFIED:20240926T172213Z
UID:40810112507-1733859000-1733866200@www.monmouth.edu
SUMMARY:Percival Everett\, James
DESCRIPTION:Join us for Tuesday Night Book Club! Hosted by Monmouth University’s Ken Womack. This month’s novel is Percival Everett’s James. \nAN INSTANT NEW YORK TIMES BESTSELLER • NAMED A BEST BOOK OF THE YEAR SO FAR FOR 2024 BY THE NEW YORK TIMES BOOK REVIEW • A brilliant\, action-packed reimagining of Adventures of Huckleberry Finn\, both harrowing and darkly humorous\, told from the enslaved Jim’s point of view. When the enslaved Jim overhears that he is about to be sold to a man in New Orleans\, separated from his wife and daughter forever\, he decides to hide on nearby Jackson Island until he can formulate a plan. Meanwhile\, Huck Finn has faked his own death to escape his violent father\, recently returned to town. As all readers of American literature know\, thus begins the dangerous and transcendent journey by raft down the Mississippi River toward the elusive and too-often-unreliable promise of the Free States and beyond. \nWhen you register you will be provided the meeting link to join the conversation.
URL:https://www.monmouth.edu/events/event/percival-everett-james/
LOCATION:Virtual
CATEGORIES:Alumni,Alumni Affairs,Alumni Events,Arts at Monmouth,English,Free,Lectures,Lectures/Workshops/Symposiums
ATTACH;FMTTYPE=image/jpeg:https://www.monmouth.edu/events/wp-content/uploads/sites/19/2024/06/james_header.jpg
END:VEVENT
BEGIN:VEVENT
DTSTART;TZID=America/New_York:20241212T193000
DTEND;TZID=America/New_York:20241212T210000
DTSTAMP:20260425T113601
CREATED:20240801T164310Z
LAST-MODIFIED:20240926T172130Z
UID:40810112609-1734031800-1734037200@www.monmouth.edu
SUMMARY:Bring in Da Funk\, Part II
DESCRIPTION:Class Schedule: Thursdays – December 5 & 12 | 7:30 – 9:00 PM \nParliament/Funkadelic’s George Clinton declared “we want the funk\,” and by the mid-70s the genre was in full swing. On the R&B and pop charts as well as on the dance floor\, funk had officially taken over. This two-session virtual course taught by Kit O’Toole covers the peak of the genre\, its eventual decline in popularity\, and its continuing influence. Artists examined include the Ohio Players\, Stevie Wonder\, Average White Band\, Kool and the Gang\, Earth\, Wind\, and Fire\, the Commodores\, Cameo\, Slave\, Zapp and Roger\, and many more. In addition\, subgenres including go go\, punk funk (coined by Rick James)\, funk rock\, and Bay Area funk will be covered. The course includes multimedia presentations and class discussions. \nZoom Link will be provided upon registration.
URL:https://www.monmouth.edu/events/event/bring-in-da-funk-part-ii/2024-12-12/
LOCATION:Virtual
CATEGORIES:Alumni,Alumni Affairs,Alumni Events,Arts at Monmouth,Lectures,Lectures/Workshops/Symposiums
ATTACH;FMTTYPE=image/jpeg:https://www.monmouth.edu/events/wp-content/uploads/sites/19/2024/08/kitpart2webheader.jpg
END:VEVENT
END:VCALENDAR