BEGIN:VCALENDAR
VERSION:2.0
PRODID:-//Events - ECPv6.15.20//NONSGML v1.0//EN
CALSCALE:GREGORIAN
METHOD:PUBLISH
X-WR-CALNAME:Events
X-ORIGINAL-URL:https://www.monmouth.edu/events
X-WR-CALDESC:Events for Events
REFRESH-INTERVAL;VALUE=DURATION:PT1H
X-Robots-Tag:noindex
X-PUBLISHED-TTL:PT1H
BEGIN:VTIMEZONE
TZID:America/New_York
BEGIN:DAYLIGHT
TZOFFSETFROM:-0500
TZOFFSETTO:-0400
TZNAME:EDT
DTSTART:20230312T070000
END:DAYLIGHT
BEGIN:STANDARD
TZOFFSETFROM:-0400
TZOFFSETTO:-0500
TZNAME:EST
DTSTART:20231105T060000
END:STANDARD
BEGIN:DAYLIGHT
TZOFFSETFROM:-0500
TZOFFSETTO:-0400
TZNAME:EDT
DTSTART:20240310T070000
END:DAYLIGHT
BEGIN:STANDARD
TZOFFSETFROM:-0400
TZOFFSETTO:-0500
TZNAME:EST
DTSTART:20241103T060000
END:STANDARD
BEGIN:DAYLIGHT
TZOFFSETFROM:-0500
TZOFFSETTO:-0400
TZNAME:EDT
DTSTART:20250309T070000
END:DAYLIGHT
BEGIN:STANDARD
TZOFFSETFROM:-0400
TZOFFSETTO:-0500
TZNAME:EST
DTSTART:20251102T060000
END:STANDARD
END:VTIMEZONE
BEGIN:VEVENT
DTSTART;TZID=America/New_York:20241202T163000
DTEND;TZID=America/New_York:20241202T183000
DTSTAMP:20260425T113609
CREATED:20240909T193155Z
LAST-MODIFIED:20241122T201556Z
UID:40810113860-1733157000-1733164200@www.monmouth.edu
SUMMARY:Brute Force
DESCRIPTION:Born in 1940\, Monmouth University alumnus Stephen Friedland performs under the name Brute Force. A lifelong singer-songwriter\, Friedland began his musical journey a songwriter for Bright Tunes Productions at the behest of doo-wop group The Tokens\, who had scored a hit with “The Lion Sleeps Tonight.” Friedland joined the band as their keyboard player. For Bright Tunes\, Friedland composed the Chiffons’ 1965 hit “Nobody Knows What’s Goin’ On (in My Mind But Me).” He also composed hit songs for Del Shannon\, Peggy March\,  and The Cyrkle. \n\n\n \n\n\nIn 1968\, The Beatles famously invited musicians around the world to submit their work for consideration for release by Apple Records. Friedland answered the call with his original composition “The King of Fuh\,” which has emerged as one of the most notorious songs in annals of Apple Records history. Against all odds\, John Lennon and George Harrison opted to release the song\, which tells the tongue-in-cheek story about a monarch toiling in the land of Fuh. Under Harrison’s supervision\, the song was overdubbed with a string arrangement composed by John Barham. Given the song’s irreverent nature\, EMI (Apple’s parent company) refused to distribute the single\, of which only 1\,000 copies were pressed. In 2010\, more than four decades after its original rejection by EMI\, “The King of Fuh” was released by Apple Records on the Come and Get It compilation. Friedland is currently developing a play titled Color Talk for production.\n\n\n 
URL:https://www.monmouth.edu/events/event/brute-force/
LOCATION:Lauren K Woods Theatre\, 398 Cedar Ave\, Long Branch\, NJ\, United States
CATEGORIES:Alumni,Alumni Affairs,Alumni Events,Arts at Monmouth,Concerts,Music
ATTACH;FMTTYPE=image/jpeg:https://www.monmouth.edu/events/wp-content/uploads/sites/19/2024/09/header_brute.jpg
ORGANIZER;CN="Center for the Arts":MAILTO:kbarratt@monmouth.edu
GEO:40.281658;-74.001637
X-APPLE-STRUCTURED-LOCATION;VALUE=URI;X-ADDRESS=Lauren K Woods Theatre 398 Cedar Ave Long Branch NJ United States;X-APPLE-RADIUS=500;X-TITLE=398 Cedar Ave:geo:-74.001637,40.281658
END:VEVENT
BEGIN:VEVENT
DTSTART;TZID=America/New_York:20241202T193000
DTEND;TZID=America/New_York:20241202T210000
DTSTAMP:20260425T113609
CREATED:20240618T183900Z
LAST-MODIFIED:20240926T172455Z
UID:40810112534-1733167800-1733173200@www.monmouth.edu
SUMMARY:Perugino: Eternal Renaissance
DESCRIPTION:Perugino: Eternal Renaissance is a journey to discover Perugino\, one of the most revered artists of the 15th Century and to celebrate the 500th Anniversary of his death. \nJourney through Italy to discover his great masterpieces\, from the frescoes of the Sistine Chapel to the two rooms entirely dedicated to him in the National Gallery of Umbria. Spectators will be led on a guided discovery of the artist’s harmonious work: a perfect balance between man and nature\, realism and idealism\, as seen in paintings such as “The Delivery of the Keys” in the Vatican’s Sistine Chapel\, “Lamentation over the Dead Christ” in the Galleria Palatina in Florence\, the “Pietà” and “Agony in the Garden” in the Uffizi Gallery.
URL:https://www.monmouth.edu/events/event/perugio-eternal-renaissance/
LOCATION:Pollak Theatre
CATEGORIES:Alumni,Alumni Affairs,Alumni Events,Arts at Monmouth,Film
ATTACH;FMTTYPE=image/jpeg:https://www.monmouth.edu/events/wp-content/uploads/sites/19/2024/06/PERUGINO_header.jpg
END:VEVENT
BEGIN:VEVENT
DTSTART;TZID=America/New_York:20241203T193000
DTEND;TZID=America/New_York:20241203T210000
DTSTAMP:20260425T113609
CREATED:20240605T141954Z
LAST-MODIFIED:20240926T172423Z
UID:40810112480-1733254200-1733259600@www.monmouth.edu
SUMMARY:Queen\, A Night at the Opera
DESCRIPTION:It’s just like book club but with albums! With new advances in technology\, the way we consume music through our devices\, apps and on demand streaming services like Pandora\, Spotify and iTunes is making the idea of the “album” as an art form extinct. Get together with other music enthusiasts on Tuesday nights to discuss some of the greatest records of all-time! Listen to the album beforehand and then come prepared to discuss. This event will feature Queen\, A Night at the Opera. \nThis event is offered BOTH in person and via Zoom. Join us in person at the WOODS THEATRE on the Campus of Monmouth University or join us via zoom. When you register you will be provided the ZOOM meeting link to join the conversation. \nFree and open to the public\, but registration is required.
URL:https://www.monmouth.edu/events/event/queen-a-night-at-the-opera/
LOCATION:Woods Theatre/Virtual\, 400 Cedar Ave\, West Long Branch\, NJ\, 07764\, United States
CATEGORIES:Alumni,Alumni Affairs,Alumni Events,Arts at Monmouth,Free,Lectures,Lectures/Workshops/Symposiums
ATTACH;FMTTYPE=image/jpeg:https://www.monmouth.edu/events/wp-content/uploads/sites/19/2024/06/queen_header.jpg
END:VEVENT
BEGIN:VEVENT
DTSTART;TZID=America/New_York:20241205T193000
DTEND;TZID=America/New_York:20241205T210000
DTSTAMP:20260425T113609
CREATED:20240801T164310Z
LAST-MODIFIED:20240926T172130Z
UID:40810112606-1733427000-1733432400@www.monmouth.edu
SUMMARY:Bring in Da Funk\, Part II
DESCRIPTION:Class Schedule: Thursdays – December 5 & 12 | 7:30 – 9:00 PM \nParliament/Funkadelic’s George Clinton declared “we want the funk\,” and by the mid-70s the genre was in full swing. On the R&B and pop charts as well as on the dance floor\, funk had officially taken over. This two-session virtual course taught by Kit O’Toole covers the peak of the genre\, its eventual decline in popularity\, and its continuing influence. Artists examined include the Ohio Players\, Stevie Wonder\, Average White Band\, Kool and the Gang\, Earth\, Wind\, and Fire\, the Commodores\, Cameo\, Slave\, Zapp and Roger\, and many more. In addition\, subgenres including go go\, punk funk (coined by Rick James)\, funk rock\, and Bay Area funk will be covered. The course includes multimedia presentations and class discussions. \nZoom Link will be provided upon registration.
URL:https://www.monmouth.edu/events/event/bring-in-da-funk-part-ii/2024-12-05/
LOCATION:Virtual
CATEGORIES:Alumni,Alumni Affairs,Alumni Events,Arts at Monmouth,Lectures,Lectures/Workshops/Symposiums
ATTACH;FMTTYPE=image/jpeg:https://www.monmouth.edu/events/wp-content/uploads/sites/19/2024/08/kitpart2webheader.jpg
END:VEVENT
BEGIN:VEVENT
DTSTART;TZID=America/New_York:20241206T190000
DTEND;TZID=America/New_York:20241206T210000
DTSTAMP:20260425T113609
CREATED:20240702T150813Z
LAST-MODIFIED:20241202T144945Z
UID:40810112543-1733511600-1733518800@www.monmouth.edu
SUMMARY:Orchestra of St. Peter by the Sea
DESCRIPTION:Embrace the joy and warmth of the season at the annual holiday concert with Father Alphonse Stevenson and the Orchestra of St. Peter by the Sea! This cherished tradition brings a 42-piece orchestra and exceptional soloists to Pollak Theatre with beloved carols and festive melodies. Be part of this heartwarming celebration and let the spirit of the season come alive through the power of music. \nNew this year — Please note the 7 PM start time! \nLimited tickets remain! Once the event is SOLD OUT please call the box office to be added to the waitlist\, in case last minute tickets become available.
URL:https://www.monmouth.edu/events/event/orchestra-of-st-peter-by-the-sea-6/
LOCATION:Pollak Theatre
CATEGORIES:Alumni,Alumni Affairs,Alumni Events,Arts at Monmouth,Concerts
ATTACH;FMTTYPE=image/jpeg:https://www.monmouth.edu/events/wp-content/uploads/sites/19/2023/07/OSP_header.jpg
END:VEVENT
END:VCALENDAR