BEGIN:VCALENDAR
VERSION:2.0
PRODID:-//Events - ECPv6.15.20//NONSGML v1.0//EN
CALSCALE:GREGORIAN
METHOD:PUBLISH
X-WR-CALNAME:Events
X-ORIGINAL-URL:https://www.monmouth.edu/events
X-WR-CALDESC:Events for Events
REFRESH-INTERVAL;VALUE=DURATION:PT1H
X-Robots-Tag:noindex
X-PUBLISHED-TTL:PT1H
BEGIN:VTIMEZONE
TZID:America/New_York
BEGIN:DAYLIGHT
TZOFFSETFROM:-0500
TZOFFSETTO:-0400
TZNAME:EDT
DTSTART:20230312T070000
END:DAYLIGHT
BEGIN:STANDARD
TZOFFSETFROM:-0400
TZOFFSETTO:-0500
TZNAME:EST
DTSTART:20231105T060000
END:STANDARD
BEGIN:DAYLIGHT
TZOFFSETFROM:-0500
TZOFFSETTO:-0400
TZNAME:EDT
DTSTART:20240310T070000
END:DAYLIGHT
BEGIN:STANDARD
TZOFFSETFROM:-0400
TZOFFSETTO:-0500
TZNAME:EST
DTSTART:20241103T060000
END:STANDARD
BEGIN:DAYLIGHT
TZOFFSETFROM:-0500
TZOFFSETTO:-0400
TZNAME:EDT
DTSTART:20250309T070000
END:DAYLIGHT
BEGIN:STANDARD
TZOFFSETFROM:-0400
TZOFFSETTO:-0500
TZNAME:EST
DTSTART:20251102T060000
END:STANDARD
END:VTIMEZONE
BEGIN:VEVENT
DTSTART;TZID=America/New_York:20241008T193000
DTEND;TZID=America/New_York:20241008T213000
DTSTAMP:20260425T233803
CREATED:20240610T204126Z
LAST-MODIFIED:20240926T173934Z
UID:40810112501-1728415800-1728423000@www.monmouth.edu
SUMMARY:Gabriel Garcia Marquez's 100 Years of Solitude
DESCRIPTION:Join us for Tuesday Night Book Club! Hosted by Monmouth University’s Ken Womack. This month’s novel is Gabriel Garcia Marquez’s 100 Years of Solitude. \nOne of the most influential literary works of our time\, One Hundred Years of Solitude remains a dazzling and original achievement by the masterful Gabriel Garcia Marquez\, winner of the Nobel Prize in Literature. One Hundred Years of Solitude tells the story of the rise and fall\, birth and death of the mythical town of Macondo through the history of the Buendiá family. Inventive\, amusing\, magnetic\, sad and alive with unforgettable men and women—brimming with truth\, compassion\, and a lyrical magic that strikes the soul—this novel is a masterpiece in the art of fiction. \nWhen you register you will be provided the meeting link to join the conversation.
URL:https://www.monmouth.edu/events/event/gabriel-garcia-marquezs-100-years-of-solitude/
LOCATION:Virtual
CATEGORIES:Alumni,Alumni Affairs,Alumni Events,Arts at Monmouth,English,Free,Lectures,Lectures/Workshops/Symposiums
ATTACH;FMTTYPE=image/jpeg:https://www.monmouth.edu/events/wp-content/uploads/sites/19/2024/06/100years_header.jpg
END:VEVENT
BEGIN:VEVENT
DTSTART;TZID=America/New_York:20241009T180000
DTEND;TZID=America/New_York:20241009T180000
DTSTAMP:20260425T233803
CREATED:20240909T184836Z
LAST-MODIFIED:20240911T165508Z
UID:40810113857-1728496800-1728496800@www.monmouth.edu
SUMMARY:The Election We Didn’t Expect\, with Patrick Murray
DESCRIPTION:Join Monmouth University Polling Institute Director Patrick Murray for a presentation highlighting how the presidential candidate switch has impacted the election outlook\, the motivations of voters\, and the issues that are important. \nQ&A to follow. \nPatrick Murray has three decades of experience in public opinion research and has been director of Monmouth University’s Polling Institute since 2005. The Monmouth University Poll is one of the nation’s leading independent survey research centers\, recently rated one of the five best polling organizations in the country by FiveThirtyEight.com. Murray frequently appears as a commentator on national and regional TV and radio. During election years\, he serves as an exit poll analyst for the National Election Pool. In his home state\, Murray regularly appears on various “Power Lists” of influential people in New Jersey politics.
URL:https://www.monmouth.edu/events/event/the-election-we-didnt-expect-with-patrick-murray/
LOCATION:Virtual (Zoom)
CATEGORIES:Alumni,Alumni Events,Current Student,Faculty,Free,Graduate Student,Lectures,Media,Prospective Undergraduate Student,Virtual
ATTACH;FMTTYPE=image/jpeg:https://www.monmouth.edu/events/wp-content/uploads/sites/19/2024/09/Patrick-Murray-Headshot_20220727_AD_08-1.jpg
END:VEVENT
BEGIN:VEVENT
DTSTART;TZID=America/New_York:20241010T193000
DTEND;TZID=America/New_York:20241010T210000
DTSTAMP:20260425T233803
CREATED:20240801T162011Z
LAST-MODIFIED:20240930T130639Z
UID:40810112594-1728588600-1728594000@www.monmouth.edu
SUMMARY:Producing the Beatles
DESCRIPTION:Based on his acclaimed podcast\, Producing the Beatles\, Jason Kruppa explores the music of the Fab Four from the perspective of the one person whose point of view has never been properly and thoroughly examined: their producer\, George Martin. Using innovative techniques to break down their recordings\, we’ll discover how the Beatles went from learning their way around the studio to becoming masters of the art of recording\, with their producer working side by side with them each step of the way. And finally\, with re-recordings and detailed recreations of Martin’s orchestral scores that allow us to hear individual instrument parts\,\, we’ll learn how his arrangements enhanced and shaped the Beatles’ music. \nZoom Link will be provided upon registration.
URL:https://www.monmouth.edu/events/event/producing-the-beatles/2024-10-10/
LOCATION:Virtual
CATEGORIES:Alumni,Alumni Affairs,Alumni Events,Arts at Monmouth,Lectures,Lectures/Workshops/Symposiums
ATTACH;FMTTYPE=image/jpeg:https://www.monmouth.edu/events/wp-content/uploads/sites/19/2024/08/jasonwebheader.jpg
END:VEVENT
BEGIN:VEVENT
DTSTART;TZID=America/New_York:20241011T200000
DTEND;TZID=America/New_York:20241011T230000
DTSTAMP:20260425T233803
CREATED:20240514T125234Z
LAST-MODIFIED:20241012T195936Z
UID:40810112432-1728676800-1728687600@www.monmouth.edu
SUMMARY:Billy Bob Thornton & The Boxmasters
DESCRIPTION:The Boxmasters make a triumphant return to Pollak Theatre\, bringing their latest album\, “Love & Hate In Desperate Places\,” and their electrifying North American tour to the stage. With J.D. Andrew and Bud Thornton leading the charge\, the album introduces Kirk McKim and Raymond Hardy to the lineup\, adding new dimensions to their sound. Kirk\, a seasoned guitarist\, and Raymond\, a powerhouse on bass\, bring fresh energy to the band’s recordings. \nFran Moran and The Nervous Wrecks will be opening for the Boxmasters \n \nThe Boxmasters\, formed in 2007\, draw inspiration from the rock and roll of the 1960s\, with nods to bands like the Beatles\, Byrds\, and Beach Boys. Their diverse catalogue reflects influences ranging from The Mothers of Invention to Kris Kristofferson. Based at Peppertree Hill Studios\, J.D. & Bud continue to create music that resonates\, collaborating with artists like Ian Hunter and Gov’t Mule. \nWith a dedicated fanbase spanning the globe\, The Boxmasters have earned acclaim both as headliners and as openers for acts like ZZ Top and Steve Miller. From “Knuckleheads” in Kansas City to “The Troubadour” in Los Angeles\, their live performances captivate audiences\, making each show an unforgettable experience.
URL:https://www.monmouth.edu/events/event/billy-bob-thornton-the-boxmasters/
LOCATION:Pollak Theatre
CATEGORIES:Alumni,Alumni Affairs,Alumni Events,Arts at Monmouth,Concerts
ATTACH;FMTTYPE=image/jpeg:https://www.monmouth.edu/events/wp-content/uploads/sites/19/2024/05/header.jpg
END:VEVENT
END:VCALENDAR