BEGIN:VCALENDAR
VERSION:2.0
PRODID:-//Events - ECPv6.15.20//NONSGML v1.0//EN
CALSCALE:GREGORIAN
METHOD:PUBLISH
X-WR-CALNAME:Events
X-ORIGINAL-URL:https://www.monmouth.edu/events
X-WR-CALDESC:Events for Events
REFRESH-INTERVAL;VALUE=DURATION:PT1H
X-Robots-Tag:noindex
X-PUBLISHED-TTL:PT1H
BEGIN:VTIMEZONE
TZID:America/New_York
BEGIN:DAYLIGHT
TZOFFSETFROM:-0500
TZOFFSETTO:-0400
TZNAME:EDT
DTSTART:20240310T070000
END:DAYLIGHT
BEGIN:STANDARD
TZOFFSETFROM:-0400
TZOFFSETTO:-0500
TZNAME:EST
DTSTART:20241103T060000
END:STANDARD
BEGIN:DAYLIGHT
TZOFFSETFROM:-0500
TZOFFSETTO:-0400
TZNAME:EDT
DTSTART:20250309T070000
END:DAYLIGHT
BEGIN:STANDARD
TZOFFSETFROM:-0400
TZOFFSETTO:-0500
TZNAME:EST
DTSTART:20251102T060000
END:STANDARD
BEGIN:DAYLIGHT
TZOFFSETFROM:-0500
TZOFFSETTO:-0400
TZNAME:EDT
DTSTART:20260308T070000
END:DAYLIGHT
BEGIN:STANDARD
TZOFFSETFROM:-0400
TZOFFSETTO:-0500
TZNAME:EST
DTSTART:20261101T060000
END:STANDARD
END:VTIMEZONE
BEGIN:VEVENT
DTSTART;TZID=America/New_York:20251107T200000
DTEND;TZID=America/New_York:20251107T223000
DTSTAMP:20260423T062126
CREATED:20250715T180344Z
LAST-MODIFIED:20250731T131748Z
UID:40810119333-1762545600-1762554600@www.monmouth.edu
SUMMARY:Marc Cohn & Shawn Colvin Together Onstage
DESCRIPTION:Get ready for a special night of incredible music as Grammy winners Marc Cohn and Shawn Colvin take the stage together at Pollak Theatre. \nColvin brings her signature blend of sharp wit\, emotional depth\, and lyrical elegance to songs that unfold with grace\, humor\, and vulnerability. Her music\, filled with clever turns of phrase and slow-burning catharsis\, invites listeners into deeply personal yet universal experiences. \nCohn\, known for his timeless hit “Walking in Memphis\,” combines the precision of a brilliant tunesmith with the soul of a true troubadour. With a voice rich in feeling and stories drawn from life and love\, he captures moments both poignant and joyful\, leaving a lasting emotional imprint. \nExperience the songs you love— and the stories behind them— in one extraordinary night of music.
URL:https://www.monmouth.edu/events/event/cohn-and-colvin-together-onstage/
LOCATION:Pollak Theatre
CATEGORIES:Alumni,Alumni Affairs,Alumni Events,Arts at Monmouth,Community Member,Concerts,Current Student,Faculty
ATTACH;FMTTYPE=image/jpeg:https://www.monmouth.edu/events/wp-content/uploads/sites/19/2025/07/520225427_18518812825018050_4511516039438062366_n-1.jpg
ORGANIZER;CN="Center for the Arts":MAILTO:kbarratt@monmouth.edu
END:VEVENT
END:VCALENDAR