BEGIN:VCALENDAR
VERSION:2.0
PRODID:-//Events - ECPv6.15.20//NONSGML v1.0//EN
CALSCALE:GREGORIAN
METHOD:PUBLISH
X-ORIGINAL-URL:https://www.monmouth.edu/events
X-WR-CALDESC:Events for Events
REFRESH-INTERVAL;VALUE=DURATION:PT1H
X-Robots-Tag:noindex
X-PUBLISHED-TTL:PT1H
BEGIN:VTIMEZONE
TZID:America/New_York
BEGIN:DAYLIGHT
TZOFFSETFROM:-0500
TZOFFSETTO:-0400
TZNAME:EDT
DTSTART:20240310T070000
END:DAYLIGHT
BEGIN:STANDARD
TZOFFSETFROM:-0400
TZOFFSETTO:-0500
TZNAME:EST
DTSTART:20241103T060000
END:STANDARD
BEGIN:DAYLIGHT
TZOFFSETFROM:-0500
TZOFFSETTO:-0400
TZNAME:EDT
DTSTART:20250309T070000
END:DAYLIGHT
BEGIN:STANDARD
TZOFFSETFROM:-0400
TZOFFSETTO:-0500
TZNAME:EST
DTSTART:20251102T060000
END:STANDARD
BEGIN:DAYLIGHT
TZOFFSETFROM:-0500
TZOFFSETTO:-0400
TZNAME:EDT
DTSTART:20260308T070000
END:DAYLIGHT
BEGIN:STANDARD
TZOFFSETFROM:-0400
TZOFFSETTO:-0500
TZNAME:EST
DTSTART:20261101T060000
END:STANDARD
END:VTIMEZONE
BEGIN:VEVENT
DTSTART;TZID=America/New_York:20250516T200000
DTEND;TZID=America/New_York:20250516T223000
DTSTAMP:20260424T172110
CREATED:20240514T125246Z
LAST-MODIFIED:20241022T144131Z
UID:40810112435-1747425600-1747434600@www.monmouth.edu
SUMMARY:An Evening with Rickie Lee Jones
DESCRIPTION:Tickets from the 10/12 concert will be valid for this NEW date.  \nRickie Lee Jones is an American musician\, storyteller and two-time Grammy winner who has been inspiring pop culture for decades\, beginning with her star-making self-titled debut\, followed by the seminal Pirates.  Named the “premiere song-stylist and songwriter of her generation” by The New Yorker\, and “The Duchess of Coolsville” by Time magazine\, Jones released her Grammy-nominated album Pieces of Treasure in 2023\, a reunion with Russ Titelman\, who produced her first two records.  Jones’ celebrated memoir Last Chance Texaco was named Book of the Year by MOJO and a Best Book of the Year at Pitchfork and NPR.  The Independent writes\, “There has always been something defiant about Rickie Lee Jones . . . a voice from a dream\, elusive yet familiar\, transcendent\, a messenger from another place.” 
URL:https://www.monmouth.edu/events/event/rickie_lee_jones/
LOCATION:Pollak Theatre
CATEGORIES:Alumni,Alumni Affairs,Alumni Events,Arts at Monmouth,Concerts
ATTACH;FMTTYPE=image/jpeg:https://www.monmouth.edu/events/wp-content/uploads/sites/19/2024/05/RLJ_header.jpg
END:VEVENT
END:VCALENDAR