BEGIN:VCALENDAR
VERSION:2.0
PRODID:-//Events - ECPv6.15.20//NONSGML v1.0//EN
CALSCALE:GREGORIAN
METHOD:PUBLISH
X-WR-CALNAME:Events
X-ORIGINAL-URL:https://www.monmouth.edu/events
X-WR-CALDESC:Events for Events
REFRESH-INTERVAL;VALUE=DURATION:PT1H
X-Robots-Tag:noindex
X-PUBLISHED-TTL:PT1H
BEGIN:VTIMEZONE
TZID:America/New_York
BEGIN:DAYLIGHT
TZOFFSETFROM:-0500
TZOFFSETTO:-0400
TZNAME:EDT
DTSTART:20230312T070000
END:DAYLIGHT
BEGIN:STANDARD
TZOFFSETFROM:-0400
TZOFFSETTO:-0500
TZNAME:EST
DTSTART:20231105T060000
END:STANDARD
BEGIN:DAYLIGHT
TZOFFSETFROM:-0500
TZOFFSETTO:-0400
TZNAME:EDT
DTSTART:20240310T070000
END:DAYLIGHT
BEGIN:STANDARD
TZOFFSETFROM:-0400
TZOFFSETTO:-0500
TZNAME:EST
DTSTART:20241103T060000
END:STANDARD
BEGIN:DAYLIGHT
TZOFFSETFROM:-0500
TZOFFSETTO:-0400
TZNAME:EDT
DTSTART:20250309T070000
END:DAYLIGHT
BEGIN:STANDARD
TZOFFSETFROM:-0400
TZOFFSETTO:-0500
TZNAME:EST
DTSTART:20251102T060000
END:STANDARD
END:VTIMEZONE
BEGIN:VEVENT
DTSTART;TZID=America/New_York:20241219T193000
DTEND;TZID=America/New_York:20241219T210000
DTSTAMP:20260425T120158
CREATED:20240806T154011Z
LAST-MODIFIED:20240926T171455Z
UID:40810112618-1734636600-1734642000@www.monmouth.edu
SUMMARY:Adult Education Series: Christmas Time Is Hear Again
DESCRIPTION:Class Schedule: Thursday\, December 19 | 7:30 – 9:00 PM \nFrom 1963 to 1969\, the Beatles sent Christmas messages on flexidiscs to their US and UK fan clubs. In 1970\, a compilation of these messages was sent out\, and they were re-released as a collector’s set in 2017. Join SCOTT FREIMAN and KEN WOMACK for a one-session virtual course to explore this unique aspect of the Beatles’ history. \nZoom Link will be provided upon registration.
URL:https://www.monmouth.edu/events/event/adult-education-series-christmas-time-is-hear-again/
LOCATION:Virtual
CATEGORIES:Alumni,Alumni Affairs,Alumni Events,Arts at Monmouth,Lectures,Lectures/Workshops/Symposiums
ATTACH;FMTTYPE=image/jpeg:https://www.monmouth.edu/events/wp-content/uploads/sites/19/2024/08/scottwebheader.jpg
END:VEVENT
END:VCALENDAR