BEGIN:VCALENDAR
VERSION:2.0
PRODID:-//Events - ECPv6.15.20//NONSGML v1.0//EN
CALSCALE:GREGORIAN
METHOD:PUBLISH
X-ORIGINAL-URL:https://www.monmouth.edu/events
X-WR-CALDESC:Events for Events
REFRESH-INTERVAL;VALUE=DURATION:PT1H
X-Robots-Tag:noindex
X-PUBLISHED-TTL:PT1H
BEGIN:VTIMEZONE
TZID:America/New_York
BEGIN:DAYLIGHT
TZOFFSETFROM:-0500
TZOFFSETTO:-0400
TZNAME:EDT
DTSTART:20230312T070000
END:DAYLIGHT
BEGIN:STANDARD
TZOFFSETFROM:-0400
TZOFFSETTO:-0500
TZNAME:EST
DTSTART:20231105T060000
END:STANDARD
BEGIN:DAYLIGHT
TZOFFSETFROM:-0500
TZOFFSETTO:-0400
TZNAME:EDT
DTSTART:20240310T070000
END:DAYLIGHT
BEGIN:STANDARD
TZOFFSETFROM:-0400
TZOFFSETTO:-0500
TZNAME:EST
DTSTART:20241103T060000
END:STANDARD
BEGIN:DAYLIGHT
TZOFFSETFROM:-0500
TZOFFSETTO:-0400
TZNAME:EDT
DTSTART:20250309T070000
END:DAYLIGHT
BEGIN:STANDARD
TZOFFSETFROM:-0400
TZOFFSETTO:-0500
TZNAME:EST
DTSTART:20251102T060000
END:STANDARD
END:VTIMEZONE
BEGIN:VEVENT
DTSTART;TZID=America/New_York:20241028T193000
DTEND;TZID=America/New_York:20241028T210000
DTSTAMP:20260425T102046
CREATED:20240618T183041Z
LAST-MODIFIED:20240926T173334Z
UID:40810112531-1730143800-1730149200@www.monmouth.edu
SUMMARY:Munch: Love\, Ghosts and Lady Vampires
DESCRIPTION:Munch: Love\, Ghosts and Lady Vampires strives to shed new light on Edvard Munch\, a profoundly mysterious\, fascinating man\, a trailblazer and a master for everyone who came after him. Now marks a turning point in our knowledge of the artist: the new MUNCH museum which opened in October 2021 in Oslo houses the immense legacy the artist left to his city: 28\,000 works of art including paintings\, prints\, drawings\, notebooks\, sketches\, photographs and his experiments with film. This extraordinary legacy gives us an exceptional insight into the mind\, the passions and the art of this genius.
URL:https://www.monmouth.edu/events/event/munch-love-ghosts-and-lady-vampires/
LOCATION:Pollak Theatre
CATEGORIES:Alumni,Alumni Affairs,Alumni Events,Arts at Monmouth,Film
ATTACH;FMTTYPE=image/jpeg:https://www.monmouth.edu/events/wp-content/uploads/sites/19/2024/06/MUNCH_header.jpg
END:VEVENT
END:VCALENDAR