BEGIN:VCALENDAR
VERSION:2.0
PRODID:-//Events - ECPv6.15.20//NONSGML v1.0//EN
CALSCALE:GREGORIAN
METHOD:PUBLISH
X-WR-CALNAME:Events
X-ORIGINAL-URL:https://www.monmouth.edu/events
X-WR-CALDESC:Events for Events
REFRESH-INTERVAL;VALUE=DURATION:PT1H
X-Robots-Tag:noindex
X-PUBLISHED-TTL:PT1H
BEGIN:VTIMEZONE
TZID:America/New_York
BEGIN:DAYLIGHT
TZOFFSETFROM:-0500
TZOFFSETTO:-0400
TZNAME:EDT
DTSTART:20230312T070000
END:DAYLIGHT
BEGIN:STANDARD
TZOFFSETFROM:-0400
TZOFFSETTO:-0500
TZNAME:EST
DTSTART:20231105T060000
END:STANDARD
BEGIN:DAYLIGHT
TZOFFSETFROM:-0500
TZOFFSETTO:-0400
TZNAME:EDT
DTSTART:20240310T070000
END:DAYLIGHT
BEGIN:STANDARD
TZOFFSETFROM:-0400
TZOFFSETTO:-0500
TZNAME:EST
DTSTART:20241103T060000
END:STANDARD
BEGIN:DAYLIGHT
TZOFFSETFROM:-0500
TZOFFSETTO:-0400
TZNAME:EDT
DTSTART:20250309T070000
END:DAYLIGHT
BEGIN:STANDARD
TZOFFSETFROM:-0400
TZOFFSETTO:-0500
TZNAME:EST
DTSTART:20251102T060000
END:STANDARD
END:VTIMEZONE
BEGIN:VEVENT
DTSTART;TZID=America/New_York:20241024T180500
DTEND;TZID=America/New_York:20241024T210000
DTSTAMP:20260425T185228
CREATED:20240709T143855Z
LAST-MODIFIED:20240926T173411Z
UID:40810112555-1729793100-1729803600@www.monmouth.edu
SUMMARY:A Separation
DESCRIPTION:Nader (Payman Maadi) and Simin (Leila Hatami) argue about living abroad. Simin prefers to live abroad to provide better opportunities for their only daughter\, Termeh. However\, Nader refuses to go because he thinks he must stay in Iran and take care of his father (Ali-Asghar Shahbazi)\, who suffers from Alzheimers. However\, Simin is determined to get a divorce and leave the country with her daughter. \nThere will be a post screening Q&A hosted by Professor Mihaela Moscaliuc with special guest speaker Prof. Jeff Jackson.
URL:https://www.monmouth.edu/events/event/a-separation/
LOCATION:Pollak Theatre
CATEGORIES:Alumni,Alumni Affairs,Alumni Events,Arts at Monmouth,Film,Free
ATTACH;FMTTYPE=image/jpeg:https://www.monmouth.edu/events/wp-content/uploads/sites/19/2024/07/seperation_header.jpg
END:VEVENT
END:VCALENDAR