BEGIN:VCALENDAR
VERSION:2.0
PRODID:-//Events - ECPv6.15.20//NONSGML v1.0//EN
CALSCALE:GREGORIAN
METHOD:PUBLISH
X-ORIGINAL-URL:https://www.monmouth.edu/events
X-WR-CALDESC:Events for Events
REFRESH-INTERVAL;VALUE=DURATION:PT1H
X-Robots-Tag:noindex
X-PUBLISHED-TTL:PT1H
BEGIN:VTIMEZONE
TZID:America/New_York
BEGIN:DAYLIGHT
TZOFFSETFROM:-0500
TZOFFSETTO:-0400
TZNAME:EDT
DTSTART:20240310T070000
END:DAYLIGHT
BEGIN:STANDARD
TZOFFSETFROM:-0400
TZOFFSETTO:-0500
TZNAME:EST
DTSTART:20241103T060000
END:STANDARD
BEGIN:DAYLIGHT
TZOFFSETFROM:-0500
TZOFFSETTO:-0400
TZNAME:EDT
DTSTART:20250309T070000
END:DAYLIGHT
BEGIN:STANDARD
TZOFFSETFROM:-0400
TZOFFSETTO:-0500
TZNAME:EST
DTSTART:20251102T060000
END:STANDARD
BEGIN:DAYLIGHT
TZOFFSETFROM:-0500
TZOFFSETTO:-0400
TZNAME:EDT
DTSTART:20260308T070000
END:DAYLIGHT
BEGIN:STANDARD
TZOFFSETFROM:-0400
TZOFFSETTO:-0500
TZNAME:EST
DTSTART:20261101T060000
END:STANDARD
END:VTIMEZONE
BEGIN:VEVENT
DTSTART;TZID=America/New_York:20250301T190000
DTEND;TZID=America/New_York:20250301T220000
DTSTAMP:20260424T184053
CREATED:20250117T153024Z
LAST-MODIFIED:20250214T173340Z
UID:40810117905-1740855600-1740866400@www.monmouth.edu
SUMMARY:BSU Presents\, Ebony Night: A Night in Harlem
DESCRIPTION:Join us for a night of Celebrating Black Excellence. This formal event will celebrate the accomplishments of the Black Student Union and honor students\, staff\, and alumni for their contributions and support this academic year. Ticket will include admission to the event\, entertainment\, and a buffet-style meal. Dress to Impress!
URL:https://www.monmouth.edu/events/event/bsu-presents-ebony-night-a-night-in-harlem/
LOCATION:Great Hall 1st Floor
CATEGORIES:Alumni,Alumni Events,Black Alumni Network,Current Student,Faculty,Graduate Student,Intercultural Center Events,Social Events,Undergraduate Student
ATTACH;FMTTYPE=image/jpeg:https://www.monmouth.edu/events/wp-content/uploads/sites/19/2025/01/default.jpg
END:VEVENT
BEGIN:VEVENT
DTSTART;TZID=America/New_York:20250301T200000
DTEND;TZID=America/New_York:20250301T220000
DTSTAMP:20260424T184053
CREATED:20240729T131148Z
LAST-MODIFIED:20241022T145239Z
UID:40810112579-1740859200-1740866400@www.monmouth.edu
SUMMARY:Roxey Ballet's Journey Back to the 80s
DESCRIPTION:Roxey Ballet’s Journey Back to 80s is a pop/rock music and dance extravaganza featuring top hits from the 80s like: features songs including Flashdance\, Jenny Jenny\, Tainted Love\, Walk Like an Egyptian\, Billy Jean\, Like A Prayer\, Footloose\, and many more! Phenomenal choreography and dancing by Roxey Ballet will take the audience back to the era of rock ‘n roll\, shoulder pads and iconic music and have them to on their feet\, singing and dancing in the aisles!
URL:https://www.monmouth.edu/events/event/roxey-ballets-journey-back-to-the-80s/
LOCATION:Pollak Theatre
CATEGORIES:Alumni,Alumni Affairs,Alumni Events,Arts at Monmouth,Dance
ATTACH;FMTTYPE=image/jpeg:https://www.monmouth.edu/events/wp-content/uploads/sites/19/2024/07/header.jpg
END:VEVENT
BEGIN:VEVENT
DTSTART;TZID=America/New_York:20250304T193000
DTEND;TZID=America/New_York:20250304T210000
DTSTAMP:20260424T184053
CREATED:20240605T150207Z
LAST-MODIFIED:20240926T170054Z
UID:40810112489-1741116600-1741122000@www.monmouth.edu
SUMMARY:Dusty Springfield\, Dusty in Memphis
DESCRIPTION:It’s just like book club but with albums! With new advances in technology\, the way we consume music through our devices\, apps and on demand streaming services like Pandora\, Spotify and iTunes is making the idea of the “album” as an art form extinct. Get together with other music enthusiasts on Tuesday nights to discuss some of the greatest records of all-time! Listen to the album beforehand and then come prepared to discuss. This event will feature Dusty Springfield\, Dusty in Memphis. \nThis event is offered BOTH in person and via Zoom. Join us in person at the Great Hall Auditorium on the Campus of Monmouth University or join us via zoom. When you register you will be provided the ZOOM meeting link to join the conversation. \nFree and open to the public\, but registration is required.
URL:https://www.monmouth.edu/events/event/dusty-springfield-dusty-in-memphis/
LOCATION:The Great Hall Auditorium/Virtual\, 400 Cedar Ave\, West Long Branch\, NJ\, 07720\, United States
CATEGORIES:Alumni,Alumni Affairs,Alumni Events,Arts at Monmouth,Free,Lectures,Lectures/Workshops/Symposiums
ATTACH;FMTTYPE=image/jpeg:https://www.monmouth.edu/events/wp-content/uploads/sites/19/2024/06/dusty_header.jpg
END:VEVENT
BEGIN:VEVENT
DTSTART;TZID=America/New_York:20250306T193000
DTEND;TZID=America/New_York:20250306T220000
DTSTAMP:20260424T184053
CREATED:20240906T164454Z
LAST-MODIFIED:20250217T142655Z
UID:40810113749-1741289400-1741298400@www.monmouth.edu
SUMMARY:The Importance of being Earnest
DESCRIPTION:by Oscar Wilde\ndirected by Max Webster \nThree-time Olivier Award-winner Sharon D Clarke is joined by Ncuti Gatwa (Doctor Who; Sex Education) in this joyful reimagining of Oscar Wilde’s most celebrated comedy.  While assuming the role of a dutiful guardian in the country\, Jack lets loose in town under a false identity. Meanwhile\, his friend Algy adopts a similar facade. Hoping to impress two eligible ladies\, the gentlemen find themselves caught in a web of lies they must carefully navigate. \nMax Webster (Life of Pi) directs this hilarious story of identity\, impersonation and romance\, filmed live from the National Theatre in London.
URL:https://www.monmouth.edu/events/event/earnest/
LOCATION:Pollak Theatre
CATEGORIES:Alumni,Alumni Affairs,Alumni Events,Arts at Monmouth,Featured,Film,Theatre
ATTACH;FMTTYPE=image/jpeg:https://www.monmouth.edu/events/wp-content/uploads/sites/19/2024/09/earnest_header.jpg
END:VEVENT
BEGIN:VEVENT
DTSTART;TZID=America/New_York:20250308T163000
DTEND;TZID=America/New_York:20250308T183000
DTSTAMP:20260424T184053
CREATED:20250227T172440Z
LAST-MODIFIED:20250227T172440Z
UID:40810118826-1741451400-1741458600@www.monmouth.edu
SUMMARY:Orlando\, Florida: Alumni Tailgate and Men’s Baseball Game
DESCRIPTION:First Pitch: 6:30 p.m. \nJoin us in Orlando to cheer on your Monmouth Hawks Baseball Team as they take on the University of Central Florida! Enjoy a pre-game tailgate where Coach Dean Ehehalt will share game insights\, and your go-to Florida Hawk\, Chuck Gerdon\, will update you on the latest University achievements. There will be free tickets\, complimentary refreshments\, prizes\, and Monmouth University giveaways! Find us in the outfield parking lot ($5 parking fee). We can’t wait to see you there!
URL:https://www.monmouth.edu/events/event/orlando-florida-alumni-tailgate-and-mens-baseball-game/
LOCATION:UCF John Euliano Park\, 4422 Knights Victory Way\, Orlando\, FL\, 32816\, United States
CATEGORIES:Alumni,Alumni Events,Athletics,Free,Social Events
ATTACH;FMTTYPE=image/jpeg:https://www.monmouth.edu/events/wp-content/uploads/sites/19/2023/12/Florida-graphic.jpg
END:VEVENT
BEGIN:VEVENT
DTSTART;TZID=America/New_York:20250308T200000
DTEND;TZID=America/New_York:20250308T223000
DTSTAMP:20260424T184053
CREATED:20240729T131130Z
LAST-MODIFIED:20250305T175410Z
UID:40810112576-1741464000-1741473000@www.monmouth.edu
SUMMARY:Cherish the Ladies
DESCRIPTION:Celebrating their 40th anniversary in 2025\, this Grammy-nominated\, all-female ensemble will dazzle audiences of all ages with a rousing program of traditional Irish melodies and original arrangements. Enjoy virtuoso instrumentation\, beautiful vocals\, and spirited step dancing that has earned them recognition as the BBC’s “Best Musical Group of the Year” and the Irish Music Awards’ “Top North American Celtic Group.” \nLed by Bronx-native Joanie Madden\, a 2021 NEA National Heritage Fellowship Award winner and All-Ireland flute and whistle champion\, Cherish the Ladies captivates with their “passionate\, tender\, and rambunctious” (Washington Post) performances. Known for their heart\, humor\, and “heaps of music in their fingers and toes” (Glasgow Herald)\, this concert promises to be an afternoon filled with traditional Irish music and dance—bursting with energy\, wit\, and spirit. Don’t miss this electrifying performance that will have everyone tapping their feet and clapping along!
URL:https://www.monmouth.edu/events/event/cherish-the-ladies-5/
LOCATION:Pollak Theatre
CATEGORIES:Alumni,Alumni Affairs,Alumni Events,Arts at Monmouth,Concerts,Featured
ATTACH;FMTTYPE=image/jpeg:https://www.monmouth.edu/events/wp-content/uploads/sites/19/2024/07/header-1.jpg
END:VEVENT
BEGIN:VEVENT
DTSTART;TZID=America/New_York:20250310T180000
DTEND;TZID=America/New_York:20250310T200000
DTSTAMP:20260424T184053
CREATED:20250227T172822Z
LAST-MODIFIED:20250227T172822Z
UID:40810118829-1741629600-1741636800@www.monmouth.edu
SUMMARY:Trinity\, FL: Alumni Meet + Greet
DESCRIPTION:Join us for a special opportunity to meet the Monmouth Women’s Golf Team and Coach Mark Bryson\, along with your go-to Florida Hawk\, Chuck Gerdon! With the team competing in Oldsmar and staying nearby\, this is a great chance to connect with current students\, fellow Florida Hawks\, and hear the latest Monmouth University updates—all in a fun\, casual setting. Complimentary pizza and refreshments will be served!
URL:https://www.monmouth.edu/events/event/trinity-fl-alumni-meet-greet/
LOCATION:Holiday Inn Express\, 2125 Corporate Center Drive\,\, Trinity\, FL\, 34655\, United States
CATEGORIES:Alumni,Alumni Events,Athletics,Free,Social Events
ATTACH;FMTTYPE=image/jpeg:https://www.monmouth.edu/events/wp-content/uploads/sites/19/2023/12/Florida-graphic.jpg
END:VEVENT
BEGIN:VEVENT
DTSTART;TZID=America/New_York:20250311T193000
DTEND;TZID=America/New_York:20250311T213000
DTSTAMP:20260424T184053
CREATED:20240611T135952Z
LAST-MODIFIED:20240926T165741Z
UID:40810112516-1741721400-1741728600@www.monmouth.edu
SUMMARY:Louisa May Alcott\, Little Women
DESCRIPTION:Join us for Tuesday Night Book Club! Hosted by Monmouth University’s Ken Womack. This month’s novel is Louisa May Alcott\, Little Women. \nNominated as one of America’s best-loved novels by PBS’s The Great American Read \nIt is no surprise that Little Women\, the adored classic of four devoted sisters\, was loosely based on Louisa May Alcott’s own life. In fact\, Alcott drew from her own personality to create a heroine unlike any seen before: Jo\, willful\, headstrong\, and undoubtedly the backbone of the March family. Follow the sisters from innocent adolescence to sage adulthood\, with all the joy and sorrow of life in between\, and fall in love with them and this endearing story. Praised by Madeleine Stern as “a book on the American home\, and hence universal in its appeal\,” Little Women has been an avidly read tale for generations. \nWhen you register you will be provided the meeting link to join the conversation.
URL:https://www.monmouth.edu/events/event/louisa-may-alcott-little-women/
LOCATION:Virtual
CATEGORIES:Alumni,Alumni Affairs,Alumni Events,Arts at Monmouth,English,Free,Lectures,Lectures/Workshops/Symposiums
ATTACH;FMTTYPE=image/jpeg:https://www.monmouth.edu/events/wp-content/uploads/sites/19/2024/06/littlewomen_header.jpg
END:VEVENT
BEGIN:VEVENT
DTSTART;TZID=America/New_York:20250315T130000
DTEND;TZID=America/New_York:20250315T170000
DTSTAMP:20260424T184053
CREATED:20240517T183259Z
LAST-MODIFIED:20250305T175538Z
UID:40810112456-1742043600-1742058000@www.monmouth.edu
SUMMARY:Fidelio
DESCRIPTION:Following a string of awe-inspiring Met performances\, soprano Lise Davidsen stars as Leonore\, who risks everything to save her husband from the clutches of tyranny. Tenor David Butt Philip is the political prisoner Florestan\, sharing the stage with bass-baritone Tomasz Konieczny as the villainous Don Pizarro\, veteran bass René Pape as the jailer Rocco\, and soprano Ying Fang and tenor Magnus Dietrich\, in his company debut\, as the young Marzelline and Jaquino. Bass Stephen Milling sings the principled Don Fernando\, and Susanna Mälkki conducts the Met’s striking production\, which finds modern-day parallels in Beethoven’s stirring paean to freedom. This live cinema transmission is part of the Met’s award-winning Live in HD series\, bringing opera to movie theaters across the globe.
URL:https://www.monmouth.edu/events/event/fidelio/
LOCATION:Pollak Theatre
CATEGORIES:Alumni,Alumni Affairs,Alumni Events,Arts at Monmouth,Broadcast in HD,Featured,Music
ATTACH;FMTTYPE=image/jpeg:https://www.monmouth.edu/events/wp-content/uploads/sites/19/2024/05/Fid_header.jpg
END:VEVENT
BEGIN:VEVENT
DTSTART;TZID=America/New_York:20250327T180500
DTEND;TZID=America/New_York:20250327T210000
DTSTAMP:20260424T184053
CREATED:20240709T161855Z
LAST-MODIFIED:20250305T175815Z
UID:40810112564-1743098700-1743109200@www.monmouth.edu
SUMMARY:Saint Omer
DESCRIPTION:Rama\, a literature professor and novelist\, travels from Paris to Saint-Omer to observe the trial of Laurence Coly and write about the case. Coly is a student and Senegalese immigrant accused of leaving her 15-month-old daughter on a beach to be swept away by the tide in Berck. Rama\, who is four-months pregnant and\, like Coly\, is in a mixed-race relationship and has a complex relationship with her own Senegalese immigrant mother\, feels a personal connection to Coly. She plans to write a modern day retelling of the Greek Medea myth about the case. As she learns more about Coly’s life and the isolation Coly experienced from her family and society while living in France\, Rama becomes increasingly anxious about her own life and pregnancy. \nThere will be a post screening Q&A hosted by Marina Vujnovic with special guest speaker Prof. Julius Adekunle.
URL:https://www.monmouth.edu/events/event/saint-omer/
LOCATION:Pollak Theatre
CATEGORIES:Alumni,Alumni Affairs,Alumni Events,Arts at Monmouth,Featured,Film,Free,Institute for Global Understanding
ATTACH;FMTTYPE=image/jpeg:https://www.monmouth.edu/events/wp-content/uploads/sites/19/2024/07/saintomer_header.jpg
END:VEVENT
END:VCALENDAR