BEGIN:VCALENDAR
VERSION:2.0
PRODID:-//Events - ECPv6.15.20//NONSGML v1.0//EN
CALSCALE:GREGORIAN
METHOD:PUBLISH
X-ORIGINAL-URL:https://www.monmouth.edu/events
X-WR-CALDESC:Events for Events
REFRESH-INTERVAL;VALUE=DURATION:PT1H
X-Robots-Tag:noindex
X-PUBLISHED-TTL:PT1H
BEGIN:VTIMEZONE
TZID:America/New_York
BEGIN:DAYLIGHT
TZOFFSETFROM:-0500
TZOFFSETTO:-0400
TZNAME:EDT
DTSTART:20230312T070000
END:DAYLIGHT
BEGIN:STANDARD
TZOFFSETFROM:-0400
TZOFFSETTO:-0500
TZNAME:EST
DTSTART:20231105T060000
END:STANDARD
BEGIN:DAYLIGHT
TZOFFSETFROM:-0500
TZOFFSETTO:-0400
TZNAME:EDT
DTSTART:20240310T070000
END:DAYLIGHT
BEGIN:STANDARD
TZOFFSETFROM:-0400
TZOFFSETTO:-0500
TZNAME:EST
DTSTART:20241103T060000
END:STANDARD
BEGIN:DAYLIGHT
TZOFFSETFROM:-0500
TZOFFSETTO:-0400
TZNAME:EDT
DTSTART:20250309T070000
END:DAYLIGHT
BEGIN:STANDARD
TZOFFSETFROM:-0400
TZOFFSETTO:-0500
TZNAME:EST
DTSTART:20251102T060000
END:STANDARD
END:VTIMEZONE
BEGIN:VEVENT
DTSTART;TZID=America/New_York:20241209T000000
DTEND;TZID=America/New_York:20241209T235959
DTSTAMP:20260425T083105
CREATED:20240903T134255Z
LAST-MODIFIED:20240904T165542Z
UID:40810113260-1733702400-1733788799@www.monmouth.edu
SUMMARY:Thirteenth Week Ends
DESCRIPTION:
URL:https://www.monmouth.edu/events/event/thirteenth-week-ends/
CATEGORIES:Academic Calendar
END:VEVENT
BEGIN:VEVENT
DTSTART;TZID=America/New_York:20241210T000000
DTEND;TZID=America/New_York:20241210T235959
DTSTAMP:20260425T083105
CREATED:20240903T134313Z
LAST-MODIFIED:20240904T165535Z
UID:40810113263-1733788800-1733875199@www.monmouth.edu
SUMMARY:Reading Day
DESCRIPTION:
URL:https://www.monmouth.edu/events/event/reading-day-2/
CATEGORIES:Academic Calendar
END:VEVENT
BEGIN:VEVENT
DTSTART;TZID=America/New_York:20241211T000000
DTEND;TZID=America/New_York:20241217T235959
DTSTAMP:20260425T083105
CREATED:20240903T134400Z
LAST-MODIFIED:20240904T165527Z
UID:40810113266-1733875200-1734479999@www.monmouth.edu
SUMMARY:Fourteenth Week Adjusted Schedule
DESCRIPTION:
URL:https://www.monmouth.edu/events/event/fourteenth-week-adjusted-schedule/
CATEGORIES:Academic Calendar
END:VEVENT
END:VCALENDAR