BEGIN:VCALENDAR
VERSION:2.0
PRODID:-//Events - ECPv6.15.20//NONSGML v1.0//EN
CALSCALE:GREGORIAN
METHOD:PUBLISH
X-WR-CALNAME:Events
X-ORIGINAL-URL:https://www.monmouth.edu/events
X-WR-CALDESC:Events for Events
REFRESH-INTERVAL;VALUE=DURATION:PT1H
X-Robots-Tag:noindex
X-PUBLISHED-TTL:PT1H
BEGIN:VTIMEZONE
TZID:America/New_York
BEGIN:DAYLIGHT
TZOFFSETFROM:-0500
TZOFFSETTO:-0400
TZNAME:EDT
DTSTART:20140309T070000
END:DAYLIGHT
BEGIN:STANDARD
TZOFFSETFROM:-0400
TZOFFSETTO:-0500
TZNAME:EST
DTSTART:20141102T060000
END:STANDARD
BEGIN:DAYLIGHT
TZOFFSETFROM:-0500
TZOFFSETTO:-0400
TZNAME:EDT
DTSTART:20150308T070000
END:DAYLIGHT
BEGIN:STANDARD
TZOFFSETFROM:-0400
TZOFFSETTO:-0500
TZNAME:EST
DTSTART:20151101T060000
END:STANDARD
BEGIN:DAYLIGHT
TZOFFSETFROM:-0500
TZOFFSETTO:-0400
TZNAME:EDT
DTSTART:20160313T070000
END:DAYLIGHT
BEGIN:STANDARD
TZOFFSETFROM:-0400
TZOFFSETTO:-0500
TZNAME:EST
DTSTART:20161106T060000
END:STANDARD
END:VTIMEZONE
BEGIN:VEVENT
DTSTART;VALUE=DATE:20150506
DTEND;VALUE=DATE:20150513
DTSTAMP:20260425T070159
CREATED:20180725T204415Z
LAST-MODIFIED:20180725T204415Z
UID:40810102661-1430870400-1431475199@www.monmouth.edu
SUMMARY:Final Exam Period
DESCRIPTION:
URL:https://www.monmouth.edu/events/event/final-exam-period/
CATEGORIES:Academic Calendar
ATTACH;FMTTYPE=image/jpeg:https://www.monmouth.edu/events/wp-content/uploads/sites/19/2018/07/holiday-breaks-placeholder.jpg
END:VEVENT
BEGIN:VEVENT
DTSTART;VALUE=DATE:20150514
DTEND;VALUE=DATE:20150515
DTSTAMP:20260425T070159
CREATED:20180725T204405Z
LAST-MODIFIED:20180725T204405Z
UID:40810102589-1431561600-1431647999@www.monmouth.edu
SUMMARY:End Continuing Registration Summer Session A
DESCRIPTION:
URL:https://www.monmouth.edu/events/event/end-continuing-registration-summer-session-a/
CATEGORIES:Academic Calendar,Current Student,Faculty
ATTACH;FMTTYPE=image/jpeg:https://www.monmouth.edu/events/wp-content/uploads/sites/19/2018/07/holiday-breaks-placeholder.jpg
END:VEVENT
BEGIN:VEVENT
DTSTART;VALUE=DATE:20150514
DTEND;VALUE=DATE:20150515
DTSTAMP:20260425T070159
CREATED:20180725T204415Z
LAST-MODIFIED:20180725T204415Z
UID:40810102664-1431561600-1431647999@www.monmouth.edu
SUMMARY:Final Grades Due 10 p.m.
DESCRIPTION:
URL:https://www.monmouth.edu/events/event/final-grades-due-10-p-m/
CATEGORIES:Academic Calendar
ATTACH;FMTTYPE=image/jpeg:https://www.monmouth.edu/events/wp-content/uploads/sites/19/2018/07/holiday-breaks-placeholder.jpg
END:VEVENT
END:VCALENDAR