BEGIN:VCALENDAR
VERSION:2.0
PRODID:-//Events - ECPv6.15.20//NONSGML v1.0//EN
CALSCALE:GREGORIAN
METHOD:PUBLISH
X-WR-CALNAME:Events
X-ORIGINAL-URL:https://www.monmouth.edu/events
X-WR-CALDESC:Events for Events
REFRESH-INTERVAL;VALUE=DURATION:PT1H
X-Robots-Tag:noindex
X-PUBLISHED-TTL:PT1H
BEGIN:VTIMEZONE
TZID:America/New_York
BEGIN:DAYLIGHT
TZOFFSETFROM:-0500
TZOFFSETTO:-0400
TZNAME:EDT
DTSTART:20140309T070000
END:DAYLIGHT
BEGIN:STANDARD
TZOFFSETFROM:-0400
TZOFFSETTO:-0500
TZNAME:EST
DTSTART:20141102T060000
END:STANDARD
BEGIN:DAYLIGHT
TZOFFSETFROM:-0500
TZOFFSETTO:-0400
TZNAME:EDT
DTSTART:20150308T070000
END:DAYLIGHT
BEGIN:STANDARD
TZOFFSETFROM:-0400
TZOFFSETTO:-0500
TZNAME:EST
DTSTART:20151101T060000
END:STANDARD
BEGIN:DAYLIGHT
TZOFFSETFROM:-0500
TZOFFSETTO:-0400
TZNAME:EDT
DTSTART:20160313T070000
END:DAYLIGHT
BEGIN:STANDARD
TZOFFSETFROM:-0400
TZOFFSETTO:-0500
TZNAME:EST
DTSTART:20161106T060000
END:STANDARD
BEGIN:DAYLIGHT
TZOFFSETFROM:-0500
TZOFFSETTO:-0400
TZNAME:EDT
DTSTART:20170312T070000
END:DAYLIGHT
BEGIN:STANDARD
TZOFFSETFROM:-0400
TZOFFSETTO:-0500
TZNAME:EST
DTSTART:20171105T060000
END:STANDARD
END:VTIMEZONE
BEGIN:VEVENT
DTSTART;VALUE=DATE:20160523
DTEND;VALUE=DATE:20160524
DTSTAMP:20260419T115539
CREATED:20180725T204402Z
LAST-MODIFIED:20180725T204402Z
UID:40810102565-1463961600-1464047999@www.monmouth.edu
SUMMARY:Summer Session B Classes Begin
DESCRIPTION:
URL:https://www.monmouth.edu/events/event/summer-session-b-classes-begin/
CATEGORIES:Academic Calendar,Current Student
ATTACH;FMTTYPE=image/jpeg:https://www.monmouth.edu/events/wp-content/uploads/sites/19/2018/07/MUDisplay.jpg
END:VEVENT
BEGIN:VEVENT
DTSTART;VALUE=DATE:20160523
DTEND;VALUE=DATE:20160524
DTSTAMP:20260419T115539
CREATED:20180725T204400Z
LAST-MODIFIED:20180725T204400Z
UID:40810102550-1463961600-1464047999@www.monmouth.edu
SUMMARY:Summer Session C Classes Begin
DESCRIPTION:
URL:https://www.monmouth.edu/events/event/summer-session-c-classes-begin/
CATEGORIES:Academic Calendar,Current Student
ATTACH;FMTTYPE=image/jpeg:https://www.monmouth.edu/events/wp-content/uploads/sites/19/2018/07/MUDisplay.jpg
END:VEVENT
BEGIN:VEVENT
DTSTART;VALUE=DATE:20160513
DTEND;VALUE=DATE:20160514
DTSTAMP:20260419T115539
CREATED:20180725T204623Z
LAST-MODIFIED:20180725T204623Z
UID:40810103225-1463097600-1463183999@www.monmouth.edu
SUMMARY:Spring Commencement
DESCRIPTION:
URL:https://www.monmouth.edu/events/event/spring-commencement/
CATEGORIES:Academic Calendar
ATTACH;FMTTYPE=image/png:https://www.monmouth.edu/events/wp-content/uploads/sites/19/2018/07/commencement-display.png
END:VEVENT
BEGIN:VEVENT
DTSTART;VALUE=DATE:20160509
DTEND;VALUE=DATE:20160510
DTSTAMP:20260419T115539
CREATED:20180725T204404Z
LAST-MODIFIED:20180725T204404Z
UID:40810102577-1462752000-1462838399@www.monmouth.edu
SUMMARY:Summer Session A Classes Begin
DESCRIPTION:
URL:https://www.monmouth.edu/events/event/summer-session-a-classes-begin/
CATEGORIES:Academic Calendar,Current Student
ATTACH;FMTTYPE=image/jpeg:https://www.monmouth.edu/events/wp-content/uploads/sites/19/2018/07/MUDisplay.jpg
END:VEVENT
BEGIN:VEVENT
DTSTART;VALUE=DATE:20160118
DTEND;VALUE=DATE:20160119
DTSTAMP:20260419T115539
CREATED:20180725T204719Z
LAST-MODIFIED:20180725T204719Z
UID:40810103504-1453075200-1453161599@www.monmouth.edu
SUMMARY:Martin Luther King Jr.'s Birthday
DESCRIPTION:
URL:https://www.monmouth.edu/events/event/martin-luther-king-jr-s-birthday/
CATEGORIES:Academic Calendar,Community Member,Current Student,Faculty,Holiday / Breaks
ATTACH;FMTTYPE=image/jpeg:https://www.monmouth.edu/events/wp-content/uploads/sites/19/2018/07/MUDisplay.jpg
END:VEVENT
BEGIN:VEVENT
DTSTART;TZID=America/New_York:20150821T090000
DTEND;TZID=America/New_York:20150821T090000
DTSTAMP:20260419T115539
CREATED:20180725T204358Z
LAST-MODIFIED:20180725T204358Z
UID:40810102526-1440147600-1440147600@www.monmouth.edu
SUMMARY:Grades Due Summer Session C
DESCRIPTION:
URL:https://www.monmouth.edu/events/event/grades-due-summer-session-c/
CATEGORIES:Academic Calendar,Current Student
ATTACH;FMTTYPE=image/jpeg:https://www.monmouth.edu/events/wp-content/uploads/sites/19/2018/07/holiday-breaks-placeholder.jpg
END:VEVENT
BEGIN:VEVENT
DTSTART;TZID=America/New_York:20150821T090000
DTEND;TZID=America/New_York:20150821T090000
DTSTAMP:20260419T115539
CREATED:20180725T204354Z
LAST-MODIFIED:20180725T204354Z
UID:40810102499-1440147600-1440147600@www.monmouth.edu
SUMMARY:Grades Due Summer Session E
DESCRIPTION:
URL:https://www.monmouth.edu/events/event/grades-due-summer-session-e/
CATEGORIES:Academic Calendar,Current Student
ATTACH;FMTTYPE=image/jpeg:https://www.monmouth.edu/events/wp-content/uploads/sites/19/2018/07/holiday-breaks-placeholder.jpg
END:VEVENT
BEGIN:VEVENT
DTSTART;VALUE=DATE:20150817
DTEND;VALUE=DATE:20150818
DTSTAMP:20260419T115539
CREATED:20180725T204359Z
LAST-MODIFIED:20180725T204359Z
UID:40810102541-1439769600-1439855999@www.monmouth.edu
SUMMARY:Summer Session C Classes End
DESCRIPTION:
URL:https://www.monmouth.edu/events/event/summer-session-c-classes-end/
CATEGORIES:Academic Calendar,Current Student
ATTACH;FMTTYPE=image/jpeg:https://www.monmouth.edu/events/wp-content/uploads/sites/19/2018/07/MUDisplay.jpg
END:VEVENT
BEGIN:VEVENT
DTSTART;VALUE=DATE:20150730
DTEND;VALUE=DATE:20150731
DTSTAMP:20260419T115539
CREATED:20180725T204355Z
LAST-MODIFIED:20180725T204355Z
UID:40810102502-1438214400-1438300799@www.monmouth.edu
SUMMARY:Withdrawal Deadline Summer Session E
DESCRIPTION:
URL:https://www.monmouth.edu/events/event/withdrawal-deadline-summer-session-e/
CATEGORIES:Academic Calendar,Current Student
ATTACH;FMTTYPE=image/jpeg:https://www.monmouth.edu/events/wp-content/uploads/sites/19/2018/07/MUDisplay.jpg
END:VEVENT
BEGIN:VEVENT
DTSTART;TZID=America/New_York:20150717T090000
DTEND;TZID=America/New_York:20150717T090000
DTSTAMP:20260419T115539
CREATED:20180725T204354Z
LAST-MODIFIED:20180725T204354Z
UID:40810102496-1437123600-1437123600@www.monmouth.edu
SUMMARY:Grades Due Summer Session D
DESCRIPTION:
URL:https://www.monmouth.edu/events/event/grades-due-summer-session-d/
CATEGORIES:Academic Calendar,Current Student
ATTACH;FMTTYPE=image/jpeg:https://www.monmouth.edu/events/wp-content/uploads/sites/19/2018/07/holiday-breaks-placeholder.jpg
END:VEVENT
BEGIN:VEVENT
DTSTART;VALUE=DATE:20150715
DTEND;VALUE=DATE:20150716
DTSTAMP:20260419T115539
CREATED:20180725T204359Z
LAST-MODIFIED:20180725T204359Z
UID:40810102538-1436918400-1437004799@www.monmouth.edu
SUMMARY:"W"ithdrawal Deadline Summer Session C
DESCRIPTION:
URL:https://www.monmouth.edu/events/event/withdrawal-deadline-summer-session-c/
CATEGORIES:Academic Calendar,Current Student
ATTACH;FMTTYPE=image/jpeg:https://www.monmouth.edu/events/wp-content/uploads/sites/19/2018/07/holiday-breaks-placeholder.jpg
END:VEVENT
BEGIN:VEVENT
DTSTART;TZID=America/New_York:20150709T090000
DTEND;TZID=America/New_York:20150709T090000
DTSTAMP:20260419T115539
CREATED:20180725T204400Z
LAST-MODIFIED:20180725T204400Z
UID:40810102544-1436432400-1436432400@www.monmouth.edu
SUMMARY:Grades Due Summer Session B
DESCRIPTION:
URL:https://www.monmouth.edu/events/event/grades-due-summer-session-b/
CATEGORIES:Academic Calendar,Current Student
ATTACH;FMTTYPE=image/jpeg:https://www.monmouth.edu/events/wp-content/uploads/sites/19/2018/07/holiday-breaks-placeholder.jpg
END:VEVENT
BEGIN:VEVENT
DTSTART;VALUE=DATE:20150707
DTEND;VALUE=DATE:20150714
DTSTAMP:20260419T115539
CREATED:20180725T204356Z
LAST-MODIFIED:20180725T204356Z
UID:40810102514-1436227200-1436831999@www.monmouth.edu
SUMMARY:Late Registration/Drop-Add - Summer Session E
DESCRIPTION:
URL:https://www.monmouth.edu/events/event/late-registration-drop-add-summer-session-e/
CATEGORIES:Academic Calendar,Current Student
ATTACH;FMTTYPE=image/jpeg:https://www.monmouth.edu/events/wp-content/uploads/sites/19/2018/07/holiday-breaks-placeholder.jpg
END:VEVENT
BEGIN:VEVENT
DTSTART;VALUE=DATE:20150702
DTEND;VALUE=DATE:20150703
DTSTAMP:20260419T115539
CREATED:20180725T204358Z
LAST-MODIFIED:20180725T204358Z
UID:40810102532-1435795200-1435881599@www.monmouth.edu
SUMMARY:End Continuing Registration Summer Session E
DESCRIPTION:
URL:https://www.monmouth.edu/events/event/end-continuing-registration-summer-session-e/
CATEGORIES:Academic Calendar,Current Student
ATTACH;FMTTYPE=image/jpeg:https://www.monmouth.edu/events/wp-content/uploads/sites/19/2018/07/holiday-breaks-placeholder.jpg
END:VEVENT
BEGIN:VEVENT
DTSTART;VALUE=DATE:20150702
DTEND;VALUE=DATE:20150703
DTSTAMP:20260419T115539
CREATED:20180725T204356Z
LAST-MODIFIED:20180725T204356Z
UID:40810102517-1435795200-1435881599@www.monmouth.edu
SUMMARY:Withdrawal Deadline Summer Session D
DESCRIPTION:
URL:https://www.monmouth.edu/events/event/withdrawal-deadline-summer-session-d/
CATEGORIES:Academic Calendar,Current Student
ATTACH;FMTTYPE=image/jpeg:https://www.monmouth.edu/events/wp-content/uploads/sites/19/2018/07/MUDisplay.jpg
END:VEVENT
BEGIN:VEVENT
DTSTART;TZID=America/New_York:20150619T090000
DTEND;TZID=America/New_York:20150619T090000
DTSTAMP:20260419T115539
CREATED:20180725T204403Z
LAST-MODIFIED:20180725T204403Z
UID:40810102574-1434704400-1434704400@www.monmouth.edu
SUMMARY:Grades Due Summer Session A
DESCRIPTION:
URL:https://www.monmouth.edu/events/event/grades-due-summer-session-a/
CATEGORIES:Academic Calendar,Current Student,Faculty
ATTACH;FMTTYPE=image/jpeg:https://www.monmouth.edu/events/wp-content/uploads/sites/19/2018/07/holiday-breaks-placeholder.jpg
END:VEVENT
BEGIN:VEVENT
DTSTART;VALUE=DATE:20150618
DTEND;VALUE=DATE:20150619
DTSTAMP:20260419T115539
CREATED:20180725T204401Z
LAST-MODIFIED:20180725T204401Z
UID:40810102556-1434585600-1434671999@www.monmouth.edu
SUMMARY:Withdrawal Deadline Summer Session B
DESCRIPTION:
URL:https://www.monmouth.edu/events/event/withdrawal-deadline-summer-session-b/
CATEGORIES:Academic Calendar,Current Student
ATTACH;FMTTYPE=image/jpeg:https://www.monmouth.edu/events/wp-content/uploads/sites/19/2018/07/MUDisplay.jpg
END:VEVENT
BEGIN:VEVENT
DTSTART;VALUE=DATE:20150617
DTEND;VALUE=DATE:20150624
DTSTAMP:20260419T115539
CREATED:20180725T204356Z
LAST-MODIFIED:20180725T204356Z
UID:40810102511-1434499200-1435103999@www.monmouth.edu
SUMMARY:Late Registration/Drop-Add - Summer Session D
DESCRIPTION:
URL:https://www.monmouth.edu/events/event/late-registration-drop-add-summer-session-d/
CATEGORIES:Academic Calendar,Current Student
ATTACH;FMTTYPE=image/jpeg:https://www.monmouth.edu/events/wp-content/uploads/sites/19/2018/07/holiday-breaks-placeholder.jpg
END:VEVENT
BEGIN:VEVENT
DTSTART;VALUE=DATE:20150615
DTEND;VALUE=DATE:20150616
DTSTAMP:20260419T115539
CREATED:20180725T204358Z
LAST-MODIFIED:20180725T204358Z
UID:40810102529-1434326400-1434412799@www.monmouth.edu
SUMMARY:End Continuing Registration Summer Session D
DESCRIPTION:
URL:https://www.monmouth.edu/events/event/end-continuing-registration-summer-session-d/
CATEGORIES:Academic Calendar,Current Student
ATTACH;FMTTYPE=image/jpeg:https://www.monmouth.edu/events/wp-content/uploads/sites/19/2018/07/holiday-breaks-placeholder.jpg
END:VEVENT
BEGIN:VEVENT
DTSTART;VALUE=DATE:20150604
DTEND;VALUE=DATE:20150605
DTSTAMP:20260419T115539
CREATED:20180725T204403Z
LAST-MODIFIED:20180725T204403Z
UID:40810102568-1433376000-1433462399@www.monmouth.edu
SUMMARY:Withdrawal Deadline Summer Session A
DESCRIPTION:
URL:https://www.monmouth.edu/events/event/withdrawal-deadline-summer-session-a/
CATEGORIES:Academic Calendar,Current Student
ATTACH;FMTTYPE=image/jpeg:https://www.monmouth.edu/events/wp-content/uploads/sites/19/2018/07/MUDisplay.jpg
END:VEVENT
BEGIN:VEVENT
DTSTART;VALUE=DATE:20150529
DTEND;VALUE=DATE:20150530
DTSTAMP:20260419T115539
CREATED:20180725T204404Z
LAST-MODIFIED:20180725T204404Z
UID:40810102583-1432857600-1432943999@www.monmouth.edu
SUMMARY:Summer Session A Follow Wednesday Class Schedule
DESCRIPTION:
URL:https://www.monmouth.edu/events/event/summer-session-a-follow-wednesday-class-schedule/
CATEGORIES:Academic Calendar,Current Student
ATTACH;FMTTYPE=image/jpeg:https://www.monmouth.edu/events/wp-content/uploads/sites/19/2018/07/holiday-breaks-placeholder.jpg
END:VEVENT
BEGIN:VEVENT
DTSTART;VALUE=DATE:20150526
DTEND;VALUE=DATE:20150602
DTSTAMP:20260419T115539
CREATED:20180725T204401Z
LAST-MODIFIED:20180725T204401Z
UID:40810102553-1432598400-1433203199@www.monmouth.edu
SUMMARY:Late Registration/Drop-Add - Summer Session B
DESCRIPTION:
URL:https://www.monmouth.edu/events/event/late-registration-drop-add-summer-session-b/
CATEGORIES:Academic Calendar,Current Student
ATTACH;FMTTYPE=image/jpeg:https://www.monmouth.edu/events/wp-content/uploads/sites/19/2018/07/holiday-breaks-placeholder.jpg
END:VEVENT
BEGIN:VEVENT
DTSTART;VALUE=DATE:20150526
DTEND;VALUE=DATE:20150602
DTSTAMP:20260419T115539
CREATED:20180725T204359Z
LAST-MODIFIED:20180725T204359Z
UID:40810102535-1432598400-1433203199@www.monmouth.edu
SUMMARY:Late Registration/Drop-Add - Summer Session C
DESCRIPTION:
URL:https://www.monmouth.edu/events/event/late-registration-drop-add-summer-session-c/
CATEGORIES:Academic Calendar,Current Student
ATTACH;FMTTYPE=image/jpeg:https://www.monmouth.edu/events/wp-content/uploads/sites/19/2018/07/holiday-breaks-placeholder.jpg
END:VEVENT
BEGIN:VEVENT
DTSTART;VALUE=DATE:20150525
DTEND;VALUE=DATE:20150526
DTSTAMP:20260419T115539
CREATED:20180725T204422Z
LAST-MODIFIED:20180725T204422Z
UID:40810102721-1432512000-1432598399@www.monmouth.edu
SUMMARY:Memorial Day
DESCRIPTION:
URL:https://www.monmouth.edu/events/event/memorial-day/
CATEGORIES:Academic Calendar,Holiday / Breaks
ATTACH;FMTTYPE=image/jpeg:https://www.monmouth.edu/events/wp-content/uploads/sites/19/2018/07/holiday-breaks-placeholder.jpg
END:VEVENT
BEGIN:VEVENT
DTSTART;VALUE=DATE:20150521
DTEND;VALUE=DATE:20150522
DTSTAMP:20260419T115539
CREATED:20180725T204402Z
LAST-MODIFIED:20180725T204402Z
UID:40810102562-1432166400-1432252799@www.monmouth.edu
SUMMARY:End Continuing Registration Summer Session B
DESCRIPTION:
URL:https://www.monmouth.edu/events/event/end-continuing-registration-summer-session-b/
CATEGORIES:Academic Calendar,Current Student
ATTACH;FMTTYPE=image/jpeg:https://www.monmouth.edu/events/wp-content/uploads/sites/19/2018/07/holiday-breaks-placeholder.jpg
END:VEVENT
BEGIN:VEVENT
DTSTART;VALUE=DATE:20150521
DTEND;VALUE=DATE:20150522
DTSTAMP:20260419T115539
CREATED:20180725T204400Z
LAST-MODIFIED:20180725T204400Z
UID:40810102547-1432166400-1432252799@www.monmouth.edu
SUMMARY:End Continuing Registration Summer Session C
DESCRIPTION:
URL:https://www.monmouth.edu/events/event/end-continuing-registration-summer-session-c/
CATEGORIES:Academic Calendar,Current Student
ATTACH;FMTTYPE=image/jpeg:https://www.monmouth.edu/events/wp-content/uploads/sites/19/2018/07/holiday-breaks-placeholder.jpg
END:VEVENT
BEGIN:VEVENT
DTSTART;VALUE=DATE:20150518
DTEND;VALUE=DATE:20150523
DTSTAMP:20260419T115539
CREATED:20180725T204404Z
LAST-MODIFIED:20180725T204404Z
UID:40810102580-1431907200-1432339199@www.monmouth.edu
SUMMARY:Late Registration/Drop-Add - Summer Session A
DESCRIPTION:
URL:https://www.monmouth.edu/events/event/late-registration-drop-add-summer-session-a/
CATEGORIES:Academic Calendar,Current Student
ATTACH;FMTTYPE=image/jpeg:https://www.monmouth.edu/events/wp-content/uploads/sites/19/2018/07/holiday-breaks-placeholder.jpg
END:VEVENT
BEGIN:VEVENT
DTSTART;VALUE=DATE:20150514
DTEND;VALUE=DATE:20150515
DTSTAMP:20260419T115539
CREATED:20180725T204415Z
LAST-MODIFIED:20180725T204415Z
UID:40810102664-1431561600-1431647999@www.monmouth.edu
SUMMARY:Final Grades Due 10 p.m.
DESCRIPTION:
URL:https://www.monmouth.edu/events/event/final-grades-due-10-p-m/
CATEGORIES:Academic Calendar
ATTACH;FMTTYPE=image/jpeg:https://www.monmouth.edu/events/wp-content/uploads/sites/19/2018/07/holiday-breaks-placeholder.jpg
END:VEVENT
BEGIN:VEVENT
DTSTART;VALUE=DATE:20150514
DTEND;VALUE=DATE:20150515
DTSTAMP:20260419T115539
CREATED:20180725T204405Z
LAST-MODIFIED:20180725T204405Z
UID:40810102589-1431561600-1431647999@www.monmouth.edu
SUMMARY:End Continuing Registration Summer Session A
DESCRIPTION:
URL:https://www.monmouth.edu/events/event/end-continuing-registration-summer-session-a/
CATEGORIES:Academic Calendar,Current Student,Faculty
ATTACH;FMTTYPE=image/jpeg:https://www.monmouth.edu/events/wp-content/uploads/sites/19/2018/07/holiday-breaks-placeholder.jpg
END:VEVENT
BEGIN:VEVENT
DTSTART;VALUE=DATE:20150506
DTEND;VALUE=DATE:20150513
DTSTAMP:20260419T115539
CREATED:20180725T204415Z
LAST-MODIFIED:20180725T204415Z
UID:40810102661-1430870400-1431475199@www.monmouth.edu
SUMMARY:Final Exam Period
DESCRIPTION:
URL:https://www.monmouth.edu/events/event/final-exam-period/
CATEGORIES:Academic Calendar
ATTACH;FMTTYPE=image/jpeg:https://www.monmouth.edu/events/wp-content/uploads/sites/19/2018/07/holiday-breaks-placeholder.jpg
END:VEVENT
END:VCALENDAR