BEGIN:VCALENDAR
VERSION:2.0
PRODID:-//Events - ECPv6.15.20//NONSGML v1.0//EN
CALSCALE:GREGORIAN
METHOD:PUBLISH
X-WR-CALNAME:Events
X-ORIGINAL-URL:https://www.monmouth.edu/events
X-WR-CALDESC:Events for Events
REFRESH-INTERVAL;VALUE=DURATION:PT1H
X-Robots-Tag:noindex
X-PUBLISHED-TTL:PT1H
BEGIN:VTIMEZONE
TZID:America/New_York
BEGIN:DAYLIGHT
TZOFFSETFROM:-0500
TZOFFSETTO:-0400
TZNAME:EDT
DTSTART:20140309T070000
END:DAYLIGHT
BEGIN:STANDARD
TZOFFSETFROM:-0400
TZOFFSETTO:-0500
TZNAME:EST
DTSTART:20141102T060000
END:STANDARD
BEGIN:DAYLIGHT
TZOFFSETFROM:-0500
TZOFFSETTO:-0400
TZNAME:EDT
DTSTART:20150308T070000
END:DAYLIGHT
BEGIN:STANDARD
TZOFFSETFROM:-0400
TZOFFSETTO:-0500
TZNAME:EST
DTSTART:20151101T060000
END:STANDARD
BEGIN:DAYLIGHT
TZOFFSETFROM:-0500
TZOFFSETTO:-0400
TZNAME:EDT
DTSTART:20160313T070000
END:DAYLIGHT
BEGIN:STANDARD
TZOFFSETFROM:-0400
TZOFFSETTO:-0500
TZNAME:EST
DTSTART:20161106T060000
END:STANDARD
BEGIN:DAYLIGHT
TZOFFSETFROM:-0500
TZOFFSETTO:-0400
TZNAME:EDT
DTSTART:20170312T070000
END:DAYLIGHT
BEGIN:STANDARD
TZOFFSETFROM:-0400
TZOFFSETTO:-0500
TZNAME:EST
DTSTART:20171105T060000
END:STANDARD
BEGIN:DAYLIGHT
TZOFFSETFROM:-0500
TZOFFSETTO:-0400
TZNAME:EDT
DTSTART:20180311T070000
END:DAYLIGHT
BEGIN:STANDARD
TZOFFSETFROM:-0400
TZOFFSETTO:-0500
TZNAME:EST
DTSTART:20181104T060000
END:STANDARD
BEGIN:DAYLIGHT
TZOFFSETFROM:-0500
TZOFFSETTO:-0400
TZNAME:EDT
DTSTART:20190310T070000
END:DAYLIGHT
BEGIN:STANDARD
TZOFFSETFROM:-0400
TZOFFSETTO:-0500
TZNAME:EST
DTSTART:20191103T060000
END:STANDARD
BEGIN:DAYLIGHT
TZOFFSETFROM:-0500
TZOFFSETTO:-0400
TZNAME:EDT
DTSTART:20200308T070000
END:DAYLIGHT
BEGIN:STANDARD
TZOFFSETFROM:-0400
TZOFFSETTO:-0500
TZNAME:EST
DTSTART:20201101T060000
END:STANDARD
BEGIN:DAYLIGHT
TZOFFSETFROM:-0500
TZOFFSETTO:-0400
TZNAME:EDT
DTSTART:20210314T070000
END:DAYLIGHT
BEGIN:STANDARD
TZOFFSETFROM:-0400
TZOFFSETTO:-0500
TZNAME:EST
DTSTART:20211107T060000
END:STANDARD
BEGIN:DAYLIGHT
TZOFFSETFROM:-0500
TZOFFSETTO:-0400
TZNAME:EDT
DTSTART:20220313T070000
END:DAYLIGHT
BEGIN:STANDARD
TZOFFSETFROM:-0400
TZOFFSETTO:-0500
TZNAME:EST
DTSTART:20221106T060000
END:STANDARD
BEGIN:DAYLIGHT
TZOFFSETFROM:-0500
TZOFFSETTO:-0400
TZNAME:EDT
DTSTART:20230312T070000
END:DAYLIGHT
BEGIN:STANDARD
TZOFFSETFROM:-0400
TZOFFSETTO:-0500
TZNAME:EST
DTSTART:20231105T060000
END:STANDARD
BEGIN:DAYLIGHT
TZOFFSETFROM:-0500
TZOFFSETTO:-0400
TZNAME:EDT
DTSTART:20240310T070000
END:DAYLIGHT
BEGIN:STANDARD
TZOFFSETFROM:-0400
TZOFFSETTO:-0500
TZNAME:EST
DTSTART:20241103T060000
END:STANDARD
BEGIN:DAYLIGHT
TZOFFSETFROM:-0500
TZOFFSETTO:-0400
TZNAME:EDT
DTSTART:20250309T070000
END:DAYLIGHT
BEGIN:STANDARD
TZOFFSETFROM:-0400
TZOFFSETTO:-0500
TZNAME:EST
DTSTART:20251102T060000
END:STANDARD
END:VTIMEZONE
BEGIN:VEVENT
DTSTART;TZID=America/New_York:20241209T000000
DTEND;TZID=America/New_York:20241209T235959
DTSTAMP:20260419T075350
CREATED:20240903T134255Z
LAST-MODIFIED:20240904T165542Z
UID:40810113260-1733702400-1733788799@www.monmouth.edu
SUMMARY:Thirteenth Week Ends
DESCRIPTION:
URL:https://www.monmouth.edu/events/event/thirteenth-week-ends/
CATEGORIES:Academic Calendar
END:VEVENT
BEGIN:VEVENT
DTSTART;TZID=America/New_York:20241127T000000
DTEND;TZID=America/New_York:20241201T235959
DTSTAMP:20260419T075350
CREATED:20240903T133756Z
LAST-MODIFIED:20240904T165552Z
UID:40810113257-1732665600-1733097599@www.monmouth.edu
SUMMARY:Thanksgiving Holiday
DESCRIPTION:
URL:https://www.monmouth.edu/events/event/thanksgiving-holiday/
CATEGORIES:Academic Calendar
END:VEVENT
BEGIN:VEVENT
DTSTART;TZID=America/New_York:20241120T153000
DTEND;TZID=America/New_York:20241120T163000
DTSTAMP:20260419T075350
CREATED:20241118T140702Z
LAST-MODIFIED:20241118T140702Z
UID:40810115847-1732116600-1732120200@www.monmouth.edu
SUMMARY:Lens Collective Photography Interest Meeting 1
DESCRIPTION:Join us for the first meeting of Monmouth University’s new photography club\, the Lens Collective! This interest meeting is open to all students\, whether you’re a seasoned photographer or just curious about the art form. Learn about our upcoming plans\, share ideas\, and connect with others passionate about photography.
URL:https://www.monmouth.edu/events/event/lens-collective-photography-interest-meeting-1/
LOCATION:Art Building
CATEGORIES:Academic Calendar,Free,Student Activities
ORGANIZER;CN="Lens Collective Photography Club":MAILTO:s1383304@monmouth.edu
END:VEVENT
BEGIN:VEVENT
DTSTART;TZID=America/New_York:20241012T000000
DTEND;TZID=America/New_York:20241015T235959
DTSTAMP:20260419T075350
CREATED:20240903T133624Z
LAST-MODIFIED:20240904T165603Z
UID:40810113254-1728691200-1729036799@www.monmouth.edu
SUMMARY:Fall Holiday (non-weekend students)
DESCRIPTION:
URL:https://www.monmouth.edu/events/event/fall-holiday/
CATEGORIES:Academic Calendar
END:VEVENT
BEGIN:VEVENT
DTSTART;TZID=America/New_York:20240903T000000
DTEND;TZID=America/New_York:20240903T235959
DTSTAMP:20260419T075350
CREATED:20240830T151220Z
LAST-MODIFIED:20240904T161058Z
UID:40810113203-1725321600-1725407999@www.monmouth.edu
SUMMARY:Classes Begin
DESCRIPTION:
URL:https://www.monmouth.edu/events/event/classes-begin/
CATEGORIES:Academic Calendar
END:VEVENT
BEGIN:VEVENT
DTSTART;TZID=America/New_York:20210520T140000
DTEND;TZID=America/New_York:20210520T140000
DTSTAMP:20260419T075350
CREATED:20210503T203942Z
LAST-MODIFIED:20210503T203942Z
UID:40810110791-1621519200-1621519200@www.monmouth.edu
SUMMARY:Commencement - Bachelor candidates in the School of Education and the School of Science
DESCRIPTION:
URL:https://www.monmouth.edu/events/event/commencement-bachelor-candidates-in-the-school-of-education-and-the-school-of-science/
CATEGORIES:Academic Calendar,School of Education,School of Science
END:VEVENT
BEGIN:VEVENT
DTSTART;TZID=America/New_York:20210520T100000
DTEND;TZID=America/New_York:20210520T100000
DTSTAMP:20260419T075350
CREATED:20210503T203847Z
LAST-MODIFIED:20210503T203847Z
UID:40810110788-1621504800-1621504800@www.monmouth.edu
SUMMARY:Commencement - Bachelor candidates in the School of Business
DESCRIPTION:
URL:https://www.monmouth.edu/events/event/commencement-bachelor-candidates-in-the-school-of-business/
CATEGORIES:Academic Calendar,Leon Hess Business School
END:VEVENT
BEGIN:VEVENT
DTSTART;TZID=America/New_York:20210519T140000
DTEND;TZID=America/New_York:20210519T140000
DTSTAMP:20260419T075350
CREATED:20210503T203700Z
LAST-MODIFIED:20210503T203700Z
UID:40810110785-1621432800-1621432800@www.monmouth.edu
SUMMARY:Commencement - Bachelor candidates in the School of Nursing and Health Studies and the School of Social Work
DESCRIPTION:
URL:https://www.monmouth.edu/events/event/commencement-bachelor-candidates-in-the-school-of-nursing-and-health-studies-and-the-school-of-social-work/
CATEGORIES:Academic Calendar,School of Nursing and Health Studies,School of Social Work
END:VEVENT
BEGIN:VEVENT
DTSTART;TZID=America/New_York:20210519T100000
DTEND;TZID=America/New_York:20210519T100000
DTSTAMP:20260419T075350
CREATED:20210503T203549Z
LAST-MODIFIED:20210503T203549Z
UID:40810110782-1621418400-1621418400@www.monmouth.edu
SUMMARY:Commencement - Bachelor candidates in the School of Humanities and Social Sciences
DESCRIPTION:
URL:https://www.monmouth.edu/events/event/commencement-bachelor-candidates-in-the-school-of-humanities-and-social-sciences/
CATEGORIES:Academic Calendar,School of Humanities and Social Sciences
END:VEVENT
BEGIN:VEVENT
DTSTART;TZID=America/New_York:20210513T100000
DTEND;TZID=America/New_York:20210513T100000
DTSTAMP:20260419T075350
CREATED:20210503T203442Z
LAST-MODIFIED:20210503T203442Z
UID:40810110779-1620900000-1620900000@www.monmouth.edu
SUMMARY:Commencement - Master and Doctoral candidates in the School of Nursing & Health Studies\, the School of Social Work and the School of Science
DESCRIPTION:
URL:https://www.monmouth.edu/events/event/commencement-master-and-doctoral-candidates-in-the-school-of-nursing-health-studies-the-school-of-social-work-and-the-school-of-science/
CATEGORIES:Academic Calendar,Graduate School,School of Nursing and Health Studies,School of Science,School of Social Work
END:VEVENT
BEGIN:VEVENT
DTSTART;TZID=America/New_York:20210512T140000
DTEND;TZID=America/New_York:20210512T140000
DTSTAMP:20260419T075350
CREATED:20210503T203151Z
LAST-MODIFIED:20210520T121229Z
UID:40810110776-1620828000-1620828000@www.monmouth.edu
SUMMARY:Commencement - Master and Doctoral candidates in the School of Humanities & Social Sciences\, the School of Business and the School of Education
DESCRIPTION:
URL:https://www.monmouth.edu/events/event/commencement-master-and-doctoral-candidates-in-the-school-of-humanities-social-sciences-the-school-of-business-and-the-school-of-education/
CATEGORIES:Academic Calendar,Featured,Graduate School,Leon Hess Business School,School of Education,School of Humanities and Social Sciences
END:VEVENT
BEGIN:VEVENT
DTSTART;VALUE=DATE:20160906
DTEND;VALUE=DATE:20160907
DTSTAMP:20260419T075350
CREATED:20180725T203853Z
LAST-MODIFIED:20180725T203853Z
UID:40810101557-1473120000-1473206399@www.monmouth.edu
SUMMARY:Fall 2016 Semester Classes Begin (8:30 AM)
DESCRIPTION:
URL:https://www.monmouth.edu/events/event/fall-2016-semester-classes-begin-830-am/
CATEGORIES:Academic Calendar,Current Student
ATTACH;FMTTYPE=image/png:https://www.monmouth.edu/events/wp-content/uploads/sites/19/2018/07/FallSemesterStartPromo.png
END:VEVENT
BEGIN:VEVENT
DTSTART;VALUE=DATE:20160815
DTEND;VALUE=DATE:20160816
DTSTAMP:20260419T075350
CREATED:20180725T204355Z
LAST-MODIFIED:20180725T204355Z
UID:40810102508-1471219200-1471305599@www.monmouth.edu
SUMMARY:Summer Session E Classes End
DESCRIPTION:
URL:https://www.monmouth.edu/events/event/summer-session-e-classes-end/
CATEGORIES:Academic Calendar,Current Student
ATTACH;FMTTYPE=image/jpeg:https://www.monmouth.edu/events/wp-content/uploads/sites/19/2018/07/MUDisplay.jpg
END:VEVENT
BEGIN:VEVENT
DTSTART;VALUE=DATE:20160712
DTEND;VALUE=DATE:20160713
DTSTAMP:20260419T075350
CREATED:20180725T204355Z
LAST-MODIFIED:20180725T204355Z
UID:40810102505-1468281600-1468367999@www.monmouth.edu
SUMMARY:Summer Session D Classes End
DESCRIPTION:
URL:https://www.monmouth.edu/events/event/summer-session-d-classes-end/
CATEGORIES:Academic Calendar,Current Student
ATTACH;FMTTYPE=image/jpeg:https://www.monmouth.edu/events/wp-content/uploads/sites/19/2018/07/MUDisplay.jpg
END:VEVENT
BEGIN:VEVENT
DTSTART;VALUE=DATE:20160705
DTEND;VALUE=DATE:20160706
DTSTAMP:20260419T075350
CREATED:20180725T204357Z
LAST-MODIFIED:20180725T204357Z
UID:40810102523-1467676800-1467763199@www.monmouth.edu
SUMMARY:Summer Session E Classes Begin
DESCRIPTION:
URL:https://www.monmouth.edu/events/event/summer-session-e-classes-begin/
CATEGORIES:Academic Calendar,Current Student
ATTACH;FMTTYPE=image/jpeg:https://www.monmouth.edu/events/wp-content/uploads/sites/19/2018/07/MUDisplay.jpg
END:VEVENT
BEGIN:VEVENT
DTSTART;VALUE=DATE:20160704
DTEND;VALUE=DATE:20160705
DTSTAMP:20260419T075350
CREATED:20180725T204627Z
LAST-MODIFIED:20180725T204627Z
UID:40810103267-1467590400-1467676799@www.monmouth.edu
SUMMARY:Independence Day Holiday
DESCRIPTION:Have a wonderful holiday!
URL:https://www.monmouth.edu/events/event/independence-day-holiday/
CATEGORIES:Academic Calendar,Community Member,Current Student,Faculty,Holiday / Breaks
ATTACH;FMTTYPE=image/jpeg:https://www.monmouth.edu/events/wp-content/uploads/sites/19/2018/07/MUDisplay.jpg
END:VEVENT
BEGIN:VEVENT
DTSTART;VALUE=DATE:20160701
DTEND;VALUE=DATE:20160702
DTSTAMP:20260419T075350
CREATED:20180725T204401Z
LAST-MODIFIED:20180725T204401Z
UID:40810102559-1467331200-1467417599@www.monmouth.edu
SUMMARY:Summer Session B Classes End
DESCRIPTION:
URL:https://www.monmouth.edu/events/event/summer-session-b-classes-end/
CATEGORIES:Academic Calendar,Current Student
ATTACH;FMTTYPE=image/jpeg:https://www.monmouth.edu/events/wp-content/uploads/sites/19/2018/07/MUDisplay.jpg
END:VEVENT
BEGIN:VEVENT
DTSTART;VALUE=DATE:20160615
DTEND;VALUE=DATE:20160616
DTSTAMP:20260419T075350
CREATED:20180725T204357Z
LAST-MODIFIED:20180725T204357Z
UID:40810102520-1465948800-1466035199@www.monmouth.edu
SUMMARY:Summer Session D Classes Begin
DESCRIPTION:
URL:https://www.monmouth.edu/events/event/summer-session-d-classes-begin/
CATEGORIES:Academic Calendar,Current Student
ATTACH;FMTTYPE=image/jpeg:https://www.monmouth.edu/events/wp-content/uploads/sites/19/2018/07/MUDisplay.jpg
END:VEVENT
BEGIN:VEVENT
DTSTART;VALUE=DATE:20160606
DTEND;VALUE=DATE:20160607
DTSTAMP:20260419T075350
CREATED:20180725T204403Z
LAST-MODIFIED:20180725T204403Z
UID:40810102571-1465171200-1465257599@www.monmouth.edu
SUMMARY:Summer Session A Classes End
DESCRIPTION:
URL:https://www.monmouth.edu/events/event/summer-session-a-classes-end/
CATEGORIES:Academic Calendar,Current Student
ATTACH;FMTTYPE=image/jpeg:https://www.monmouth.edu/events/wp-content/uploads/sites/19/2018/07/MUDisplay.jpg
END:VEVENT
BEGIN:VEVENT
DTSTART;VALUE=DATE:20160530
DTEND;VALUE=DATE:20160531
DTSTAMP:20260419T075350
CREATED:20180725T204719Z
LAST-MODIFIED:20180725T204719Z
UID:40810103510-1464566400-1464652799@www.monmouth.edu
SUMMARY:Memorial Day
DESCRIPTION:
URL:https://www.monmouth.edu/events/event/memorial-day-2/
CATEGORIES:Academic Calendar,Community Member,Current Student,Faculty,Holiday / Breaks
ATTACH;FMTTYPE=image/jpeg:https://www.monmouth.edu/events/wp-content/uploads/sites/19/2018/07/MUDisplay.jpg
END:VEVENT
BEGIN:VEVENT
DTSTART;VALUE=DATE:20160523
DTEND;VALUE=DATE:20160524
DTSTAMP:20260419T075350
CREATED:20180725T204402Z
LAST-MODIFIED:20180725T204402Z
UID:40810102565-1463961600-1464047999@www.monmouth.edu
SUMMARY:Summer Session B Classes Begin
DESCRIPTION:
URL:https://www.monmouth.edu/events/event/summer-session-b-classes-begin/
CATEGORIES:Academic Calendar,Current Student
ATTACH;FMTTYPE=image/jpeg:https://www.monmouth.edu/events/wp-content/uploads/sites/19/2018/07/MUDisplay.jpg
END:VEVENT
BEGIN:VEVENT
DTSTART;VALUE=DATE:20160523
DTEND;VALUE=DATE:20160524
DTSTAMP:20260419T075350
CREATED:20180725T204400Z
LAST-MODIFIED:20180725T204400Z
UID:40810102550-1463961600-1464047999@www.monmouth.edu
SUMMARY:Summer Session C Classes Begin
DESCRIPTION:
URL:https://www.monmouth.edu/events/event/summer-session-c-classes-begin/
CATEGORIES:Academic Calendar,Current Student
ATTACH;FMTTYPE=image/jpeg:https://www.monmouth.edu/events/wp-content/uploads/sites/19/2018/07/MUDisplay.jpg
END:VEVENT
BEGIN:VEVENT
DTSTART;VALUE=DATE:20160513
DTEND;VALUE=DATE:20160514
DTSTAMP:20260419T075350
CREATED:20180725T204623Z
LAST-MODIFIED:20180725T204623Z
UID:40810103225-1463097600-1463183999@www.monmouth.edu
SUMMARY:Spring Commencement
DESCRIPTION:
URL:https://www.monmouth.edu/events/event/spring-commencement/
CATEGORIES:Academic Calendar
ATTACH;FMTTYPE=image/png:https://www.monmouth.edu/events/wp-content/uploads/sites/19/2018/07/commencement-display.png
END:VEVENT
BEGIN:VEVENT
DTSTART;VALUE=DATE:20160509
DTEND;VALUE=DATE:20160510
DTSTAMP:20260419T075350
CREATED:20180725T204404Z
LAST-MODIFIED:20180725T204404Z
UID:40810102577-1462752000-1462838399@www.monmouth.edu
SUMMARY:Summer Session A Classes Begin
DESCRIPTION:
URL:https://www.monmouth.edu/events/event/summer-session-a-classes-begin/
CATEGORIES:Academic Calendar,Current Student
ATTACH;FMTTYPE=image/jpeg:https://www.monmouth.edu/events/wp-content/uploads/sites/19/2018/07/MUDisplay.jpg
END:VEVENT
BEGIN:VEVENT
DTSTART;VALUE=DATE:20160118
DTEND;VALUE=DATE:20160119
DTSTAMP:20260419T075350
CREATED:20180725T204719Z
LAST-MODIFIED:20180725T204719Z
UID:40810103504-1453075200-1453161599@www.monmouth.edu
SUMMARY:Martin Luther King Jr.'s Birthday
DESCRIPTION:
URL:https://www.monmouth.edu/events/event/martin-luther-king-jr-s-birthday/
CATEGORIES:Academic Calendar,Community Member,Current Student,Faculty,Holiday / Breaks
ATTACH;FMTTYPE=image/jpeg:https://www.monmouth.edu/events/wp-content/uploads/sites/19/2018/07/MUDisplay.jpg
END:VEVENT
BEGIN:VEVENT
DTSTART;TZID=America/New_York:20150821T090000
DTEND;TZID=America/New_York:20150821T090000
DTSTAMP:20260419T075350
CREATED:20180725T204358Z
LAST-MODIFIED:20180725T204358Z
UID:40810102526-1440147600-1440147600@www.monmouth.edu
SUMMARY:Grades Due Summer Session C
DESCRIPTION:
URL:https://www.monmouth.edu/events/event/grades-due-summer-session-c/
CATEGORIES:Academic Calendar,Current Student
ATTACH;FMTTYPE=image/jpeg:https://www.monmouth.edu/events/wp-content/uploads/sites/19/2018/07/holiday-breaks-placeholder.jpg
END:VEVENT
BEGIN:VEVENT
DTSTART;TZID=America/New_York:20150821T090000
DTEND;TZID=America/New_York:20150821T090000
DTSTAMP:20260419T075350
CREATED:20180725T204354Z
LAST-MODIFIED:20180725T204354Z
UID:40810102499-1440147600-1440147600@www.monmouth.edu
SUMMARY:Grades Due Summer Session E
DESCRIPTION:
URL:https://www.monmouth.edu/events/event/grades-due-summer-session-e/
CATEGORIES:Academic Calendar,Current Student
ATTACH;FMTTYPE=image/jpeg:https://www.monmouth.edu/events/wp-content/uploads/sites/19/2018/07/holiday-breaks-placeholder.jpg
END:VEVENT
BEGIN:VEVENT
DTSTART;VALUE=DATE:20150817
DTEND;VALUE=DATE:20150818
DTSTAMP:20260419T075350
CREATED:20180725T204359Z
LAST-MODIFIED:20180725T204359Z
UID:40810102541-1439769600-1439855999@www.monmouth.edu
SUMMARY:Summer Session C Classes End
DESCRIPTION:
URL:https://www.monmouth.edu/events/event/summer-session-c-classes-end/
CATEGORIES:Academic Calendar,Current Student
ATTACH;FMTTYPE=image/jpeg:https://www.monmouth.edu/events/wp-content/uploads/sites/19/2018/07/MUDisplay.jpg
END:VEVENT
BEGIN:VEVENT
DTSTART;VALUE=DATE:20150730
DTEND;VALUE=DATE:20150731
DTSTAMP:20260419T075350
CREATED:20180725T204355Z
LAST-MODIFIED:20180725T204355Z
UID:40810102502-1438214400-1438300799@www.monmouth.edu
SUMMARY:Withdrawal Deadline Summer Session E
DESCRIPTION:
URL:https://www.monmouth.edu/events/event/withdrawal-deadline-summer-session-e/
CATEGORIES:Academic Calendar,Current Student
ATTACH;FMTTYPE=image/jpeg:https://www.monmouth.edu/events/wp-content/uploads/sites/19/2018/07/MUDisplay.jpg
END:VEVENT
BEGIN:VEVENT
DTSTART;TZID=America/New_York:20150717T090000
DTEND;TZID=America/New_York:20150717T090000
DTSTAMP:20260419T075350
CREATED:20180725T204354Z
LAST-MODIFIED:20180725T204354Z
UID:40810102496-1437123600-1437123600@www.monmouth.edu
SUMMARY:Grades Due Summer Session D
DESCRIPTION:
URL:https://www.monmouth.edu/events/event/grades-due-summer-session-d/
CATEGORIES:Academic Calendar,Current Student
ATTACH;FMTTYPE=image/jpeg:https://www.monmouth.edu/events/wp-content/uploads/sites/19/2018/07/holiday-breaks-placeholder.jpg
END:VEVENT
END:VCALENDAR