BEGIN:VCALENDAR
VERSION:2.0
PRODID:-//Events - ECPv6.15.20//NONSGML v1.0//EN
CALSCALE:GREGORIAN
METHOD:PUBLISH
X-WR-CALNAME:Events
X-ORIGINAL-URL:https://www.monmouth.edu/events
X-WR-CALDESC:Events for Events
REFRESH-INTERVAL;VALUE=DURATION:PT1H
X-Robots-Tag:noindex
X-PUBLISHED-TTL:PT1H
BEGIN:VTIMEZONE
TZID:America/New_York
BEGIN:DAYLIGHT
TZOFFSETFROM:-0500
TZOFFSETTO:-0400
TZNAME:EDT
DTSTART:20120311T070000
END:DAYLIGHT
BEGIN:STANDARD
TZOFFSETFROM:-0400
TZOFFSETTO:-0500
TZNAME:EST
DTSTART:20121104T060000
END:STANDARD
BEGIN:DAYLIGHT
TZOFFSETFROM:-0500
TZOFFSETTO:-0400
TZNAME:EDT
DTSTART:20130310T070000
END:DAYLIGHT
BEGIN:STANDARD
TZOFFSETFROM:-0400
TZOFFSETTO:-0500
TZNAME:EST
DTSTART:20131103T060000
END:STANDARD
BEGIN:DAYLIGHT
TZOFFSETFROM:-0500
TZOFFSETTO:-0400
TZNAME:EDT
DTSTART:20140309T070000
END:DAYLIGHT
BEGIN:STANDARD
TZOFFSETFROM:-0400
TZOFFSETTO:-0500
TZNAME:EST
DTSTART:20141102T060000
END:STANDARD
BEGIN:DAYLIGHT
TZOFFSETFROM:-0500
TZOFFSETTO:-0400
TZNAME:EDT
DTSTART:20150308T070000
END:DAYLIGHT
BEGIN:STANDARD
TZOFFSETFROM:-0400
TZOFFSETTO:-0500
TZNAME:EST
DTSTART:20151101T060000
END:STANDARD
END:VTIMEZONE
BEGIN:VEVENT
DTSTART;VALUE=DATE:20140313
DTEND;VALUE=DATE:20140320
DTSTAMP:20260419T235917
CREATED:20180725T204626Z
LAST-MODIFIED:20180725T204626Z
UID:40810103252-1394668800-1395273599@www.monmouth.edu
SUMMARY:Undergraduate Mid-Term Grades
DESCRIPTION:
URL:https://www.monmouth.edu/events/event/undergraduate-mid-term-grades/
CATEGORIES:Academic Calendar
END:VEVENT
BEGIN:VEVENT
DTSTART;VALUE=DATE:20140310
DTEND;VALUE=DATE:20140326
DTSTAMP:20260419T235917
CREATED:20180725T204626Z
LAST-MODIFIED:20180725T204626Z
UID:40810103249-1394409600-1395791999@www.monmouth.edu
SUMMARY:Advanced Summer Registration Begins
DESCRIPTION:
URL:https://www.monmouth.edu/events/event/advanced-summer-registration-begins/
CATEGORIES:Academic Calendar
ATTACH;FMTTYPE=image/jpeg:https://www.monmouth.edu/events/wp-content/uploads/sites/19/2018/07/holiday-breaks-placeholder.jpg
END:VEVENT
BEGIN:VEVENT
DTSTART;VALUE=DATE:20140310
DTEND;VALUE=DATE:20140311
DTSTAMP:20260419T235917
CREATED:20180725T204626Z
LAST-MODIFIED:20180725T204626Z
UID:40810103246-1394409600-1394495999@www.monmouth.edu
SUMMARY:Pattern "A" Classes End
DESCRIPTION:
URL:https://www.monmouth.edu/events/event/pattern-a-classes-end-2/
CATEGORIES:Academic Calendar
ATTACH;FMTTYPE=image/jpeg:https://www.monmouth.edu/events/wp-content/uploads/sites/19/2018/07/holiday-breaks-placeholder.jpg
END:VEVENT
BEGIN:VEVENT
DTSTART;VALUE=DATE:20131010
DTEND;VALUE=DATE:20131012
DTSTAMP:20260419T235917
CREATED:20180725T204717Z
LAST-MODIFIED:20180725T204717Z
UID:40810103474-1381363200-1381535999@www.monmouth.edu
SUMMARY:Fall Holiday; No Thursday or Friday Classes
DESCRIPTION:
URL:https://www.monmouth.edu/events/event/fall-holiday-no-thursday-or-friday-classes/
CATEGORIES:Academic Calendar
END:VEVENT
BEGIN:VEVENT
DTSTART;VALUE=DATE:20130930
DTEND;VALUE=DATE:20131001
DTSTAMP:20260419T235917
CREATED:20180725T204718Z
LAST-MODIFIED:20180725T204718Z
UID:40810103498-1380499200-1380585599@www.monmouth.edu
SUMMARY:Withdrawal Deadline Pattern "A" Classes
DESCRIPTION:
URL:https://www.monmouth.edu/events/event/withdrawal-deadline-pattern-a-classes-2/
CATEGORIES:Academic Calendar
ATTACH;FMTTYPE=image/jpeg:https://www.monmouth.edu/events/wp-content/uploads/sites/19/2018/07/MUDisplay.jpg
END:VEVENT
BEGIN:VEVENT
DTSTART;VALUE=DATE:20130903
DTEND;VALUE=DATE:20130911
DTSTAMP:20260419T235917
CREATED:20180725T204718Z
LAST-MODIFIED:20180725T204718Z
UID:40810103495-1378166400-1378857599@www.monmouth.edu
SUMMARY:Late Registration/Drop-Add
DESCRIPTION:
URL:https://www.monmouth.edu/events/event/late-registration-drop-add-2/
CATEGORIES:Academic Calendar
ATTACH;FMTTYPE=image/jpeg:https://www.monmouth.edu/events/wp-content/uploads/sites/19/2018/07/holiday-breaks-placeholder.jpg
END:VEVENT
BEGIN:VEVENT
DTSTART;VALUE=DATE:20130830
DTEND;VALUE=DATE:20130831
DTSTAMP:20260419T235917
CREATED:20180725T204718Z
LAST-MODIFIED:20180725T204718Z
UID:40810103489-1377820800-1377907199@www.monmouth.edu
SUMMARY:Preliminary Classlists Available Online
DESCRIPTION:
URL:https://www.monmouth.edu/events/event/preliminary-classlists-available-online-2/
CATEGORIES:Academic Calendar
ATTACH;FMTTYPE=image/jpeg:https://www.monmouth.edu/events/wp-content/uploads/sites/19/2018/07/holiday-breaks-placeholder.jpg
END:VEVENT
BEGIN:VEVENT
DTSTART;VALUE=DATE:20130829
DTEND;VALUE=DATE:20130830
DTSTAMP:20260419T235917
CREATED:20180725T204718Z
LAST-MODIFIED:20180725T204718Z
UID:40810103486-1377734400-1377820799@www.monmouth.edu
SUMMARY:End of Continuing Registration - Fall
DESCRIPTION:
URL:https://www.monmouth.edu/events/event/end-of-continuing-registration-fall/
CATEGORIES:Academic Calendar
ATTACH;FMTTYPE=image/jpeg:https://www.monmouth.edu/events/wp-content/uploads/sites/19/2018/07/holiday-breaks-placeholder.jpg
END:VEVENT
END:VCALENDAR