BEGIN:VCALENDAR
VERSION:2.0
PRODID:-//Events - ECPv6.15.20//NONSGML v1.0//EN
CALSCALE:GREGORIAN
METHOD:PUBLISH
X-ORIGINAL-URL:https://www.monmouth.edu/events
X-WR-CALDESC:Events for Events
REFRESH-INTERVAL;VALUE=DURATION:PT1H
X-Robots-Tag:noindex
X-PUBLISHED-TTL:PT1H
BEGIN:VTIMEZONE
TZID:America/New_York
BEGIN:DAYLIGHT
TZOFFSETFROM:-0500
TZOFFSETTO:-0400
TZNAME:EDT
DTSTART:20140309T070000
END:DAYLIGHT
BEGIN:STANDARD
TZOFFSETFROM:-0400
TZOFFSETTO:-0500
TZNAME:EST
DTSTART:20141102T060000
END:STANDARD
BEGIN:DAYLIGHT
TZOFFSETFROM:-0500
TZOFFSETTO:-0400
TZNAME:EDT
DTSTART:20150308T070000
END:DAYLIGHT
BEGIN:STANDARD
TZOFFSETFROM:-0400
TZOFFSETTO:-0500
TZNAME:EST
DTSTART:20151101T060000
END:STANDARD
BEGIN:DAYLIGHT
TZOFFSETFROM:-0500
TZOFFSETTO:-0400
TZNAME:EDT
DTSTART:20160313T070000
END:DAYLIGHT
BEGIN:STANDARD
TZOFFSETFROM:-0400
TZOFFSETTO:-0500
TZNAME:EST
DTSTART:20161106T060000
END:STANDARD
END:VTIMEZONE
BEGIN:VEVENT
DTSTART;VALUE=DATE:20150301
DTEND;VALUE=DATE:20150302
DTSTAMP:20260425T124827
CREATED:20180725T204717Z
LAST-MODIFIED:20180725T204717Z
UID:40810103477-1425168000-1425254399@www.monmouth.edu
SUMMARY:Graduation Applications Deadline (for May Graduation)
DESCRIPTION:
URL:https://www.monmouth.edu/events/event/graduation-applications-deadline-for-may-graduation/
CATEGORIES:Academic Calendar
ATTACH;FMTTYPE=image/jpeg:https://www.monmouth.edu/events/wp-content/uploads/sites/19/2018/07/holiday-breaks-placeholder.jpg
END:VEVENT
BEGIN:VEVENT
DTSTART;VALUE=DATE:20150309
DTEND;VALUE=DATE:20150310
DTSTAMP:20260425T124827
CREATED:20180725T204413Z
LAST-MODIFIED:20180725T204413Z
UID:40810102622-1425859200-1425945599@www.monmouth.edu
SUMMARY:Pattern "A" Classes End
DESCRIPTION:
URL:https://www.monmouth.edu/events/event/pattern-a-classes-end/
CATEGORIES:Academic Calendar
ATTACH;FMTTYPE=image/jpeg:https://www.monmouth.edu/events/wp-content/uploads/sites/19/2018/07/holiday-breaks-placeholder.jpg
END:VEVENT
BEGIN:VEVENT
DTSTART;VALUE=DATE:20150310
DTEND;VALUE=DATE:20150311
DTSTAMP:20260425T124827
CREATED:20180725T204413Z
LAST-MODIFIED:20180725T204413Z
UID:40810102625-1425945600-1426031999@www.monmouth.edu
SUMMARY:Pattern "B" Classes Begin
DESCRIPTION:
URL:https://www.monmouth.edu/events/event/pattern-b-classes-begin/
CATEGORIES:Academic Calendar
ATTACH;FMTTYPE=image/jpeg:https://www.monmouth.edu/events/wp-content/uploads/sites/19/2018/07/holiday-breaks-placeholder.jpg
END:VEVENT
BEGIN:VEVENT
DTSTART;VALUE=DATE:20150310
DTEND;VALUE=DATE:20150311
DTSTAMP:20260425T124827
CREATED:20180725T204413Z
LAST-MODIFIED:20180725T204413Z
UID:40810102628-1425945600-1426031999@www.monmouth.edu
SUMMARY:Undergraduate Midterm Grades Due in Office of Registration and Records by 9:00am
DESCRIPTION:
URL:https://www.monmouth.edu/events/event/undergraduate-midterm-grades-due-in-office-of-registration-and-records-by-900am/
CATEGORIES:Academic Calendar
ATTACH;FMTTYPE=image/jpeg:https://www.monmouth.edu/events/wp-content/uploads/sites/19/2018/07/holiday-breaks-placeholder.jpg
END:VEVENT
BEGIN:VEVENT
DTSTART;VALUE=DATE:20150314
DTEND;VALUE=DATE:20150321
DTSTAMP:20260425T124827
CREATED:20180725T204413Z
LAST-MODIFIED:20180725T204413Z
UID:40810102634-1426291200-1426895999@www.monmouth.edu
SUMMARY:Spring Break
DESCRIPTION:
URL:https://www.monmouth.edu/events/event/spring-break/
CATEGORIES:Academic Calendar
ATTACH;FMTTYPE=image/jpeg:https://www.monmouth.edu/events/wp-content/uploads/sites/19/2018/07/holiday-breaks-placeholder.jpg
END:VEVENT
BEGIN:VEVENT
DTSTART;VALUE=DATE:20150330
DTEND;VALUE=DATE:20150331
DTSTAMP:20260425T124827
CREATED:20180725T204414Z
LAST-MODIFIED:20180725T204414Z
UID:40810102649-1427673600-1427759999@www.monmouth.edu
SUMMARY:Last day to Withdraw with "W" Grade (semester long classes)
DESCRIPTION:
URL:https://www.monmouth.edu/events/event/last-day-to-withdraw-with-w-grade-semester-long-classes/
CATEGORIES:Academic Calendar
ATTACH;FMTTYPE=image/jpeg:https://www.monmouth.edu/events/wp-content/uploads/sites/19/2018/07/holiday-breaks-placeholder.jpg
END:VEVENT
END:VCALENDAR