BEGIN:VCALENDAR
VERSION:2.0
PRODID:-//Events - ECPv6.15.20//NONSGML v1.0//EN
CALSCALE:GREGORIAN
METHOD:PUBLISH
X-WR-CALNAME:Events
X-ORIGINAL-URL:https://www.monmouth.edu/events
X-WR-CALDESC:Events for Events
REFRESH-INTERVAL;VALUE=DURATION:PT1H
X-Robots-Tag:noindex
X-PUBLISHED-TTL:PT1H
BEGIN:VTIMEZONE
TZID:America/New_York
BEGIN:DAYLIGHT
TZOFFSETFROM:-0500
TZOFFSETTO:-0400
TZNAME:EDT
DTSTART:20250309T070000
END:DAYLIGHT
BEGIN:STANDARD
TZOFFSETFROM:-0400
TZOFFSETTO:-0500
TZNAME:EST
DTSTART:20251102T060000
END:STANDARD
BEGIN:DAYLIGHT
TZOFFSETFROM:-0500
TZOFFSETTO:-0400
TZNAME:EDT
DTSTART:20260308T070000
END:DAYLIGHT
BEGIN:STANDARD
TZOFFSETFROM:-0400
TZOFFSETTO:-0500
TZNAME:EST
DTSTART:20261101T060000
END:STANDARD
BEGIN:DAYLIGHT
TZOFFSETFROM:-0500
TZOFFSETTO:-0400
TZNAME:EDT
DTSTART:20270314T070000
END:DAYLIGHT
BEGIN:STANDARD
TZOFFSETFROM:-0400
TZOFFSETTO:-0500
TZNAME:EST
DTSTART:20271107T060000
END:STANDARD
END:VTIMEZONE
BEGIN:VEVENT
DTSTART;TZID=America/New_York:20260413T100000
DTEND;TZID=America/New_York:20260426T170000
DTSTAMP:20260423T071750
CREATED:20260406T154257Z
LAST-MODIFIED:20260407T153154Z
UID:40810122127-1776074400-1777222800@www.monmouth.edu
SUMMARY:Robert Mueller - Man & Machine
DESCRIPTION:Exhibition Talk: 5pm on April 13th at the Great Hall Auditorium \nClosing Reception: April 26\, 6-8pm \nGallery Hours: Monday-Friday\, 10am-5pm | Saturday & Sunday\, 10am-4pm
URL:https://www.monmouth.edu/events/event/robert-mueller/
LOCATION:Rotary Ice House Gallery
CATEGORIES:Alumni,Art and Design,Arts at Monmouth,Current Student,Faculty,Free
ATTACH;FMTTYPE=image/jpeg:https://www.monmouth.edu/events/wp-content/uploads/sites/19/2026/04/5975e6f3-9f23-49ae-8b80-5f9c73833dc8-1.jpg
END:VEVENT
BEGIN:VEVENT
DTSTART;TZID=America/New_York:20260413T100000
DTEND;TZID=America/New_York:20260426T170000
DTSTAMP:20260423T071750
CREATED:20260406T160938Z
LAST-MODIFIED:20260406T213657Z
UID:40810122099-1776074400-1777222800@www.monmouth.edu
SUMMARY:Senior Exhibition 2026
DESCRIPTION:Featuring the work of Monmouth University graduating seniors who will receive their degrees from the Department of Art & Design. \nClosing Reception: April 26 from 1 to 4 p.m. \nGallery Hours: Monday-Friday\, 10am-5pm | Saturday & Sunday\, 10am-4pm
URL:https://www.monmouth.edu/events/event/senior-exhibition-2026/
LOCATION:DiMattio Gallery at Rechnitz Hall
CATEGORIES:Art and Design,Art Exhibitions,Arts at Monmouth,Free
ATTACH;FMTTYPE=image/jpeg:https://www.monmouth.edu/events/wp-content/uploads/sites/19/2026/04/758a97cc-6a2d-4213-a119-fae9046b1276-3.jpg
END:VEVENT
BEGIN:VEVENT
DTSTART;TZID=America/New_York:20260413T130000
DTEND;TZID=America/New_York:20260428T235500
DTSTAMP:20260423T071750
CREATED:20260413T215616Z
LAST-MODIFIED:20260413T215616Z
UID:40810122236-1776085200-1777420500@www.monmouth.edu
SUMMARY:Student Satisfaction Inventory
DESCRIPTION:We need your feedback! We are conducting the Student Satisfaction Inventory (SSI)\, a key tool we use to assess and strengthen the quality of your student experience at Monmouth. The SSI will help us better understand what we are doing wellnand what we could do better. It takes 15-20 minutes and can be completed on any device. Complete the SSI by 11:59 p.m. onnMonday\, April 27\, and you will automatically be entered into a random drawing to win one of 50+ incentives!nnn—nEvent Details: https://campusgroups.monmouth.edu/rsvp?id=376106
URL:https://www.monmouth.edu/events/event/student-satisfaction-inventory/
LOCATION:Online Event
ATTACH;FMTTYPE=image/png:https://www.monmouth.edu/events/wp-content/uploads/sites/19/2026/04/image_upload_607065_Screenshot_20260413_140233_4131430.png
END:VEVENT
BEGIN:VEVENT
DTSTART;TZID=America/New_York:20260423T090000
DTEND;TZID=America/New_York:20260423T170000
DTSTAMP:20260423T071750
CREATED:20260422T075536Z
LAST-MODIFIED:20260422T075536Z
UID:40810122329-1776934800-1776963600@www.monmouth.edu
SUMMARY:$5 AMC Movie Tickets
DESCRIPTION:The Office of Student Engagement has $5 AMC Movie Tickets. If you are interested\, please stop by the office with $5 cash. Students can get 1 ticket per week. n—nEvent Details: https://campusgroups.monmouth.edu/rsvp?id=376147
URL:https://www.monmouth.edu/events/event/5-amc-movie-tickets-2/
LOCATION:Sign into HawkHub to view the location
ATTACH;FMTTYPE=image/png:https://www.monmouth.edu/events/wp-content/uploads/sites/19/2026/04/image_upload_607065_5_Movie_Tickets_1920_x_1080_px_421144427.png
END:VEVENT
BEGIN:VEVENT
DTSTART;TZID=America/New_York:20260423T100000
DTEND;TZID=America/New_York:20260423T123000
DTSTAMP:20260423T071750
CREATED:20260417T035657Z
LAST-MODIFIED:20260417T035657Z
UID:40810122302-1776938400-1776947400@www.monmouth.edu
SUMMARY:The Card as Muse: Writing with Tarot & Oracle Cards
DESCRIPTION:Take a break from studying to join us for a creative reset.nnThis drop-in activity welcomes writers of all experience levels\, whether you write poetry\, fiction\, journal entries\, or are completely new to creative writing.nnCards and prompts provided.nnNo experience with tarot necessary.n—nEvent Details: https://campusgroups.monmouth.edu/rsvp?id=376133
URL:https://www.monmouth.edu/events/event/the-card-as-muse-writing-with-tarot-oracle-cards-2/
LOCATION:Sign into HawkHub to view the location
ATTACH;FMTTYPE=image/png:https://www.monmouth.edu/events/wp-content/uploads/sites/19/2026/04/image_upload_606310_Card_as_Muse_for_HawkHub_1280_x_640_px_416161958.png
END:VEVENT
BEGIN:VEVENT
DTSTART;TZID=America/New_York:20260423T110000
DTEND;TZID=America/New_York:20260424T235900
DTSTAMP:20260423T071750
CREATED:20251120T222427Z
LAST-MODIFIED:20260422T162917Z
UID:40810120257-1776942000-1777075140@www.monmouth.edu
SUMMARY:Men's Track and Field at Penn Relays
DESCRIPTION:Monmouth University Men’s Track and Field at Penn Relays
URL:https://www.monmouth.edu/events/event/monmouth-university-mens-track-and-field-at-penn-relays-2/
LOCATION:Philadelphia\, PA (Franklin Field)
CATEGORIES:Men's Track & Field
END:VEVENT
BEGIN:VEVENT
DTSTART;TZID=America/New_York:20260423T110000
DTEND;TZID=America/New_York:20260424T235900
DTSTAMP:20260423T071750
CREATED:20251121T163935Z
LAST-MODIFIED:20260422T161417Z
UID:40810120290-1776942000-1777075140@www.monmouth.edu
SUMMARY:Women's Track and Field at Penn Relays
DESCRIPTION:Monmouth University Women’s Track and Field at Penn Relays
URL:https://www.monmouth.edu/events/event/monmouth-university-womens-track-and-field-at-penn-relays-2/
LOCATION:Philadelphia\, PA (Franklin Field)
CATEGORIES:Women's Track & Field
END:VEVENT
BEGIN:VEVENT
DTSTART;TZID=America/New_York:20260423T120000
DTEND;TZID=America/New_York:20260423T130000
DTSTAMP:20260423T071750
CREATED:20260326T195607Z
LAST-MODIFIED:20260326T195607Z
UID:40810122005-1776945600-1776949200@www.monmouth.edu
SUMMARY:Get a New LinkedIn Profile Photo!
DESCRIPTION:Stop by the Career Development office (first floor of the Student Center\, next to the Info Booth) to get your professional profile photo taken in our new\, improved photo studio! We will be having open hours EVERY THURSDAY from 12 p.m. – 1 p.m. A member of our team will be available to answer questions and provide assistance if needed. Hope to see you there!n—nEvent Details: https://campusgroups.monmouth.edu/rsvp?id=375982
URL:https://www.monmouth.edu/events/event/get-a-new-linkedin-profile-photo-10/
LOCATION:Sign into HawkHub to view the location
ORGANIZER;CN="Career Development":MAILTO:careerdevelopment@monmouth.edu
END:VEVENT
BEGIN:VEVENT
DTSTART;TZID=America/New_York:20260423T180000
DTEND;TZID=America/New_York:20260423T200000
DTSTAMP:20260423T071750
CREATED:20260410T235535Z
LAST-MODIFIED:20260410T235535Z
UID:40810122227-1776967200-1776974400@www.monmouth.edu
SUMMARY:SLIME NIGHT!
DESCRIPTION:Slime\, good vibes\, and getting ready for finals the right way 🧠✨nnPull up and join RA Kiumbura x Monmouth University Black Student Union x IEEE/ACM for a chill slime making night while we tap into better study habits\, real routines\, and ways to take care of yourself through the semester grindnnGood energy only\, come throughn—nEvent Details: https://campusgroups.monmouth.edu/rsvp?id=376096
URL:https://www.monmouth.edu/events/event/slime-night/
LOCATION:Sign into HawkHub to view the location
END:VEVENT
BEGIN:VEVENT
DTSTART;TZID=America/New_York:20260423T180000
DTEND;TZID=America/New_York:20260423T203000
DTSTAMP:20260423T071750
CREATED:20260316T205526Z
LAST-MODIFIED:20260316T205526Z
UID:40810121876-1776967200-1776976200@www.monmouth.edu
SUMMARY:Adulting 101 Workshop
DESCRIPTION:Adulting 101 is a practical workshop designed to equip participants with essential life skills for everyday independence. nn nnPresentation topics include financial basics\, employee benefits\, communication\, and self-organization\, with actionable strategies to support confident\, informed decision-making post graduation!n—nEvent Details: https://campusgroups.monmouth.edu/rsvp?id=375946
URL:https://www.monmouth.edu/events/event/adulting-101-workshop/
LOCATION:Sign into HawkHub to view the location
ORGANIZER;CN="Career Development":MAILTO:careerdevelopment@monmouth.edu
END:VEVENT
BEGIN:VEVENT
DTSTART;TZID=America/New_York:20260423T183000
DTEND;TZID=America/New_York:20260423T193000
DTSTAMP:20260423T071750
CREATED:20250124T194555Z
LAST-MODIFIED:20250124T194555Z
UID:40810118483-1776969000-1776972600@www.monmouth.edu
SUMMARY:Zumba
DESCRIPTION:This class takes the “work” out of workout\, by mixing low-intensity and high-intensity moves for an interval-style\, calorie-burning dance fitness party.
URL:https://www.monmouth.edu/events/event/zumba/2026-04-23/
LOCATION:Boylan Gym South
ATTACH;FMTTYPE=image/jpeg:https://www.monmouth.edu/events/wp-content/uploads/sites/19/2025/01/M-Recreation-1.jpg
END:VEVENT
BEGIN:VEVENT
DTSTART;TZID=America/New_York:20260423T183000
DTEND;TZID=America/New_York:20260423T200000
DTSTAMP:20260423T071750
CREATED:20260416T025646Z
LAST-MODIFIED:20260416T025646Z
UID:40810122281-1776969000-1776974400@www.monmouth.edu
SUMMARY:Chalk It like Its Hot
DESCRIPTION:Chill out with HRA Amanda for ice pops and chalk art on the pinewood patio!n—nEvent Details: https://campusgroups.monmouth.edu/rsvp?id=376120
URL:https://www.monmouth.edu/events/event/chalk-it-like-its-hot/
LOCATION:Sign into HawkHub to view the location
ATTACH;FMTTYPE=image/png:https://www.monmouth.edu/events/wp-content/uploads/sites/19/2026/04/image_upload_600067_ChalkItLikeItsHotPinewood_Hall_415152245.png
END:VEVENT
BEGIN:VEVENT
DTSTART;TZID=America/New_York:20260423T190000
DTEND;TZID=America/New_York:20260423T213000
DTSTAMP:20260423T071750
CREATED:20251216T005633Z
LAST-MODIFIED:20251216T005633Z
UID:40810120449-1776970800-1776979800@www.monmouth.edu
SUMMARY:THURSDAY ALTERNATIVE - Pickleball Night
DESCRIPTION:It’s our last Thursday Alternative of 2025-2026!  Come join us for an evening of pickleball in Boylan Gym.  Bring your friends for some friendly competition\, snacks\, refreshments and prizes.n—nEvent Details: https://campusgroups.monmouth.edu/rsvp?id=375683
URL:https://www.monmouth.edu/events/event/thursday-alternative-pickleball-night-2/
LOCATION:Sign into HawkHub to view the location
ATTACH;FMTTYPE=image/jpeg:https://www.monmouth.edu/events/wp-content/uploads/sites/19/2025/12/image_upload_599692_download_20jfif_1215161951.jpeg
END:VEVENT
BEGIN:VEVENT
DTSTART;TZID=America/New_York:20260423T193000
DTEND;TZID=America/New_York:20260430T210000
DTSTAMP:20260423T071750
CREATED:20250722T181833Z
LAST-MODIFIED:20250722T181833Z
UID:40810119340-1776972600-1777582800@www.monmouth.edu
SUMMARY:'60s Girl Groups\, Part II
DESCRIPTION:Class Schedule: April 23\, 28\, & 30\, 2026 | 7:30 – 9:00 PM \nThe early 1960s began the girl group renaissance\, with prominent Brill Building songwriters and emerging producers such as Phil Spector crafting hits. Motown would further set the template\, with Martha and the Vandellas\, the Velvettes\, and the Marvelettes inspiring even British Invasion groups.  Perhaps no one defined the girl group aesthetic like the Supremes\, one of the most successful (and influential) acts of the 1960s. \n\n\nAs the next decade loomed\, the girl group genre was not as prominent on the charts.  Yet the Honey Cone\, the Emotions\, the Three Degrees\, and LaBelle added a thoroughly modern spin on the girl group sound\, adding elements of disco and funk.  The Pointer Sisters would achieve even greater success in the late 1970s and 1980s\, with the 1990s bringing a new wave of groups such as En Vogue\, the Spice Girls\, and SWV.  The trend continues today with an international flair\, as the hugely popular K-Pop genre has redrawn the blueprint with artists such as Blackpink and Twice. Part two travels through these eras\, exploring why the girl group genre continues to thrive. Multimedia presentations and discussions will help define how girl groups changed music and pop culture. \nZoom Link will be provided upon registration.
URL:https://www.monmouth.edu/events/event/60s-girl-groups-part-ii/
LOCATION:Virtual (Zoom)
CATEGORIES:Alumni,Arts at Monmouth,Community Member,Current Student,Faculty,Music,Music + Theatre Arts,Virtual
ATTACH;FMTTYPE=image/png:https://www.monmouth.edu/events/wp-content/uploads/sites/19/2025/07/Screenshot-2025-07-19-at-7.59.42-PM-1.png
ORGANIZER;CN="Kenneth Womack":MAILTO:kwomack@monmouth.edu
END:VEVENT
BEGIN:VEVENT
DTSTART;TZID=America/New_York:20260423T200000
DTEND;TZID=America/New_York:20260424T000000
DTSTAMP:20260423T071750
CREATED:20260423T075617Z
LAST-MODIFIED:20260423T075617Z
UID:40810122386-1776974400-1776988800@www.monmouth.edu
SUMMARY:Cards of Encouragement
DESCRIPTION:Residents can stop by the duty desk and write small letters of encouragement to their friends right before finals in the building and potentially other buildings with the option to attach some small candy to the note as a little piece of encouragement before finals. n—nEvent Details: https://campusgroups.monmouth.edu/rsvp?id=376170
URL:https://www.monmouth.edu/events/event/cards-of-encouragement/
LOCATION:Sign into HawkHub to view the location
ATTACH;FMTTYPE=image/jpeg:https://www.monmouth.edu/events/wp-content/uploads/sites/19/2026/04/image_upload_602702_sketch1776918492854webp_42303420.jpeg
END:VEVENT
END:VCALENDAR