BEGIN:VCALENDAR
VERSION:2.0
PRODID:-//Events - ECPv6.15.20//NONSGML v1.0//EN
CALSCALE:GREGORIAN
METHOD:PUBLISH
X-WR-CALNAME:Events
X-ORIGINAL-URL:https://www.monmouth.edu/events
X-WR-CALDESC:Events for Events
REFRESH-INTERVAL;VALUE=DURATION:PT1H
X-Robots-Tag:noindex
X-PUBLISHED-TTL:PT1H
BEGIN:VTIMEZONE
TZID:America/New_York
BEGIN:DAYLIGHT
TZOFFSETFROM:-0500
TZOFFSETTO:-0400
TZNAME:EDT
DTSTART:20250309T070000
END:DAYLIGHT
BEGIN:STANDARD
TZOFFSETFROM:-0400
TZOFFSETTO:-0500
TZNAME:EST
DTSTART:20251102T060000
END:STANDARD
BEGIN:DAYLIGHT
TZOFFSETFROM:-0500
TZOFFSETTO:-0400
TZNAME:EDT
DTSTART:20260308T070000
END:DAYLIGHT
BEGIN:STANDARD
TZOFFSETFROM:-0400
TZOFFSETTO:-0500
TZNAME:EST
DTSTART:20261101T060000
END:STANDARD
BEGIN:DAYLIGHT
TZOFFSETFROM:-0500
TZOFFSETTO:-0400
TZNAME:EDT
DTSTART:20270314T070000
END:DAYLIGHT
BEGIN:STANDARD
TZOFFSETFROM:-0400
TZOFFSETTO:-0500
TZNAME:EST
DTSTART:20271107T060000
END:STANDARD
END:VTIMEZONE
BEGIN:VEVENT
DTSTART;TZID=America/New_York:20260413T100000
DTEND;TZID=America/New_York:20260426T170000
DTSTAMP:20260421T011727
CREATED:20260406T154257Z
LAST-MODIFIED:20260407T153154Z
UID:40810122127-1776074400-1777222800@www.monmouth.edu
SUMMARY:Robert Mueller - Man & Machine
DESCRIPTION:Exhibition Talk: 5pm on April 13th at the Great Hall Auditorium \nClosing Reception: April 26\, 6-8pm \nGallery Hours: Monday-Friday\, 10am-5pm | Saturday & Sunday\, 10am-4pm
URL:https://www.monmouth.edu/events/event/robert-mueller/
LOCATION:Rotary Ice House Gallery
CATEGORIES:Alumni,Art and Design,Arts at Monmouth,Current Student,Faculty,Free
ATTACH;FMTTYPE=image/jpeg:https://www.monmouth.edu/events/wp-content/uploads/sites/19/2026/04/5975e6f3-9f23-49ae-8b80-5f9c73833dc8-1.jpg
END:VEVENT
BEGIN:VEVENT
DTSTART;TZID=America/New_York:20260413T100000
DTEND;TZID=America/New_York:20260426T170000
DTSTAMP:20260421T011727
CREATED:20260406T160938Z
LAST-MODIFIED:20260406T213657Z
UID:40810122099-1776074400-1777222800@www.monmouth.edu
SUMMARY:Senior Exhibition 2026
DESCRIPTION:Featuring the work of Monmouth University graduating seniors who will receive their degrees from the Department of Art & Design. \nClosing Reception: April 26 from 1 to 4 p.m. \nGallery Hours: Monday-Friday\, 10am-5pm | Saturday & Sunday\, 10am-4pm
URL:https://www.monmouth.edu/events/event/senior-exhibition-2026/
LOCATION:DiMattio Gallery at Rechnitz Hall
CATEGORIES:Art and Design,Art Exhibitions,Arts at Monmouth,Free
ATTACH;FMTTYPE=image/jpeg:https://www.monmouth.edu/events/wp-content/uploads/sites/19/2026/04/758a97cc-6a2d-4213-a119-fae9046b1276-3.jpg
END:VEVENT
BEGIN:VEVENT
DTSTART;TZID=America/New_York:20260413T130000
DTEND;TZID=America/New_York:20260428T235500
DTSTAMP:20260421T011727
CREATED:20260413T215616Z
LAST-MODIFIED:20260413T215616Z
UID:40810122236-1776085200-1777420500@www.monmouth.edu
SUMMARY:Student Satisfaction Inventory
DESCRIPTION:We need your feedback! We are conducting the Student Satisfaction Inventory (SSI)\, a key tool we use to assess and strengthen the quality of your student experience at Monmouth. The SSI will help us better understand what we are doing wellnand what we could do better. It takes 15-20 minutes and can be completed on any device. Complete the SSI by 11:59 p.m. onnMonday\, April 27\, and you will automatically be entered into a random drawing to win one of 50+ incentives!nnn—nEvent Details: https://campusgroups.monmouth.edu/rsvp?id=376106
URL:https://www.monmouth.edu/events/event/student-satisfaction-inventory/
LOCATION:Online Event
ATTACH;FMTTYPE=image/png:https://www.monmouth.edu/events/wp-content/uploads/sites/19/2026/04/image_upload_607065_Screenshot_20260413_140233_4131430.png
END:VEVENT
BEGIN:VEVENT
DTSTART;TZID=America/New_York:20260421T120000
DTEND;TZID=America/New_York:20260421T170000
DTSTAMP:20260421T011727
CREATED:20260417T035650Z
LAST-MODIFIED:20260417T035650Z
UID:40810122296-1776772800-1776790800@www.monmouth.edu
SUMMARY:The Card as Muse: Writing with Tarot & Oracle Cards
DESCRIPTION:Take a break from studying to join us for a creative reset.nnThis drop-in activity welcomes writers of all experience levels\, whether you write poetry\, fiction\, journal entries\, or are completely new to creative writing.nnCards and prompts provided.nnNo experience with tarot necessary.n—nEvent Details: https://campusgroups.monmouth.edu/rsvp?id=376132
URL:https://www.monmouth.edu/events/event/the-card-as-muse-writing-with-tarot-oracle-cards/
LOCATION:Sign into HawkHub to view the location
ATTACH;FMTTYPE=image/png:https://www.monmouth.edu/events/wp-content/uploads/sites/19/2026/04/image_upload_606310_Card_as_Muse_for_HawkHub_1280_x_640_px_416161958.png
END:VEVENT
BEGIN:VEVENT
DTSTART;TZID=America/New_York:20260421T150000
DTEND;TZID=America/New_York:20260421T180000
DTSTAMP:20260421T011727
CREATED:20260203T220919Z
LAST-MODIFIED:20260420T215918Z
UID:40810121313-1776783600-1776794400@www.monmouth.edu
SUMMARY:Baseball at LIU
DESCRIPTION:Monmouth University Baseball at LIU\nStreaming Video: http://necfrontrow.com/live-schedule?school=LIU&sport=BASE
URL:https://www.monmouth.edu/events/event/monmouth-university-baseball-at-liu/
LOCATION:Brooklyn\, NY
CATEGORIES:Men's Baseball
END:VEVENT
BEGIN:VEVENT
DTSTART;TZID=America/New_York:20260421T183000
DTEND;TZID=America/New_York:20260421T193000
DTSTAMP:20260421T011727
CREATED:20250124T194555Z
LAST-MODIFIED:20250124T194555Z
UID:40810118480-1776796200-1776799800@www.monmouth.edu
SUMMARY:Zumba
DESCRIPTION:This class takes the “work” out of workout\, by mixing low-intensity and high-intensity moves for an interval-style\, calorie-burning dance fitness party.
URL:https://www.monmouth.edu/events/event/zumba/2026-04-21/
LOCATION:Boylan Gym South
ATTACH;FMTTYPE=image/jpeg:https://www.monmouth.edu/events/wp-content/uploads/sites/19/2025/01/M-Recreation-1.jpg
END:VEVENT
BEGIN:VEVENT
DTSTART;TZID=America/New_York:20260421T193000
DTEND;TZID=America/New_York:20260421T213000
DTSTAMP:20260421T011727
CREATED:20250707T153935Z
LAST-MODIFIED:20260109T203638Z
UID:40810119288-1776799800-1776807000@www.monmouth.edu
SUMMARY:Classic for a Reason: Radiohead's OK\, Computer
DESCRIPTION:Class Schedule: April 21st\, 2026 | 7:30 – 9:00 PM \nJoin music historians Ken Womack & Kit O’Toole as they revisit classic record albums. With Classic for a Reason\, Ken & Kit will take listeners on a guided tour of our history’s most enduring popular musical accomplishments.
URL:https://www.monmouth.edu/events/event/classic-for-a-reason-radioheads-ok-computer/
LOCATION:Virtual
CATEGORIES:Alumni,Arts at Monmouth,Community Member,Current Student,Faculty,Music,Music + Theatre Arts,Virtual
ATTACH;FMTTYPE=image/png:https://www.monmouth.edu/events/wp-content/uploads/sites/19/2025/07/Screenshot-2025-07-02-at-1.46.39 PM-e1751902763704.png
ORGANIZER;CN="Kenneth Womack":MAILTO:kwomack@monmouth.edu
END:VEVENT
BEGIN:VEVENT
DTSTART;TZID=America/New_York:20260421T200000
DTEND;TZID=America/New_York:20260421T210000
DTSTAMP:20260421T011727
CREATED:20260416T025613Z
LAST-MODIFIED:20260416T025613Z
UID:40810122278-1776801600-1776805200@www.monmouth.edu
SUMMARY:Tote Bag Painting
DESCRIPTION:Come by and paint tote bags with the sisters of Lambda Theta Alpha Latin Sorority\, Inc – Tau chapter!n—nEvent Details: https://campusgroups.monmouth.edu/rsvp?id=376123
URL:https://www.monmouth.edu/events/event/tote-bag-painting/
LOCATION:Sign into HawkHub to view the location
ATTACH;FMTTYPE=image/png:https://www.monmouth.edu/events/wp-content/uploads/sites/19/2026/04/image_upload_600743_HawkHub_Banner_415192045.png
END:VEVENT
BEGIN:VEVENT
DTSTART;TZID=America/New_York:20260421T200000
DTEND;TZID=America/New_York:20260421T220000
DTSTAMP:20260421T011727
CREATED:20260413T215624Z
LAST-MODIFIED:20260413T215624Z
UID:40810122251-1776801600-1776808800@www.monmouth.edu
SUMMARY:Plant Some Kindess
DESCRIPTION:Celebrate Earth Day by adding your own touch to our community garden! Stop by to doodle a plant or flower and pair it with a positive affirmation to help brighten everyone’s day. As the semester comes to a close\, let’s grow some kindness and encouragement together and end on a positive noten—nEvent Details: https://campusgroups.monmouth.edu/rsvp?id=376107
URL:https://www.monmouth.edu/events/event/plant-some-kindess/
LOCATION:Sign into HawkHub to view the location
ATTACH;FMTTYPE=image/png:https://www.monmouth.edu/events/wp-content/uploads/sites/19/2026/04/image_upload_602708_Plant_some_Kindness_413142311.png
END:VEVENT
END:VCALENDAR