BEGIN:VCALENDAR
VERSION:2.0
PRODID:-//Events - ECPv6.15.20//NONSGML v1.0//EN
CALSCALE:GREGORIAN
METHOD:PUBLISH
X-WR-CALNAME:Events
X-ORIGINAL-URL:https://www.monmouth.edu/events
X-WR-CALDESC:Events for Events
REFRESH-INTERVAL;VALUE=DURATION:PT1H
X-Robots-Tag:noindex
X-PUBLISHED-TTL:PT1H
BEGIN:VTIMEZONE
TZID:America/New_York
BEGIN:DAYLIGHT
TZOFFSETFROM:-0500
TZOFFSETTO:-0400
TZNAME:EDT
DTSTART:20250309T070000
END:DAYLIGHT
BEGIN:STANDARD
TZOFFSETFROM:-0400
TZOFFSETTO:-0500
TZNAME:EST
DTSTART:20251102T060000
END:STANDARD
BEGIN:DAYLIGHT
TZOFFSETFROM:-0500
TZOFFSETTO:-0400
TZNAME:EDT
DTSTART:20260308T070000
END:DAYLIGHT
BEGIN:STANDARD
TZOFFSETFROM:-0400
TZOFFSETTO:-0500
TZNAME:EST
DTSTART:20261101T060000
END:STANDARD
BEGIN:DAYLIGHT
TZOFFSETFROM:-0500
TZOFFSETTO:-0400
TZNAME:EDT
DTSTART:20270314T070000
END:DAYLIGHT
BEGIN:STANDARD
TZOFFSETFROM:-0400
TZOFFSETTO:-0500
TZNAME:EST
DTSTART:20271107T060000
END:STANDARD
END:VTIMEZONE
BEGIN:VEVENT
DTSTART;TZID=America/New_York:20260413T100000
DTEND;TZID=America/New_York:20260426T170000
DTSTAMP:20260420T012159
CREATED:20260406T154257Z
LAST-MODIFIED:20260407T153154Z
UID:40810122127-1776074400-1777222800@www.monmouth.edu
SUMMARY:Robert Mueller - Man & Machine
DESCRIPTION:Exhibition Talk: 5pm on April 13th at the Great Hall Auditorium \nClosing Reception: April 26\, 6-8pm \nGallery Hours: Monday-Friday\, 10am-5pm | Saturday & Sunday\, 10am-4pm
URL:https://www.monmouth.edu/events/event/robert-mueller/
LOCATION:Rotary Ice House Gallery
CATEGORIES:Alumni,Art and Design,Arts at Monmouth,Current Student,Faculty,Free
ATTACH;FMTTYPE=image/jpeg:https://www.monmouth.edu/events/wp-content/uploads/sites/19/2026/04/5975e6f3-9f23-49ae-8b80-5f9c73833dc8-1.jpg
END:VEVENT
BEGIN:VEVENT
DTSTART;TZID=America/New_York:20260413T100000
DTEND;TZID=America/New_York:20260426T170000
DTSTAMP:20260420T012159
CREATED:20260406T160938Z
LAST-MODIFIED:20260406T213657Z
UID:40810122099-1776074400-1777222800@www.monmouth.edu
SUMMARY:Senior Exhibition 2026
DESCRIPTION:Featuring the work of Monmouth University graduating seniors who will receive their degrees from the Department of Art & Design. \nClosing Reception: April 26 from 1 to 4 p.m. \nGallery Hours: Monday-Friday\, 10am-5pm | Saturday & Sunday\, 10am-4pm
URL:https://www.monmouth.edu/events/event/senior-exhibition-2026/
LOCATION:DiMattio Gallery at Rechnitz Hall
CATEGORIES:Art and Design,Art Exhibitions,Arts at Monmouth,Free
ATTACH;FMTTYPE=image/jpeg:https://www.monmouth.edu/events/wp-content/uploads/sites/19/2026/04/758a97cc-6a2d-4213-a119-fae9046b1276-3.jpg
END:VEVENT
BEGIN:VEVENT
DTSTART;TZID=America/New_York:20260413T130000
DTEND;TZID=America/New_York:20260428T235500
DTSTAMP:20260420T012159
CREATED:20260413T215616Z
LAST-MODIFIED:20260413T215616Z
UID:40810122236-1776085200-1777420500@www.monmouth.edu
SUMMARY:Student Satisfaction Inventory
DESCRIPTION:We need your feedback! We are conducting the Student Satisfaction Inventory (SSI)\, a key tool we use to assess and strengthen the quality of your student experience at Monmouth. The SSI will help us better understand what we are doing wellnand what we could do better. It takes 15-20 minutes and can be completed on any device. Complete the SSI by 11:59 p.m. onnMonday\, April 27\, and you will automatically be entered into a random drawing to win one of 50+ incentives!nnn—nEvent Details: https://campusgroups.monmouth.edu/rsvp?id=376106
URL:https://www.monmouth.edu/events/event/student-satisfaction-inventory/
LOCATION:Online Event
ATTACH;FMTTYPE=image/png:https://www.monmouth.edu/events/wp-content/uploads/sites/19/2026/04/image_upload_607065_Screenshot_20260413_140233_4131430.png
END:VEVENT
BEGIN:VEVENT
DTSTART;TZID=America/New_York:20260420T120000
DTEND;TZID=America/New_York:20260420T130000
DTSTAMP:20260420T012159
CREATED:20260417T035649Z
LAST-MODIFIED:20260417T035649Z
UID:40810122293-1776686400-1776690000@www.monmouth.edu
SUMMARY:Lunch & Learn: Journeys of Asian American Faculty at Monmouth
DESCRIPTION:Students are invited to share a meal and join casual dialogue with two of our Monmouth faculty. Learn about their journey\, their pathway through higher education\, and the work they  do on and off campus to help build inclusive community. Free lunch\, and a special Asian snack raffle for attendees. ALL are welcome. n—nEvent Details: https://campusgroups.monmouth.edu/rsvp?id=376134
URL:https://www.monmouth.edu/events/event/lunch-learn-journeys-of-asian-american-faculty-at-monmouth/
LOCATION:Intercultural Center (Magill Commons)
ATTACH;FMTTYPE=image/jpeg:https://www.monmouth.edu/events/wp-content/uploads/sites/19/2026/04/image_upload_599698_IMG_1266_41623331.jpeg
ORGANIZER;CN="Intercultural Center":MAILTO:Intercultural@monmouth.edu
END:VEVENT
BEGIN:VEVENT
DTSTART;TZID=America/New_York:20260420T120000
DTEND;TZID=America/New_York:20260420T140000
DTSTAMP:20260420T012159
CREATED:20260416T025539Z
LAST-MODIFIED:20260416T025539Z
UID:40810122275-1776686400-1776693600@www.monmouth.edu
SUMMARY:Founders Flan Bake Sale
DESCRIPTION:Treat yourself to a sweet treat! Potion of purchase will go towards a donation to St Jude Children’s Research Hospital!n—nEvent Details: https://campusgroups.monmouth.edu/rsvp?id=376122
URL:https://www.monmouth.edu/events/event/founders-flan-bake-sale/
LOCATION:Sign into HawkHub to view the location
ATTACH;FMTTYPE=image/png:https://www.monmouth.edu/events/wp-content/uploads/sites/19/2026/04/image_upload_600743_HawkHub_Banner_415191633.png
END:VEVENT
BEGIN:VEVENT
DTSTART;TZID=America/New_York:20260420T140000
DTEND;TZID=America/New_York:20260420T160000
DTSTAMP:20260420T012159
CREATED:20260415T005531Z
LAST-MODIFIED:20260415T005531Z
UID:40810122260-1776693600-1776700800@www.monmouth.edu
SUMMARY:Ask an Expert: Skin Care and Skin Cancer
DESCRIPTION:Join RA Ellie and her dermatologist mom to learn about your skin! Giveaways\, trivia\, and more!n—nEvent Details: https://campusgroups.monmouth.edu/rsvp?id=376116
URL:https://www.monmouth.edu/events/event/ask-an-expert-skin-care-and-skin-cancer/
LOCATION:Sign into HawkHub to view the location
ATTACH;FMTTYPE=image/png:https://www.monmouth.edu/events/wp-content/uploads/sites/19/2026/04/image_upload_601946_Beige_Illustration_5_Commonly_Ignored_Skin_Care_Habits_Poster_414202453.png
END:VEVENT
BEGIN:VEVENT
DTSTART;TZID=America/New_York:20260420T160000
DTEND;TZID=America/New_York:20260420T180000
DTSTAMP:20260420T012159
CREATED:20260309T195621Z
LAST-MODIFIED:20260309T195621Z
UID:40810121808-1776700800-1776708000@www.monmouth.edu
SUMMARY:Squid Games: The Return to the Arena
DESCRIPTION:Step into the arena for season two of Squid Games! Students will compete in a series of fun and tactical challenges inspired by the hit show to test strategy\, teamwork\, and resilience while building community.n—nEvent Details: https://campusgroups.monmouth.edu/rsvp?id=375930
URL:https://www.monmouth.edu/events/event/squid-games-the-return-to-the-arena/
LOCATION:Sign into HawkHub to view the location
ATTACH;FMTTYPE=image/png:https://www.monmouth.edu/events/wp-content/uploads/sites/19/2026/03/image_upload_599698_Screenshot_20250917_at_34550PM_917154635.png
ORGANIZER;CN="Intercultural Center":MAILTO:Intercultural@monmouth.edu
END:VEVENT
END:VCALENDAR