BEGIN:VCALENDAR
VERSION:2.0
PRODID:-//Events - ECPv6.15.20//NONSGML v1.0//EN
CALSCALE:GREGORIAN
METHOD:PUBLISH
X-ORIGINAL-URL:https://www.monmouth.edu/events
X-WR-CALDESC:Events for Events
REFRESH-INTERVAL;VALUE=DURATION:PT1H
X-Robots-Tag:noindex
X-PUBLISHED-TTL:PT1H
BEGIN:VTIMEZONE
TZID:America/New_York
BEGIN:DAYLIGHT
TZOFFSETFROM:-0500
TZOFFSETTO:-0400
TZNAME:EDT
DTSTART:20240310T070000
END:DAYLIGHT
BEGIN:STANDARD
TZOFFSETFROM:-0400
TZOFFSETTO:-0500
TZNAME:EST
DTSTART:20241103T060000
END:STANDARD
BEGIN:DAYLIGHT
TZOFFSETFROM:-0500
TZOFFSETTO:-0400
TZNAME:EDT
DTSTART:20250309T070000
END:DAYLIGHT
BEGIN:STANDARD
TZOFFSETFROM:-0400
TZOFFSETTO:-0500
TZNAME:EST
DTSTART:20251102T060000
END:STANDARD
BEGIN:DAYLIGHT
TZOFFSETFROM:-0500
TZOFFSETTO:-0400
TZNAME:EDT
DTSTART:20260308T070000
END:DAYLIGHT
BEGIN:STANDARD
TZOFFSETFROM:-0400
TZOFFSETTO:-0500
TZNAME:EST
DTSTART:20261101T060000
END:STANDARD
END:VTIMEZONE
BEGIN:VEVENT
DTSTART;TZID=America/New_York:20250905T100000
DTEND;TZID=America/New_York:20251218T170000
DTSTAMP:20260421T172830
CREATED:20250910T163624Z
LAST-MODIFIED:20251001T131809Z
UID:40810119564-1757066400-1766077200@www.monmouth.edu
SUMMARY:Born to Run 50: Photographs by Eric Meola
DESCRIPTION:This exciting new exhibit celebrates the photography of Eric Meola\, whose iconic photo of Springsteen and saxophonist Clarence Clemons graces the Born to Run album cover.  The free exhibit will be open to the public in Monmouth University’s Rechnitz Hall DiMattio Gallery from Friday\, September 5 through December 18\, 2025. See gallery hours and more here.
URL:https://www.monmouth.edu/events/event/born-to-run-50-photographs-by-eric-meola/
LOCATION:DiMattio Gallery at Rechnitz Hall
CATEGORIES:Alumni,Art and Design,Art Exhibitions,Arts at Monmouth,Community Member,Current Student,Faculty,Free
ATTACH;FMTTYPE=image/jpeg:https://www.monmouth.edu/events/wp-content/uploads/sites/19/2025/09/BTR50_Meola-Opening_mkrajnak_090425_0V2A4162.jpg
END:VEVENT
BEGIN:VEVENT
DTSTART;TZID=America/New_York:20251010T100000
DTEND;TZID=America/New_York:20251218T170000
DTSTAMP:20260421T172830
CREATED:20251010T181516Z
LAST-MODIFIED:20251023T195105Z
UID:40810119856-1760090400-1766077200@www.monmouth.edu
SUMMARY:Dennis McNett and Ben Venom: Double Trouble
DESCRIPTION:Monmouth University\, Department of Art & Design\, in collaboration with Parlor Gallery in Asbury Park is pleased to present Double Trouble\, a groundbreaking exhibition uniting the strong works of Dennis McNett (Wolfbat) and Ben Venom. McNett’s large-scale wood carvings and intricate prints stand in powerful dialogue with Venom’s punk-infused quilts and textile works. These boundary-pushing artists transform traditional techniques into bold cultural statements that challenge\, provoke\, and inspire. \nExhibition runs through December 18th\, 2025\, this exhibition showcases the artists’ individual works that explore the intersection of punk culture\, environmental sustainability\, and traditional craft\, showing a commitment to DIY ethos and techniques. \nJoin us for a lecture with Dennis McNett in the Great Hall Auditorium from 4:00–5:00 PM\, followed by an Artist Reception on Tuesday\, November 18\, from 6:00–8:00 PM in the Ice House Gallery. \nDennis McNett \nhttps://www.wolfbat.com/ \nBen Venom \nhttps://www.benvenom.com/
URL:https://www.monmouth.edu/events/event/mcnett-venom-double-trouble/
LOCATION:Rotary Ice House Gallery
CATEGORIES:Alumni,Art and Design,Art Exhibitions,Arts at Monmouth,Community Member,Current Student,Faculty,Free
ATTACH;FMTTYPE=image/jpeg:https://www.monmouth.edu/events/wp-content/uploads/sites/19/2025/10/Screenshot_10-10-2025_141350_.jpeg
END:VEVENT
BEGIN:VEVENT
DTSTART;TZID=America/New_York:20251031T000000
DTEND;TZID=America/New_York:20251101T015500
DTSTAMP:20260421T172830
CREATED:20251024T155704Z
LAST-MODIFIED:20251024T155704Z
UID:40810119907-1761868800-1761962100@www.monmouth.edu
SUMMARY:Redwood Hall Costume Contest
DESCRIPTION:Send RA Lisa a picture of your costume on either October 31st or November 1st for a chance to win a prize! Pictures will then be sent to the building GroupMe where voting will be done. May the best costume win!n—nEvent Details: https://campusgroups.monmouth.edu/rsvp?id=375423
URL:https://www.monmouth.edu/events/event/redwood-hall-costume-contest/
LOCATION:Sign into HawkHub to view the location
ATTACH;FMTTYPE=image/jpeg:https://www.monmouth.edu/events/wp-content/uploads/sites/19/2025/10/image_upload_601428_Redwood_Cosume_Contest_Flyerjpg_108225412.jpeg
END:VEVENT
BEGIN:VEVENT
DTSTART;TZID=America/New_York:20251031T110000
DTEND;TZID=America/New_York:20251031T120000
DTSTAMP:20260421T172830
CREATED:20251024T155707Z
LAST-MODIFIED:20251024T155707Z
UID:40810119909-1761908400-1761912000@www.monmouth.edu
SUMMARY:LinkedIn Headshots with Career Development
DESCRIPTION:Stop by the Career Development office to get your free LinkedIn headshot!nn—nEvent Details: https://campusgroups.monmouth.edu/rsvp?id=375293
URL:https://www.monmouth.edu/events/event/linkedin-headshots-with-career-development-3/
LOCATION:Sign into HawkHub to view the location
ATTACH;FMTTYPE=image/jpeg:https://www.monmouth.edu/events/wp-content/uploads/sites/19/2025/10/image_upload_604529_MUspiritmarkCAREERS295_1jpg_915111859.jpeg
END:VEVENT
BEGIN:VEVENT
DTSTART;TZID=America/New_York:20251031T110000
DTEND;TZID=America/New_York:20251031T140000
DTSTAMP:20260421T172830
CREATED:20250728T172514Z
LAST-MODIFIED:20251030T200930Z
UID:40810119373-1761908400-1761919200@www.monmouth.edu
SUMMARY:Men's Cross Country vs CAA Championships
DESCRIPTION:Monmouth University Men’s Cross Country vs CAA Championships
URL:https://www.monmouth.edu/events/event/monmouth-university-mens-cross-country-vs-caa-championships/
LOCATION:Lakewood\, N.J. (Ocean County Park)
CATEGORIES:Men's Cross Country
END:VEVENT
BEGIN:VEVENT
DTSTART;TZID=America/New_York:20251031T120000
DTEND;TZID=America/New_York:20251031T140000
DTSTAMP:20260421T172830
CREATED:20251024T155707Z
LAST-MODIFIED:20251024T155707Z
UID:40810119911-1761912000-1761919200@www.monmouth.edu
SUMMARY:Food Truck Friday - Dessert Theme
DESCRIPTION:Got a sweet tooth? Satisfy your cravings at Food Truck Friday: Halloween/Dessert Theme!nnJoin us for an afternoon filled with delicious treats from this edition of Food Truck Friday – Halloween/Dessert Truck!  Don’t miss this spooky-tacular way to kick off the weekend with friends and indulge in some seriously sweet bites.  Boo!n—nEvent Details: https://campusgroups.monmouth.edu/rsvp?id=374997
URL:https://www.monmouth.edu/events/event/food-truck-friday-dessert-theme/
LOCATION:Sign into HawkHub to view the location
ATTACH;FMTTYPE=image/jpeg:https://www.monmouth.edu/events/wp-content/uploads/sites/19/2025/10/image_upload_599692_download_8jfif_714115415.jpeg
END:VEVENT
BEGIN:VEVENT
DTSTART;TZID=America/New_York:20251031T150000
DTEND;TZID=America/New_York:20251031T180000
DTSTAMP:20260421T172830
CREATED:20250708T145531Z
LAST-MODIFIED:20251031T201027Z
UID:40810119332-1761922800-1761933600@www.monmouth.edu
SUMMARY:Field Hockey vs Northeastern
DESCRIPTION:Monmouth University Field Hockey vs Northeastern\nStreaming Video: https://url.us.m.mimecastprotect.com/s/IzYVC68pr7f8lw60U2FYi5cCyp?domain=flosports.link
URL:https://www.monmouth.edu/events/event/monmouth-university-field-hockey-vs-northeastern-university/
LOCATION:West Long Branch\, NJ
CATEGORIES:Women's Field Hockey
END:VEVENT
BEGIN:VEVENT
DTSTART;TZID=America/New_York:20251031T180000
DTEND;TZID=America/New_York:20251031T210000
DTSTAMP:20260421T172830
CREATED:20251024T155708Z
LAST-MODIFIED:20251024T155708Z
UID:40810119913-1761933600-1761944400@www.monmouth.edu
SUMMARY:Friday Live:  Spooky Bingo!
DESCRIPTION:Get ready for a frightfully fun twist on your favorite game night! Join us for Friday Night Live: Spooky Bingo\, where Halloween spirit meets big prizes and good vibes.nn🕸️ Free to play — just bring your student IDn🍬 Candy and spooky snacksn🎁 Halloween-themed prizes for winnersn🧛 Costume contest with bonus prizesnnDress up in your favorite costume and bring your friends for a chillingly good time.nnDon’t ghost this event — come win big and celebrate spooky season!n—nEvent Details: https://campusgroups.monmouth.edu/rsvp?id=374998
URL:https://www.monmouth.edu/events/event/friday-live-spooky-bingo/
LOCATION:Sign into HawkHub to view the location
ATTACH;FMTTYPE=image/jpeg:https://www.monmouth.edu/events/wp-content/uploads/sites/19/2025/10/image_upload_599692_download_9jfif_714115838.jpeg
END:VEVENT
END:VCALENDAR