BEGIN:VCALENDAR
VERSION:2.0
PRODID:-//Events - ECPv6.15.20//NONSGML v1.0//EN
CALSCALE:GREGORIAN
METHOD:PUBLISH
X-ORIGINAL-URL:https://www.monmouth.edu/events
X-WR-CALDESC:Events for Events
REFRESH-INTERVAL;VALUE=DURATION:PT1H
X-Robots-Tag:noindex
X-PUBLISHED-TTL:PT1H
BEGIN:VTIMEZONE
TZID:America/New_York
BEGIN:DAYLIGHT
TZOFFSETFROM:-0500
TZOFFSETTO:-0400
TZNAME:EDT
DTSTART:20240310T070000
END:DAYLIGHT
BEGIN:STANDARD
TZOFFSETFROM:-0400
TZOFFSETTO:-0500
TZNAME:EST
DTSTART:20241103T060000
END:STANDARD
BEGIN:DAYLIGHT
TZOFFSETFROM:-0500
TZOFFSETTO:-0400
TZNAME:EDT
DTSTART:20250309T070000
END:DAYLIGHT
BEGIN:STANDARD
TZOFFSETFROM:-0400
TZOFFSETTO:-0500
TZNAME:EST
DTSTART:20251102T060000
END:STANDARD
BEGIN:DAYLIGHT
TZOFFSETFROM:-0500
TZOFFSETTO:-0400
TZNAME:EDT
DTSTART:20260308T070000
END:DAYLIGHT
BEGIN:STANDARD
TZOFFSETFROM:-0400
TZOFFSETTO:-0500
TZNAME:EST
DTSTART:20261101T060000
END:STANDARD
END:VTIMEZONE
BEGIN:VEVENT
DTSTART;TZID=America/New_York:20250905T100000
DTEND;TZID=America/New_York:20251218T170000
DTSTAMP:20260421T172831
CREATED:20250910T163624Z
LAST-MODIFIED:20251001T131809Z
UID:40810119564-1757066400-1766077200@www.monmouth.edu
SUMMARY:Born to Run 50: Photographs by Eric Meola
DESCRIPTION:This exciting new exhibit celebrates the photography of Eric Meola\, whose iconic photo of Springsteen and saxophonist Clarence Clemons graces the Born to Run album cover.  The free exhibit will be open to the public in Monmouth University’s Rechnitz Hall DiMattio Gallery from Friday\, September 5 through December 18\, 2025. See gallery hours and more here.
URL:https://www.monmouth.edu/events/event/born-to-run-50-photographs-by-eric-meola/
LOCATION:DiMattio Gallery at Rechnitz Hall
CATEGORIES:Alumni,Art and Design,Art Exhibitions,Arts at Monmouth,Community Member,Current Student,Faculty,Free
ATTACH;FMTTYPE=image/jpeg:https://www.monmouth.edu/events/wp-content/uploads/sites/19/2025/09/BTR50_Meola-Opening_mkrajnak_090425_0V2A4162.jpg
END:VEVENT
BEGIN:VEVENT
DTSTART;TZID=America/New_York:20251010T100000
DTEND;TZID=America/New_York:20251218T170000
DTSTAMP:20260421T172831
CREATED:20251010T181516Z
LAST-MODIFIED:20251023T195105Z
UID:40810119856-1760090400-1766077200@www.monmouth.edu
SUMMARY:Dennis McNett and Ben Venom: Double Trouble
DESCRIPTION:Monmouth University\, Department of Art & Design\, in collaboration with Parlor Gallery in Asbury Park is pleased to present Double Trouble\, a groundbreaking exhibition uniting the strong works of Dennis McNett (Wolfbat) and Ben Venom. McNett’s large-scale wood carvings and intricate prints stand in powerful dialogue with Venom’s punk-infused quilts and textile works. These boundary-pushing artists transform traditional techniques into bold cultural statements that challenge\, provoke\, and inspire. \nExhibition runs through December 18th\, 2025\, this exhibition showcases the artists’ individual works that explore the intersection of punk culture\, environmental sustainability\, and traditional craft\, showing a commitment to DIY ethos and techniques. \nJoin us for a lecture with Dennis McNett in the Great Hall Auditorium from 4:00–5:00 PM\, followed by an Artist Reception on Tuesday\, November 18\, from 6:00–8:00 PM in the Ice House Gallery. \nDennis McNett \nhttps://www.wolfbat.com/ \nBen Venom \nhttps://www.benvenom.com/
URL:https://www.monmouth.edu/events/event/mcnett-venom-double-trouble/
LOCATION:Rotary Ice House Gallery
CATEGORIES:Alumni,Art and Design,Art Exhibitions,Arts at Monmouth,Community Member,Current Student,Faculty,Free
ATTACH;FMTTYPE=image/jpeg:https://www.monmouth.edu/events/wp-content/uploads/sites/19/2025/10/Screenshot_10-10-2025_141350_.jpeg
END:VEVENT
BEGIN:VEVENT
DTSTART;TZID=America/New_York:20251030T000000
DTEND;TZID=America/New_York:20251030T235959
DTSTAMP:20260421T172831
CREATED:20250707T224100Z
LAST-MODIFIED:20251026T020928Z
UID:40810119292-1761782400-1761868799@www.monmouth.edu
SUMMARY:Women's Soccer vs CAA First Round
DESCRIPTION:Monmouth University Women’s Soccer vs CAA First Round
URL:https://www.monmouth.edu/events/event/monmouth-university-womens-soccer-vs-caa-first-round/
LOCATION:TBA
CATEGORIES:Women's Soccer
END:VEVENT
BEGIN:VEVENT
DTSTART;TZID=America/New_York:20251030T120000
DTEND;TZID=America/New_York:20251030T160000
DTSTAMP:20260421T172831
CREATED:20251024T185610Z
LAST-MODIFIED:20251024T185610Z
UID:40810120037-1761825600-1761840000@www.monmouth.edu
SUMMARY:Theme Thursday - Halloween!
DESCRIPTION:Join us for our Halloween Theme Thursday Takeover at the Dining Hall entrée station!n—nEvent Details: https://campusgroups.monmouth.edu/rsvp?id=375473
URL:https://www.monmouth.edu/events/event/theme-thursday-halloween/
LOCATION:Magill Commons Dining Hall
ATTACH;FMTTYPE=image/png:https://www.monmouth.edu/events/wp-content/uploads/sites/19/2025/10/image_upload_599704_Copy_of_doc_graphics_1024112716.png
END:VEVENT
BEGIN:VEVENT
DTSTART;TZID=America/New_York:20251030T173000
DTEND;TZID=America/New_York:20251030T183000
DTSTAMP:20260421T172831
CREATED:20251028T135610Z
LAST-MODIFIED:20251028T135610Z
UID:40810120045-1761845400-1761849000@www.monmouth.edu
SUMMARY:H2 Nos of Consent
DESCRIPTION:Just add awareness! Join RA Hilani for a fun and educational event to separate the truths and myths of consent\, and watch H20: Just Add Water. (Mermaid slime and Swedish fish while supplies last)n—nEvent Details: https://campusgroups.monmouth.edu/rsvp?id=375480
URL:https://www.monmouth.edu/events/event/h2-nos-of-consent/
LOCATION:Sign into HawkHub to view the location
ATTACH;FMTTYPE=image/png:https://www.monmouth.edu/events/wp-content/uploads/sites/19/2025/10/image_upload_602708_RA_Programs_25_1_1027202953.png
END:VEVENT
BEGIN:VEVENT
DTSTART;TZID=America/New_York:20251030T183000
DTEND;TZID=America/New_York:20251030T193000
DTSTAMP:20260421T172831
CREATED:20250124T194555Z
LAST-MODIFIED:20250124T194555Z
UID:40810118333-1761849000-1761852600@www.monmouth.edu
SUMMARY:Zumba
DESCRIPTION:This class takes the “work” out of workout\, by mixing low-intensity and high-intensity moves for an interval-style\, calorie-burning dance fitness party.
URL:https://www.monmouth.edu/events/event/zumba/2025-10-30/
LOCATION:Boylan Gym South
ATTACH;FMTTYPE=image/jpeg:https://www.monmouth.edu/events/wp-content/uploads/sites/19/2025/01/M-Recreation-1.jpg
END:VEVENT
BEGIN:VEVENT
DTSTART;TZID=America/New_York:20251030T190000
DTEND;TZID=America/New_York:20251030T200000
DTSTAMP:20260421T172831
CREATED:20250609T194400Z
LAST-MODIFIED:20250707T201229Z
UID:40810119181-1761850800-1761854400@www.monmouth.edu
SUMMARY:Halloween Classics
DESCRIPTION:Candlelight concerts bring the magic of a live\, multi-sensory musical experience to awe-inspiring locations like never seen before in Long Branch. This concert series was created with the intention of democratizing access to classical music\, and the space and performers are illuminated by thousands of candles to create a truly magical experience.  \nThe String Quartet has a tentative program that includes songs such as Thriller\, Time Warp\, Danse Macabre\, the Stranger Things theme song and many more!
URL:https://www.monmouth.edu/events/event/candlelight-concert-halloween-classics/
LOCATION:Pollak Theatre
CATEGORIES:Alumni,Arts at Monmouth,Community Member,Concerts,Current Student,Faculty,Music,Music + Theatre Arts
ATTACH;FMTTYPE=image/png:https://www.monmouth.edu/events/wp-content/uploads/sites/19/2025/05/2022_12_08_Scottish-Rite-Theatre_PEORIA-INDIANAPOLIS_US_02_tuq3wh-1-1024x683-1-e1749498225525.png
END:VEVENT
BEGIN:VEVENT
DTSTART;TZID=America/New_York:20251030T190000
DTEND;TZID=America/New_York:20251030T203000
DTSTAMP:20260421T172831
CREATED:20251024T155703Z
LAST-MODIFIED:20251024T155703Z
UID:40810119905-1761850800-1761856200@www.monmouth.edu
SUMMARY:Thursday Alternative:  De-Stress Guided Meditation
DESCRIPTION:Take a break\, breathe deeply\, and find your calm with Guided Meditation at Monmouth University.  Join us for a relaxing session designed to help you reduce stress\, improve focus\, and recharge your mind and body. Perfect for beginners and experienced meditators alike.n—nEvent Details: https://campusgroups.monmouth.edu/rsvp?id=375000
URL:https://www.monmouth.edu/events/event/thursday-alternative-de-stress-guided-meditation/
LOCATION:Sign into HawkHub to view the location
ATTACH;FMTTYPE=image/jpeg:https://www.monmouth.edu/events/wp-content/uploads/sites/19/2025/10/image_upload_599692_download_10jfif_71412852.jpeg
END:VEVENT
END:VCALENDAR