BEGIN:VCALENDAR
VERSION:2.0
PRODID:-//Events - ECPv6.15.20//NONSGML v1.0//EN
CALSCALE:GREGORIAN
METHOD:PUBLISH
X-ORIGINAL-URL:https://www.monmouth.edu/events
X-WR-CALDESC:Events for Events
REFRESH-INTERVAL;VALUE=DURATION:PT1H
X-Robots-Tag:noindex
X-PUBLISHED-TTL:PT1H
BEGIN:VTIMEZONE
TZID:America/New_York
BEGIN:DAYLIGHT
TZOFFSETFROM:-0500
TZOFFSETTO:-0400
TZNAME:EDT
DTSTART:20240310T070000
END:DAYLIGHT
BEGIN:STANDARD
TZOFFSETFROM:-0400
TZOFFSETTO:-0500
TZNAME:EST
DTSTART:20241103T060000
END:STANDARD
BEGIN:DAYLIGHT
TZOFFSETFROM:-0500
TZOFFSETTO:-0400
TZNAME:EDT
DTSTART:20250309T070000
END:DAYLIGHT
BEGIN:STANDARD
TZOFFSETFROM:-0400
TZOFFSETTO:-0500
TZNAME:EST
DTSTART:20251102T060000
END:STANDARD
BEGIN:DAYLIGHT
TZOFFSETFROM:-0500
TZOFFSETTO:-0400
TZNAME:EDT
DTSTART:20260308T070000
END:DAYLIGHT
BEGIN:STANDARD
TZOFFSETFROM:-0400
TZOFFSETTO:-0500
TZNAME:EST
DTSTART:20261101T060000
END:STANDARD
END:VTIMEZONE
BEGIN:VEVENT
DTSTART;TZID=America/New_York:20250905T100000
DTEND;TZID=America/New_York:20251218T170000
DTSTAMP:20260420T104346
CREATED:20250910T163624Z
LAST-MODIFIED:20251001T131809Z
UID:40810119564-1757066400-1766077200@www.monmouth.edu
SUMMARY:Born to Run 50: Photographs by Eric Meola
DESCRIPTION:This exciting new exhibit celebrates the photography of Eric Meola\, whose iconic photo of Springsteen and saxophonist Clarence Clemons graces the Born to Run album cover.  The free exhibit will be open to the public in Monmouth University’s Rechnitz Hall DiMattio Gallery from Friday\, September 5 through December 18\, 2025. See gallery hours and more here.
URL:https://www.monmouth.edu/events/event/born-to-run-50-photographs-by-eric-meola/
LOCATION:DiMattio Gallery at Rechnitz Hall
CATEGORIES:Alumni,Art and Design,Art Exhibitions,Arts at Monmouth,Community Member,Current Student,Faculty,Free
ATTACH;FMTTYPE=image/jpeg:https://www.monmouth.edu/events/wp-content/uploads/sites/19/2025/09/BTR50_Meola-Opening_mkrajnak_090425_0V2A4162.jpg
END:VEVENT
BEGIN:VEVENT
DTSTART;TZID=America/New_York:20251010T100000
DTEND;TZID=America/New_York:20251218T170000
DTSTAMP:20260420T104346
CREATED:20251010T181516Z
LAST-MODIFIED:20251023T195105Z
UID:40810119856-1760090400-1766077200@www.monmouth.edu
SUMMARY:Dennis McNett and Ben Venom: Double Trouble
DESCRIPTION:Monmouth University\, Department of Art & Design\, in collaboration with Parlor Gallery in Asbury Park is pleased to present Double Trouble\, a groundbreaking exhibition uniting the strong works of Dennis McNett (Wolfbat) and Ben Venom. McNett’s large-scale wood carvings and intricate prints stand in powerful dialogue with Venom’s punk-infused quilts and textile works. These boundary-pushing artists transform traditional techniques into bold cultural statements that challenge\, provoke\, and inspire. \nExhibition runs through December 18th\, 2025\, this exhibition showcases the artists’ individual works that explore the intersection of punk culture\, environmental sustainability\, and traditional craft\, showing a commitment to DIY ethos and techniques. \nJoin us for a lecture with Dennis McNett in the Great Hall Auditorium from 4:00–5:00 PM\, followed by an Artist Reception on Tuesday\, November 18\, from 6:00–8:00 PM in the Ice House Gallery. \nDennis McNett \nhttps://www.wolfbat.com/ \nBen Venom \nhttps://www.benvenom.com/
URL:https://www.monmouth.edu/events/event/mcnett-venom-double-trouble/
LOCATION:Rotary Ice House Gallery
CATEGORIES:Alumni,Art and Design,Art Exhibitions,Arts at Monmouth,Community Member,Current Student,Faculty,Free
ATTACH;FMTTYPE=image/jpeg:https://www.monmouth.edu/events/wp-content/uploads/sites/19/2025/10/Screenshot_10-10-2025_141350_.jpeg
END:VEVENT
BEGIN:VEVENT
DTSTART;TZID=America/New_York:20251028T120000
DTEND;TZID=America/New_York:20251028T160000
DTSTAMP:20260420T104346
CREATED:20251024T155633Z
LAST-MODIFIED:20251024T155633Z
UID:40810119895-1761652800-1761667200@www.monmouth.edu
SUMMARY:OSE Halloween Pop-Up Event
DESCRIPTION:🎃👻 Spook-tacular Student Engagement Pop-Up! 👻🎃nHosted by the Office of Student EngagementnnGet into the Halloween spirit with the Office of Student Engagement!nnStop by our frightfully fun pop-up to:n🍬 Snag free Halloween treats and spooky snacksn🎁 Pick up exclusive Monmouth swag and giveawaysn🕸️ Learn about upcoming events and how to get involved on campusnnWhether you’re a ghoul\, ghost\, or goblin\, come connect with other Hawks and discover all the ways to make the most of your Monmouth experience.nnNo tricks — just treats! Open to all students.n—nEvent Details: https://campusgroups.monmouth.edu/rsvp?id=374987
URL:https://www.monmouth.edu/events/event/ose-halloween-pop-up-event/
LOCATION:Sign into HawkHub to view the location
ATTACH;FMTTYPE=image/jpeg:https://www.monmouth.edu/events/wp-content/uploads/sites/19/2025/10/image_upload_599692_download_2jfif_710112248.jpeg
END:VEVENT
BEGIN:VEVENT
DTSTART;TZID=America/New_York:20251028T123000
DTEND;TZID=America/New_York:20251028T140000
DTSTAMP:20260420T104346
CREATED:20251024T155634Z
LAST-MODIFIED:20251024T155634Z
UID:40810119897-1761654600-1761660000@www.monmouth.edu
SUMMARY:Pawffice Hours
DESCRIPTION:Take a paws from your busy day and unwind with friendly therapy dogs at Pawffice Hours! This relaxing event offers students a chance to de-stress\, recharge\, and enjoy some tail-wagging company.n—nEvent Details: https://campusgroups.monmouth.edu/rsvp?id=375438
URL:https://www.monmouth.edu/events/event/pawffice-hours/
LOCATION:Sign into HawkHub to view the location
ATTACH;FMTTYPE=image/jpeg:https://www.monmouth.edu/events/wp-content/uploads/sites/19/2025/10/image_upload_606731_Therapy_Dog_Collage_2023_1jpg_1010113057.jpeg
END:VEVENT
BEGIN:VEVENT
DTSTART;TZID=America/New_York:20251028T183000
DTEND;TZID=America/New_York:20251028T193000
DTSTAMP:20260420T104346
CREATED:20250124T194555Z
LAST-MODIFIED:20250124T194555Z
UID:40810118330-1761676200-1761679800@www.monmouth.edu
SUMMARY:Zumba
DESCRIPTION:This class takes the “work” out of workout\, by mixing low-intensity and high-intensity moves for an interval-style\, calorie-burning dance fitness party.
URL:https://www.monmouth.edu/events/event/zumba/2025-10-28/
LOCATION:Boylan Gym South
ATTACH;FMTTYPE=image/jpeg:https://www.monmouth.edu/events/wp-content/uploads/sites/19/2025/01/M-Recreation-1.jpg
END:VEVENT
BEGIN:VEVENT
DTSTART;TZID=America/New_York:20251028T193000
DTEND;TZID=America/New_York:20251028T213000
DTSTAMP:20260420T104346
CREATED:20250722T141609Z
LAST-MODIFIED:20250722T142001Z
UID:40810119349-1761679800-1761687000@www.monmouth.edu
SUMMARY:The Beatles' Rubber Soul
DESCRIPTION:Class Schedule: October 28\, 2025 | 7:30 – 9:30 PM \nAt the mid-point of the 1960’s and after Beatlemania had hit America and the world\, The Beatles released their sixth album. Rubber Soul\, often referred to as “the departure record\,” proved a crucial artistic leap in the band’s career and sound\, forever altering what was possible within pop music and the concept of the album overall. In celebration of the 60th anniversary of this landmark release\, this course will explore the personal\, cultural\, and sonic landscapes that shaped the record\, from the new sights and sounds The Beatles were consuming\, through the impact upon their writing\, their peers\, and the music world thereafter.
URL:https://www.monmouth.edu/events/event/adult-education-the-beatles-rubber-soul/
LOCATION:Virtual (Zoom)
CATEGORIES:Alumni,Arts at Monmouth,Community Member,Current Student,Faculty,Lectures,Music,Music + Theatre Arts,Virtual
ATTACH;FMTTYPE=image/png:https://www.monmouth.edu/events/wp-content/uploads/sites/19/2025/07/Screenshot-2025-07-19-at-8.39.32-PM.png
ORGANIZER;CN="Kenneth Womack":MAILTO:kwomack@monmouth.edu
END:VEVENT
BEGIN:VEVENT
DTSTART;TZID=America/New_York:20251028T200000
DTEND;TZID=America/New_York:20251028T220000
DTSTAMP:20260420T104346
CREATED:20251024T155635Z
LAST-MODIFIED:20251024T155635Z
UID:40810119899-1761681600-1761688800@www.monmouth.edu
SUMMARY:Dancing With The Stars Watch Party
DESCRIPTION:Watch Dancing with the Stars: Halloween Theme Live from Pinewood Lounge! Light refreshments will be provided.n—nEvent Details: https://campusgroups.monmouth.edu/rsvp?id=375467
URL:https://www.monmouth.edu/events/event/dancing-with-the-stars-watch-party/
LOCATION:Sign into HawkHub to view the location
ATTACH;FMTTYPE=image/png:https://www.monmouth.edu/events/wp-content/uploads/sites/19/2025/10/image_upload_600067_watch_party_1022162811.png
END:VEVENT
END:VCALENDAR