BEGIN:VCALENDAR
VERSION:2.0
PRODID:-//Events - ECPv6.15.20//NONSGML v1.0//EN
CALSCALE:GREGORIAN
METHOD:PUBLISH
X-ORIGINAL-URL:https://www.monmouth.edu/events
X-WR-CALDESC:Events for Events
REFRESH-INTERVAL;VALUE=DURATION:PT1H
X-Robots-Tag:noindex
X-PUBLISHED-TTL:PT1H
BEGIN:VTIMEZONE
TZID:America/New_York
BEGIN:DAYLIGHT
TZOFFSETFROM:-0500
TZOFFSETTO:-0400
TZNAME:EDT
DTSTART:20240310T070000
END:DAYLIGHT
BEGIN:STANDARD
TZOFFSETFROM:-0400
TZOFFSETTO:-0500
TZNAME:EST
DTSTART:20241103T060000
END:STANDARD
BEGIN:DAYLIGHT
TZOFFSETFROM:-0500
TZOFFSETTO:-0400
TZNAME:EDT
DTSTART:20250309T070000
END:DAYLIGHT
BEGIN:STANDARD
TZOFFSETFROM:-0400
TZOFFSETTO:-0500
TZNAME:EST
DTSTART:20251102T060000
END:STANDARD
BEGIN:DAYLIGHT
TZOFFSETFROM:-0500
TZOFFSETTO:-0400
TZNAME:EDT
DTSTART:20260308T070000
END:DAYLIGHT
BEGIN:STANDARD
TZOFFSETFROM:-0400
TZOFFSETTO:-0500
TZNAME:EST
DTSTART:20261101T060000
END:STANDARD
END:VTIMEZONE
BEGIN:VEVENT
DTSTART;TZID=America/New_York:20250429T000000
DTEND;TZID=America/New_York:20250429T235959
DTSTAMP:20260423T025555
CREATED:20240903T140452Z
LAST-MODIFIED:20240904T165149Z
UID:40810113329-1745884800-1745971199@www.monmouth.edu
SUMMARY:Reading Day
DESCRIPTION:
URL:https://www.monmouth.edu/events/event/reading-day-3/
CATEGORIES:Academic Calendar
END:VEVENT
BEGIN:VEVENT
DTSTART;TZID=America/New_York:20250429T000000
DTEND;TZID=America/New_York:20250429T235959
DTSTAMP:20260423T025555
CREATED:20250415T205403Z
LAST-MODIFIED:20250415T205403Z
UID:40810119117-1745884800-1745971199@www.monmouth.edu
SUMMARY:Reading Day Sale - Spring 2025
DESCRIPTION:Reading Day is Tuesday\, April 29th! \nSet your alarm early and pop into the Store for these limited time items! \n$10 T-Shirt\n$15 Sweatpants\n$20 Hoodie\nSelect styles only\, available while supplies last\, in-store only\, no additional discounts \nDoors open at 9am \nCome early for the best selection (the early Hawk gets the merch!) \n  \n(Image description- White tshirt with navy blue design\, grey sweatpants with navy blue design\, navy blue hoodie with white design. Design is cresting wave in the middle of “Monmouth University”. On sides of waves “Est. 1933”\, and under “University” is “West Long Branch\, NJ”. Background is light dispersing through water.)
URL:https://www.monmouth.edu/events/event/reading-day-sale-spring-2025/
LOCATION:University Store\, University Store - OceanFirst Bank Center\, West Long Branch\, NJ\, 07764\, United States
CATEGORIES:Special Events
ATTACH;FMTTYPE=image/png:https://www.monmouth.edu/events/wp-content/uploads/sites/19/2025/04/Spring-2025-Reading-Day-Sale-1-8.5x11.png
ORGANIZER;CN="Monmouth University Store":MAILTO:bookstore@monmouth.edu
END:VEVENT
BEGIN:VEVENT
DTSTART;TZID=America/New_York:20250429T130000
DTEND;TZID=America/New_York:20250429T150000
DTSTAMP:20260423T025555
CREATED:20250106T191143Z
LAST-MODIFIED:20250424T224108Z
UID:40810117646-1745931600-1745938800@www.monmouth.edu
SUMMARY:Softball at Rutgers
DESCRIPTION:Monmouth University Softball at Rutgers\nStreaming Video: https://www.bigtenplus.com/en-int/livestream/monmouth-at-rutgers/1884451
URL:https://www.monmouth.edu/events/event/monmouth-university-softball-at-rutgers/
LOCATION:Piscataway\, NJ
CATEGORIES:Women's Softball
END:VEVENT
BEGIN:VEVENT
DTSTART;TZID=America/New_York:20250429T150000
DTEND;TZID=America/New_York:20250429T170000
DTSTAMP:20260423T025555
CREATED:20250106T191144Z
LAST-MODIFIED:20250428T232708Z
UID:40810117649-1745938800-1745946000@www.monmouth.edu
SUMMARY:Softball at Rutgers
DESCRIPTION:Monmouth University Softball at Rutgers\nStreaming Video: https://www.bigtenplus.com/en-int/livestream/monmouth-at-rutgers/1884451
URL:https://www.monmouth.edu/events/event/monmouth-university-softball-at-rutgers-2/
LOCATION:Piscataway\, NJ
CATEGORIES:Women's Softball
END:VEVENT
BEGIN:VEVENT
DTSTART;TZID=America/New_York:20250429T183000
DTEND;TZID=America/New_York:20250429T193000
DTSTAMP:20260423T025555
CREATED:20250124T194555Z
LAST-MODIFIED:20250124T194555Z
UID:40810118174-1745951400-1745955000@www.monmouth.edu
SUMMARY:Zumba
DESCRIPTION:This class takes the “work” out of workout\, by mixing low-intensity and high-intensity moves for an interval-style\, calorie-burning dance fitness party.
URL:https://www.monmouth.edu/events/event/zumba/2025-04-29/
LOCATION:Boylan Gym South
ATTACH;FMTTYPE=image/jpeg:https://www.monmouth.edu/events/wp-content/uploads/sites/19/2025/01/M-Recreation-1.jpg
END:VEVENT
BEGIN:VEVENT
DTSTART;TZID=America/New_York:20250429T210000
DTEND;TZID=America/New_York:20250429T230000
DTSTAMP:20260423T025555
CREATED:20250109T191205Z
LAST-MODIFIED:20250109T191205Z
UID:40810117830-1745960400-1745967600@www.monmouth.edu
SUMMARY:Late Night Breakfast
DESCRIPTION:Fuel up for your late-night study session at Late Night Breakfast\, where you can enjoy delicious comfort food served up just when you need it most! From pancakes to eggs and everything in between\, it’s the perfect way to satisfy your cravings and keep going through the night!
URL:https://www.monmouth.edu/events/event/late-night-breakfast-2/
LOCATION:Magill Commons Dining Hall
ATTACH;FMTTYPE=image/jpeg:https://www.monmouth.edu/events/wp-content/uploads/sites/19/2025/01/Late-Night-Breakfast-Logo-900x500-1.jpg
END:VEVENT
END:VCALENDAR