BEGIN:VCALENDAR
VERSION:2.0
PRODID:-//Events - ECPv6.15.20//NONSGML v1.0//EN
CALSCALE:GREGORIAN
METHOD:PUBLISH
X-WR-CALNAME:Events
X-ORIGINAL-URL:https://www.monmouth.edu/events
X-WR-CALDESC:Events for Events
REFRESH-INTERVAL;VALUE=DURATION:PT1H
X-Robots-Tag:noindex
X-PUBLISHED-TTL:PT1H
BEGIN:VTIMEZONE
TZID:America/New_York
BEGIN:DAYLIGHT
TZOFFSETFROM:-0500
TZOFFSETTO:-0400
TZNAME:EDT
DTSTART:20240310T070000
END:DAYLIGHT
BEGIN:STANDARD
TZOFFSETFROM:-0400
TZOFFSETTO:-0500
TZNAME:EST
DTSTART:20241103T060000
END:STANDARD
BEGIN:DAYLIGHT
TZOFFSETFROM:-0500
TZOFFSETTO:-0400
TZNAME:EDT
DTSTART:20250309T070000
END:DAYLIGHT
BEGIN:STANDARD
TZOFFSETFROM:-0400
TZOFFSETTO:-0500
TZNAME:EST
DTSTART:20251102T060000
END:STANDARD
BEGIN:DAYLIGHT
TZOFFSETFROM:-0500
TZOFFSETTO:-0400
TZNAME:EDT
DTSTART:20260308T070000
END:DAYLIGHT
BEGIN:STANDARD
TZOFFSETFROM:-0400
TZOFFSETTO:-0500
TZNAME:EST
DTSTART:20261101T060000
END:STANDARD
END:VTIMEZONE
BEGIN:VEVENT
DTSTART;TZID=America/New_York:20250206T000000
DTEND;TZID=America/New_York:20250427T235959
DTSTAMP:20260423T074224
CREATED:20250306T225532Z
LAST-MODIFIED:20250306T225625Z
UID:40810115923-1738800000-1745798399@www.monmouth.edu
SUMMARY:Ocean Bodies\, A Solo Exhibit by Kimberly Callas
DESCRIPTION:Monmouth University’s Ice House Gallery presents Ocean Bodies\, a powerful solo exhibition by multimedia artist Kimberly Callas. The exhibition will open on February 6\, 2025\, with an evening reception from 5:30 to 7:30 PM\, and will run through April 27\, 2025. Ocean Bodies offers an immersive exploration of humanity’s interconnectedness with the ocean\, drawing on symbols\, archetypes\, and ecological narratives to invite contemplation and action. \nThrough sculptures\, large-scale drawings\, and mixed-media works\, Callas examines the “crisis of meaning” at the heart of the climate crisis and advocates for a shift in consciousness toward an “ecological self.” This concept\, central to her work\, reflects humanity’s integral role within nature rather than apart from it. In Ocean Bodies\, she uses water-based materials\, such as dyed fabrics\, India ink\, and water-soluble graphite\, to invoke the sea’s physical presence while exploring the symbolic depth of whales\, the horizon\, and the ocean itself as metaphors for the psyche and cosmos. \nAmong the featured works is a series of 10-foot mixed-media drawings inspired by historical nautical charts\, which pair psychological journeys with the migration of critically endangered North Atlantic right whales. Complementing these works are colorful life-size figurative sculptures and reliefs\, 3D-printed using bio-filament\, that further explore themes of renewal and interconnection. Through these works\, Callas poses urgent questions about the loss of meaning\, wisdom\, and biodiversity in the Anthropocene. \n“The ocean has a unique way to connect with people in an immediate and emotional way. Science and data can only tell us so much; art can speak to each of us in a way that is both uniquely personal and universal. Having Kimberly as the Urban Coast Institute artist-in-residence provided inspiration for some of the artwork in the Ocean Bodies exhibit\, which will in turn inspire others. She was also able to share her creative process with her students\, conducting lectures and using her art and sculpture as a pathway to ‘discovering the ecological self.’ This work reminds us that the worlds of art and science are two sides of the same coin\,” said Tony MacDonald\, J.D.\, Director\, Urban Coast Institute. \nCallas created much of the work in Ocean Bodies during an artist residency with Monmouth University’s Urban Coast Institute\, with additional research conducted at the Archive for Research in Archetypal Symbolism (ARAS) and an artist residency at the Arts Quarter Budapest. This body of work seeks to merge art\, science\, and archetypal symbols to foster a deeper understanding of humanity’s place within the natural world and inspire meaningful environmental action. \nAbout the Artist \nKimberly Callas is a multimedia artist\, sculptor\, and the lead artist of the Social Practice project Discovering the Ecological Self. Her work delves into the human/nature relationship\, focusing on the concept of the ecological self. Recently\, she has incorporated cutting-edge technologies\, such as 3D printing with bio-filaments and CNC\, into her life-size sculptures. Art New England described her series Portrait of the Ecological Self as “unforgettable.” \nCallas’s work often involves community engagement. With her Discovering the Ecological Self social practice project\, featured in The Huffington Post\, she has led workshops across the U.S. and internationally. Her art has been showcased in prestigious galleries and museums worldwide\, earning her numerous awards and grants\, including the Pollination Project Grant\, the Urban Coast Artist-in-Residence award\, and the Puffin Foundation Grant. Her accolades include First Place in Sculpture at the Catharine Lorillard Wolfe Art Club’s Annual Exhibit in New York City. \nCallas’s recent exhibitions include the International New Media Exhibit at the CICA Museum in South Korea\, Crossing Boundaries: Art and the Future of Energy at the Pensacola Museum of Art\, and Ocean Swimmers (Entanglement)\, a solo exhibition in Budapest. In May 2025\, she will unveil a public art commission for the Lambert Castle Renovation in Paterson\, New Jersey. \nCallas holds an MFA from the New York Academy of Art and a BFA from the University of Michigan. She is currently an Associate Professor of Art at Monmouth University and maintains studios in Maine and New Jersey. \nEvent Details: \nExhibition: Ocean Bodies\nLocation: Ice House Gallery\, Monmouth University\, 400 Cedar Ave # 600\, West Long Branch\, NJ 07764\nOpening Reception: February 6\, 2025\, 5:30–7:30 PM\nExhibition Dates: February 6\, 2025 – April 27\, 2025\nGallery Hours: Mon-Fri\, 10am-5pm\, \nFor additional information\, please contact Scott Knauer\, 732.923.4786  or visit https://kimberlycallas.com/. \n 
URL:https://www.monmouth.edu/events/event/ocean-bodies-a-solo-exhibit-by-eco-artist-kimberly-callas-2/
LOCATION:Rotary Ice House Gallery
CATEGORIES:Academic Calendar,Alumni Calendar Featured,Art and Design,Art Exhibitions,Arts at Monmouth,Free
ATTACH;FMTTYPE=image/jpeg:https://www.monmouth.edu/events/wp-content/uploads/sites/19/2024/12/callas_header-1.jpg
ORGANIZER;CN="Art and Design Department":MAILTO:sknauer@monmouth.edu
END:VEVENT
BEGIN:VEVENT
DTSTART;TZID=America/New_York:20250410T000000
DTEND;TZID=America/New_York:20250412T235959
DTSTAMP:20260423T074224
CREATED:20240911T234048Z
LAST-MODIFIED:20250412T221108Z
UID:40810113932-1744243200-1744502399@www.monmouth.edu
SUMMARY:Women's Golf vs CAA Championships
DESCRIPTION:Monmouth University Women’s Golf vs CAA Championships
URL:https://www.monmouth.edu/events/event/womens-golf-vs-caa-championships/
LOCATION:St. James CC – Southport\, NC
CATEGORIES:Women's Golf
END:VEVENT
BEGIN:VEVENT
DTSTART;TZID=America/New_York:20250412T000000
DTEND;TZID=America/New_York:20250412T235959
DTSTAMP:20260423T074224
CREATED:20250207T211029Z
LAST-MODIFIED:20250412T192607Z
UID:40810118614-1744416000-1744502399@www.monmouth.edu
SUMMARY:Rowing  Knecht Cup
DESCRIPTION:Monmouth University Rowing  Knecht Cup\nStreaming Video: https://www.youtube.com/channel/UCfhbFWVcmXq0qiU9WxZ_5XQ
URL:https://www.monmouth.edu/events/event/monmouth-university-rowing-knecht-cup/
LOCATION:Pennsauken\, NJ
CATEGORIES:Women's Rowing
END:VEVENT
BEGIN:VEVENT
DTSTART;TZID=America/New_York:20250412T000000
DTEND;TZID=America/New_York:20250412T235959
DTSTAMP:20260423T074224
CREATED:20250119T154033Z
LAST-MODIFIED:20250410T221109Z
UID:40810117936-1744416000-1744502399@www.monmouth.edu
SUMMARY:Women's Track and Field at JMU Invite
DESCRIPTION:Monmouth University Women’s Track and Field at JMU Invite
URL:https://www.monmouth.edu/events/event/monmouth-university-womens-track-and-field-at-jmu-invite/
LOCATION:Harrisonburg\, VA
CATEGORIES:Women's Track & Field
END:VEVENT
BEGIN:VEVENT
DTSTART;TZID=America/New_York:20250412T000000
DTEND;TZID=America/New_York:20250412T235959
DTSTAMP:20260423T074224
CREATED:20250119T154045Z
LAST-MODIFIED:20250410T221110Z
UID:40810117938-1744416000-1744502399@www.monmouth.edu
SUMMARY:Women's Track and Field at Bison Outdoor Classic
DESCRIPTION:Monmouth University Women’s Track and Field at Bison Outdoor Classic
URL:https://www.monmouth.edu/events/event/monmouth-university-womens-track-and-field-at-bison-outdoor-classic/
LOCATION:Lewisburg\, PA
CATEGORIES:Women's Track & Field
END:VEVENT
BEGIN:VEVENT
DTSTART;TZID=America/New_York:20250412T000000
DTEND;TZID=America/New_York:20250412T235959
DTSTAMP:20260423T074224
CREATED:20250119T174031Z
LAST-MODIFIED:20250410T181108Z
UID:40810117970-1744416000-1744502399@www.monmouth.edu
SUMMARY:Men's Track and Field at JMU Invite
DESCRIPTION:Monmouth University Men’s Track and Field at JMU Invite
URL:https://www.monmouth.edu/events/event/monmouth-university-mens-track-and-field-at-jmu-invite/
LOCATION:Harrisonburg\, VA
CATEGORIES:Men's Track & Field
END:VEVENT
BEGIN:VEVENT
DTSTART;TZID=America/New_York:20250412T000000
DTEND;TZID=America/New_York:20250412T235959
DTSTAMP:20260423T074224
CREATED:20250119T174044Z
LAST-MODIFIED:20250410T181108Z
UID:40810117973-1744416000-1744502399@www.monmouth.edu
SUMMARY:Men's Track and Field at Bison Outdoor Classic
DESCRIPTION:Monmouth University Men’s Track and Field at Bison Outdoor Classic
URL:https://www.monmouth.edu/events/event/monmouth-university-mens-track-and-field-at-bison-outdoor-classic/
LOCATION:Lewisburg\, PA
CATEGORIES:Men's Track & Field
END:VEVENT
BEGIN:VEVENT
DTSTART;TZID=America/New_York:20250412T120000
DTEND;TZID=America/New_York:20250412T150000
DTSTAMP:20260423T074224
CREATED:20241223T162526Z
LAST-MODIFIED:20250412T154109Z
UID:40810117202-1744459200-1744470000@www.monmouth.edu
SUMMARY:Men's Lacrosse at Stony Brook
DESCRIPTION:Monmouth University Men’s Lacrosse at Stony Brook\nStreaming Video: https://go.flosports.tv/partner/caa?utm_campaign=caa&utm_medium=partner&utm_source=teams&utm_content=teams&rtid=stonybrook&coverage_id=
URL:https://www.monmouth.edu/events/event/monmouth-university-mens-lacrosse-at-stony-brook/
LOCATION:Stony Brook\, NY
CATEGORIES:Men's Lacrosse
END:VEVENT
BEGIN:VEVENT
DTSTART;TZID=America/New_York:20250412T140000
DTEND;TZID=America/New_York:20250412T170000
DTSTAMP:20260423T074224
CREATED:20250102T214111Z
LAST-MODIFIED:20250411T232608Z
UID:40810117427-1744466400-1744477200@www.monmouth.edu
SUMMARY:Baseball at North Carolina A&T
DESCRIPTION:Monmouth University Baseball at North Carolina A&T\nStreaming Video: https://go.flosports.tv/partner/caa?utm_campaign=caa&utm_medium=partner&utm_source=teams&utm_content=teams&rtid=ncat&coverage_id=
URL:https://www.monmouth.edu/events/event/baseball-at-north-carolina-at-2/
LOCATION:Greensboro\, NC
CATEGORIES:Men's Baseball
END:VEVENT
BEGIN:VEVENT
DTSTART;TZID=America/New_York:20250412T143000
DTEND;TZID=America/New_York:20250412T163000
DTSTAMP:20260423T074224
CREATED:20250106T191129Z
LAST-MODIFIED:20250411T215609Z
UID:40810117616-1744468200-1744475400@www.monmouth.edu
SUMMARY:Softball at Stony Brook
DESCRIPTION:Monmouth University Softball at Stony Brook\nStreaming Video: https://go.flosports.tv/partner/caa?utm_campaign=caa&utm_medium=partner&utm_source=teams&utm_content=teams&rtid=monmouth&coverage_id=
URL:https://www.monmouth.edu/events/event/monmouth-university-softball-at-stony-brook-2/
LOCATION:Stony Brook\, NY
CATEGORIES:Women's Softball
END:VEVENT
BEGIN:VEVENT
DTSTART;TZID=America/New_York:20250412T160000
DTEND;TZID=America/New_York:20250412T190000
DTSTAMP:20260423T074224
CREATED:20250217T201032Z
LAST-MODIFIED:20250412T215609Z
UID:40810118756-1744473600-1744484400@www.monmouth.edu
SUMMARY:Women's Tennis vs Hofstra
DESCRIPTION:Monmouth University Women’s Tennis vs Hofstra
URL:https://www.monmouth.edu/events/event/monmouth-university-womens-tennis-vs-hofstra/
LOCATION:Little Silver\, NJ\, Little Silver Tennis Club
CATEGORIES:Women's Tennis
END:VEVENT
BEGIN:VEVENT
DTSTART;TZID=America/New_York:20250412T170000
DTEND;TZID=America/New_York:20250412T200000
DTSTAMP:20260423T074224
CREATED:20250102T214111Z
LAST-MODIFIED:20250412T234108Z
UID:40810117424-1744477200-1744488000@www.monmouth.edu
SUMMARY:Baseball at North Carolina A&T
DESCRIPTION:Monmouth University Baseball at North Carolina A&T\nStreaming Video: https://go.flosports.tv/partner/caa?utm_campaign=caa&utm_medium=partner&utm_source=teams&utm_content=teams&rtid=ncat&coverage_id=
URL:https://www.monmouth.edu/events/event/baseball-at-north-carolina-at/
LOCATION:Greensboro\, NC
CATEGORIES:Men's Baseball
END:VEVENT
BEGIN:VEVENT
DTSTART;TZID=America/New_York:20250412T180000
DTEND;TZID=America/New_York:20250412T210000
DTSTAMP:20260423T074224
CREATED:20250102T201042Z
LAST-MODIFIED:20250412T164108Z
UID:40810117319-1744480800-1744491600@www.monmouth.edu
SUMMARY:Men's Tennis vs Hofstra
DESCRIPTION:Monmouth University Men’s Tennis vs Hofstra
URL:https://www.monmouth.edu/events/event/monmouth-university-mens-tennis-vs-hofstra/
LOCATION:Oakhurst\, NJ
CATEGORIES:Men's Tennis
END:VEVENT
BEGIN:VEVENT
DTSTART;TZID=America/New_York:20250412T190000
DTEND;TZID=America/New_York:20250412T210000
DTSTAMP:20260423T074224
CREATED:20250109T191056Z
LAST-MODIFIED:20250110T140817Z
UID:40810117809-1744484400-1744491600@www.monmouth.edu
SUMMARY:Family Feud Game Show
DESCRIPTION:Get ready for laughs and friendly competition at our Family Feud Game Show\, where you and your team will guess the most popular answers to fun survey questions! Join in the excitement\, challenge your knowledge\, and see if you can come out on top as the ultimate Family Feud champion!
URL:https://www.monmouth.edu/events/event/family-feud-game-show/
LOCATION:Student Center – Anacon Hall
ATTACH;FMTTYPE=image/jpeg:https://www.monmouth.edu/events/wp-content/uploads/sites/19/2025/01/0_rpKb4qsoUlKi_P4V.jpg
END:VEVENT
END:VCALENDAR