BEGIN:VCALENDAR
VERSION:2.0
PRODID:-//Events - ECPv6.15.20//NONSGML v1.0//EN
CALSCALE:GREGORIAN
METHOD:PUBLISH
X-ORIGINAL-URL:https://www.monmouth.edu/events
X-WR-CALDESC:Events for Events
REFRESH-INTERVAL;VALUE=DURATION:PT1H
X-Robots-Tag:noindex
X-PUBLISHED-TTL:PT1H
BEGIN:VTIMEZONE
TZID:America/New_York
BEGIN:DAYLIGHT
TZOFFSETFROM:-0500
TZOFFSETTO:-0400
TZNAME:EDT
DTSTART:20240310T070000
END:DAYLIGHT
BEGIN:STANDARD
TZOFFSETFROM:-0400
TZOFFSETTO:-0500
TZNAME:EST
DTSTART:20241103T060000
END:STANDARD
BEGIN:DAYLIGHT
TZOFFSETFROM:-0500
TZOFFSETTO:-0400
TZNAME:EDT
DTSTART:20250309T070000
END:DAYLIGHT
BEGIN:STANDARD
TZOFFSETFROM:-0400
TZOFFSETTO:-0500
TZNAME:EST
DTSTART:20251102T060000
END:STANDARD
BEGIN:DAYLIGHT
TZOFFSETFROM:-0500
TZOFFSETTO:-0400
TZNAME:EDT
DTSTART:20260308T070000
END:DAYLIGHT
BEGIN:STANDARD
TZOFFSETFROM:-0400
TZOFFSETTO:-0500
TZNAME:EST
DTSTART:20261101T060000
END:STANDARD
END:VTIMEZONE
BEGIN:VEVENT
DTSTART;TZID=America/New_York:20250206T000000
DTEND;TZID=America/New_York:20250427T235959
DTSTAMP:20260423T010300
CREATED:20250306T225532Z
LAST-MODIFIED:20250306T225625Z
UID:40810115923-1738800000-1745798399@www.monmouth.edu
SUMMARY:Ocean Bodies\, A Solo Exhibit by Kimberly Callas
DESCRIPTION:Monmouth University’s Ice House Gallery presents Ocean Bodies\, a powerful solo exhibition by multimedia artist Kimberly Callas. The exhibition will open on February 6\, 2025\, with an evening reception from 5:30 to 7:30 PM\, and will run through April 27\, 2025. Ocean Bodies offers an immersive exploration of humanity’s interconnectedness with the ocean\, drawing on symbols\, archetypes\, and ecological narratives to invite contemplation and action. \nThrough sculptures\, large-scale drawings\, and mixed-media works\, Callas examines the “crisis of meaning” at the heart of the climate crisis and advocates for a shift in consciousness toward an “ecological self.” This concept\, central to her work\, reflects humanity’s integral role within nature rather than apart from it. In Ocean Bodies\, she uses water-based materials\, such as dyed fabrics\, India ink\, and water-soluble graphite\, to invoke the sea’s physical presence while exploring the symbolic depth of whales\, the horizon\, and the ocean itself as metaphors for the psyche and cosmos. \nAmong the featured works is a series of 10-foot mixed-media drawings inspired by historical nautical charts\, which pair psychological journeys with the migration of critically endangered North Atlantic right whales. Complementing these works are colorful life-size figurative sculptures and reliefs\, 3D-printed using bio-filament\, that further explore themes of renewal and interconnection. Through these works\, Callas poses urgent questions about the loss of meaning\, wisdom\, and biodiversity in the Anthropocene. \n“The ocean has a unique way to connect with people in an immediate and emotional way. Science and data can only tell us so much; art can speak to each of us in a way that is both uniquely personal and universal. Having Kimberly as the Urban Coast Institute artist-in-residence provided inspiration for some of the artwork in the Ocean Bodies exhibit\, which will in turn inspire others. She was also able to share her creative process with her students\, conducting lectures and using her art and sculpture as a pathway to ‘discovering the ecological self.’ This work reminds us that the worlds of art and science are two sides of the same coin\,” said Tony MacDonald\, J.D.\, Director\, Urban Coast Institute. \nCallas created much of the work in Ocean Bodies during an artist residency with Monmouth University’s Urban Coast Institute\, with additional research conducted at the Archive for Research in Archetypal Symbolism (ARAS) and an artist residency at the Arts Quarter Budapest. This body of work seeks to merge art\, science\, and archetypal symbols to foster a deeper understanding of humanity’s place within the natural world and inspire meaningful environmental action. \nAbout the Artist \nKimberly Callas is a multimedia artist\, sculptor\, and the lead artist of the Social Practice project Discovering the Ecological Self. Her work delves into the human/nature relationship\, focusing on the concept of the ecological self. Recently\, she has incorporated cutting-edge technologies\, such as 3D printing with bio-filaments and CNC\, into her life-size sculptures. Art New England described her series Portrait of the Ecological Self as “unforgettable.” \nCallas’s work often involves community engagement. With her Discovering the Ecological Self social practice project\, featured in The Huffington Post\, she has led workshops across the U.S. and internationally. Her art has been showcased in prestigious galleries and museums worldwide\, earning her numerous awards and grants\, including the Pollination Project Grant\, the Urban Coast Artist-in-Residence award\, and the Puffin Foundation Grant. Her accolades include First Place in Sculpture at the Catharine Lorillard Wolfe Art Club’s Annual Exhibit in New York City. \nCallas’s recent exhibitions include the International New Media Exhibit at the CICA Museum in South Korea\, Crossing Boundaries: Art and the Future of Energy at the Pensacola Museum of Art\, and Ocean Swimmers (Entanglement)\, a solo exhibition in Budapest. In May 2025\, she will unveil a public art commission for the Lambert Castle Renovation in Paterson\, New Jersey. \nCallas holds an MFA from the New York Academy of Art and a BFA from the University of Michigan. She is currently an Associate Professor of Art at Monmouth University and maintains studios in Maine and New Jersey. \nEvent Details: \nExhibition: Ocean Bodies\nLocation: Ice House Gallery\, Monmouth University\, 400 Cedar Ave # 600\, West Long Branch\, NJ 07764\nOpening Reception: February 6\, 2025\, 5:30–7:30 PM\nExhibition Dates: February 6\, 2025 – April 27\, 2025\nGallery Hours: Mon-Fri\, 10am-5pm\, \nFor additional information\, please contact Scott Knauer\, 732.923.4786  or visit https://kimberlycallas.com/. \n 
URL:https://www.monmouth.edu/events/event/ocean-bodies-a-solo-exhibit-by-eco-artist-kimberly-callas-2/
LOCATION:Rotary Ice House Gallery
CATEGORIES:Academic Calendar,Alumni Calendar Featured,Art and Design,Art Exhibitions,Arts at Monmouth,Free
ATTACH;FMTTYPE=image/jpeg:https://www.monmouth.edu/events/wp-content/uploads/sites/19/2024/12/callas_header-1.jpg
ORGANIZER;CN="Art and Design Department":MAILTO:sknauer@monmouth.edu
END:VEVENT
BEGIN:VEVENT
DTSTART;TZID=America/New_York:20250403T000000
DTEND;TZID=America/New_York:20250411T235959
DTSTAMP:20260423T010300
CREATED:20240903T140451Z
LAST-MODIFIED:20240904T165211Z
UID:40810113320-1743638400-1744415999@www.monmouth.edu
SUMMARY:Priority / Early Registration for Fall 2025 and Spring 2026
DESCRIPTION:
URL:https://www.monmouth.edu/events/event/priority-early-registration-for-fall-2025-and-spring-2026/
CATEGORIES:Academic Calendar
END:VEVENT
BEGIN:VEVENT
DTSTART;TZID=America/New_York:20250410T000000
DTEND;TZID=America/New_York:20250411T235959
DTSTAMP:20260423T010300
CREATED:20241206T205514Z
LAST-MODIFIED:20250411T202609Z
UID:40810115977-1744243200-1744415999@www.monmouth.edu
SUMMARY:Men's Golf vs Jasper Spring Invite
DESCRIPTION:Monmouth University Men’s Golf vs Jasper Spring Invite
URL:https://www.monmouth.edu/events/event/monmouth-university-mens-golf-at-jasper-spring-invite/
LOCATION:Summit Club – Armonk\, NY
CATEGORIES:Men's Golf
END:VEVENT
BEGIN:VEVENT
DTSTART;TZID=America/New_York:20250410T000000
DTEND;TZID=America/New_York:20250412T235959
DTSTAMP:20260423T010300
CREATED:20240911T234048Z
LAST-MODIFIED:20250412T221108Z
UID:40810113932-1744243200-1744502399@www.monmouth.edu
SUMMARY:Women's Golf vs CAA Championships
DESCRIPTION:Monmouth University Women’s Golf vs CAA Championships
URL:https://www.monmouth.edu/events/event/womens-golf-vs-caa-championships/
LOCATION:St. James CC – Southport\, NC
CATEGORIES:Women's Golf
END:VEVENT
BEGIN:VEVENT
DTSTART;TZID=America/New_York:20250411T000000
DTEND;TZID=America/New_York:20250411T235959
DTSTAMP:20260423T010300
CREATED:20240903T140452Z
LAST-MODIFIED:20240904T165201Z
UID:40810113323-1744329600-1744415999@www.monmouth.edu
SUMMARY:“W” Deadline for “B” Session
DESCRIPTION:
URL:https://www.monmouth.edu/events/event/w-deadline-for-b-session/
CATEGORIES:Academic Calendar
END:VEVENT
BEGIN:VEVENT
DTSTART;TZID=America/New_York:20250411T110000
DTEND;TZID=America/New_York:20250411T150000
DTSTAMP:20260423T010300
CREATED:20250409T202619Z
LAST-MODIFIED:20250409T202619Z
UID:40810119058-1744369200-1744383600@www.monmouth.edu
SUMMARY:Basic Life Support (BLS)
DESCRIPTION:Basic Life Support for Healthcare Providers – American Heart Association (AHA) \nThis course is intended for health and allied health providers (licensed and non-licensed)\, students working in healthcare settings\, fire fighters\, police officers\, paramedics and EMT’s. Following the AHA guidelines\, this in-person training is designed to prepare individuals to provide BLS in a variety of settings. \nUpon completion of course requirements – participants will receive an American Heart Association (AHA) BLS provider completion card which is good for 2 years. \nThe following content will be included: \n\nAHA’s Basic Life Support (BLS) principles and procedures for adults\, children\, and infants including simulated demonstration and repeat demonstration\nAdministration of CPR\nEstablishing effective ventilations using a barrier device\nProper use of Automated External Defibrillators (AED)\nRelief of foreign-body airway obstruction (choking) for adults\, children\, and infants\nWorking as a team in multi-rescuer resuscitation\n\nBooks are included.  \nPre-registration is required. Please register early as registration for each session is limited.  \n \nNo contact hours will be provided for this program. 
URL:https://www.monmouth.edu/events/event/basic-life-support-bls/2025-04-11/
LOCATION:Monmouth University – McAllan Hall 329\, 400 Cedar Ave\, West Long Branch\, 07764
CATEGORIES:Workshops and Professional Development
ATTACH;FMTTYPE=image/jpeg:https://www.monmouth.edu/events/wp-content/uploads/sites/19/2025/03/thumbnail_BLS-for-screens-sp-2025-1.jpg
ORGANIZER;CN="School of Nursing and Health Studies":MAILTO:bpaskewi@monmouth.edu
END:VEVENT
BEGIN:VEVENT
DTSTART;TZID=America/New_York:20250411T140000
DTEND;TZID=America/New_York:20250411T160000
DTSTAMP:20260423T010300
CREATED:20250106T191128Z
LAST-MODIFIED:20250410T214209Z
UID:40810117613-1744380000-1744387200@www.monmouth.edu
SUMMARY:Softball at Stony Brook
DESCRIPTION:Monmouth University Softball at Stony Brook\nStreaming Video: https://go.flosports.tv/partner/caa?utm_campaign=caa&utm_medium=partner&utm_source=teams&utm_content=teams&rtid=monmouth&coverage_id=
URL:https://www.monmouth.edu/events/event/monmouth-university-softball-at-stony-brook/
LOCATION:Stony Brook\, NY
CATEGORIES:Women's Softball
END:VEVENT
BEGIN:VEVENT
DTSTART;TZID=America/New_York:20250411T150000
DTEND;TZID=America/New_York:20250411T180000
DTSTAMP:20260423T010300
CREATED:20250325T174110Z
LAST-MODIFIED:20250325T174110Z
UID:40810119044-1744383600-1744394400@www.monmouth.edu
SUMMARY:Squid Games Field Day: Hawk Edition
DESCRIPTION:In honor of APIDA Heritage Month – step into this field day style challenge with games inspired by Squid Game! Form a team\, test your skills in thrilling competitions\, and compete for exciting prizes. Do you have what it takes to win? Sign-up here in teams of 4 or as a solo player.
URL:https://www.monmouth.edu/events/event/squid-games-field-day-hawk-edition/
LOCATION:Intercultural Center (Magill Commons)
CATEGORIES:Intercultural Center Events
ATTACH;FMTTYPE=image/png:https://www.monmouth.edu/events/wp-content/uploads/sites/19/2025/03/Squid-Games-Hawk-edition-e1742924416495.png
ORGANIZER;CN="Intercultural Center":MAILTO:Intercultural@monmouth.edu
END:VEVENT
BEGIN:VEVENT
DTSTART;TZID=America/New_York:20250411T180000
DTEND;TZID=America/New_York:20250411T230000
DTSTAMP:20260423T010300
CREATED:20250123T183418Z
LAST-MODIFIED:20250324T144957Z
UID:40810118088-1744394400-1744412400@www.monmouth.edu
SUMMARY:Colleges Against Cancer - Relay for Life
DESCRIPTION:Join the Fight Against Cancer at Monmouth University’s Relay for Life! \nMonmouth University invites you to be a part of Relay for Life\, a powerful and inspiring event that unites our community in the fight against cancer. Hosted by Colleges Against Cancer\, this event is more than just a walk—it’s a chance to make a difference\, honor loved ones\, and celebrate survivors.  Friday\, April 11 6:00 – 11:00 p.m.\, Anacon Hall \nWhy Attend? \n\nCelebrate Survivors: Show your support for those who have won their battle against cancer.\nRemember Loved Ones: Take part in the moving Luminaria Ceremony to honor those we’ve lost.\nMake an Impact: All funds raised go to the American Cancer Society to support groundbreaking research\, patient care programs\, and advocacy efforts.
URL:https://www.monmouth.edu/events/event/colleges-against-cancer-relay-for-life/
LOCATION:Anacon Hall\, 2nd Floor\, Student Center
CATEGORIES:Featured
ATTACH;FMTTYPE=image/png:https://www.monmouth.edu/events/wp-content/uploads/sites/19/2025/01/download-2.png
END:VEVENT
BEGIN:VEVENT
DTSTART;TZID=America/New_York:20250411T200000
DTEND;TZID=America/New_York:20250411T220000
DTSTAMP:20260423T010300
CREATED:20250109T191048Z
LAST-MODIFIED:20250109T191048Z
UID:40810117806-1744401600-1744408800@www.monmouth.edu
SUMMARY:Craft Night & Snacks
DESCRIPTION:Get creative and unwind at Craft Night & Snacks\, where you can craft your own unique projects while enjoying delicious treats! Whether you’re a seasoned crafter or a beginner\, this fun and relaxing night is perfect for tapping into your artistic side with great company and tasty snacks.
URL:https://www.monmouth.edu/events/event/craft-night-snacks/
LOCATION:Student Center Fireplace Lounge
ATTACH;FMTTYPE=image/jpeg:https://www.monmouth.edu/events/wp-content/uploads/sites/19/2025/01/studio-photo-by-see-ming-lee-via-flickr-creative-commons-license-1024x683-1.jpg
END:VEVENT
END:VCALENDAR