BEGIN:VCALENDAR
VERSION:2.0
PRODID:-//Events - ECPv6.15.20//NONSGML v1.0//EN
CALSCALE:GREGORIAN
METHOD:PUBLISH
X-ORIGINAL-URL:https://www.monmouth.edu/events
X-WR-CALDESC:Events for Events
REFRESH-INTERVAL;VALUE=DURATION:PT1H
X-Robots-Tag:noindex
X-PUBLISHED-TTL:PT1H
BEGIN:VTIMEZONE
TZID:America/New_York
BEGIN:DAYLIGHT
TZOFFSETFROM:-0500
TZOFFSETTO:-0400
TZNAME:EDT
DTSTART:20240310T070000
END:DAYLIGHT
BEGIN:STANDARD
TZOFFSETFROM:-0400
TZOFFSETTO:-0500
TZNAME:EST
DTSTART:20241103T060000
END:STANDARD
BEGIN:DAYLIGHT
TZOFFSETFROM:-0500
TZOFFSETTO:-0400
TZNAME:EDT
DTSTART:20250309T070000
END:DAYLIGHT
BEGIN:STANDARD
TZOFFSETFROM:-0400
TZOFFSETTO:-0500
TZNAME:EST
DTSTART:20251102T060000
END:STANDARD
BEGIN:DAYLIGHT
TZOFFSETFROM:-0500
TZOFFSETTO:-0400
TZNAME:EDT
DTSTART:20260308T070000
END:DAYLIGHT
BEGIN:STANDARD
TZOFFSETFROM:-0400
TZOFFSETTO:-0500
TZNAME:EST
DTSTART:20261101T060000
END:STANDARD
END:VTIMEZONE
BEGIN:VEVENT
DTSTART;TZID=America/New_York:20250206T000000
DTEND;TZID=America/New_York:20250427T235959
DTSTAMP:20260423T025658
CREATED:20250306T225532Z
LAST-MODIFIED:20250306T225625Z
UID:40810115923-1738800000-1745798399@www.monmouth.edu
SUMMARY:Ocean Bodies\, A Solo Exhibit by Kimberly Callas
DESCRIPTION:Monmouth University’s Ice House Gallery presents Ocean Bodies\, a powerful solo exhibition by multimedia artist Kimberly Callas. The exhibition will open on February 6\, 2025\, with an evening reception from 5:30 to 7:30 PM\, and will run through April 27\, 2025. Ocean Bodies offers an immersive exploration of humanity’s interconnectedness with the ocean\, drawing on symbols\, archetypes\, and ecological narratives to invite contemplation and action. \nThrough sculptures\, large-scale drawings\, and mixed-media works\, Callas examines the “crisis of meaning” at the heart of the climate crisis and advocates for a shift in consciousness toward an “ecological self.” This concept\, central to her work\, reflects humanity’s integral role within nature rather than apart from it. In Ocean Bodies\, she uses water-based materials\, such as dyed fabrics\, India ink\, and water-soluble graphite\, to invoke the sea’s physical presence while exploring the symbolic depth of whales\, the horizon\, and the ocean itself as metaphors for the psyche and cosmos. \nAmong the featured works is a series of 10-foot mixed-media drawings inspired by historical nautical charts\, which pair psychological journeys with the migration of critically endangered North Atlantic right whales. Complementing these works are colorful life-size figurative sculptures and reliefs\, 3D-printed using bio-filament\, that further explore themes of renewal and interconnection. Through these works\, Callas poses urgent questions about the loss of meaning\, wisdom\, and biodiversity in the Anthropocene. \n“The ocean has a unique way to connect with people in an immediate and emotional way. Science and data can only tell us so much; art can speak to each of us in a way that is both uniquely personal and universal. Having Kimberly as the Urban Coast Institute artist-in-residence provided inspiration for some of the artwork in the Ocean Bodies exhibit\, which will in turn inspire others. She was also able to share her creative process with her students\, conducting lectures and using her art and sculpture as a pathway to ‘discovering the ecological self.’ This work reminds us that the worlds of art and science are two sides of the same coin\,” said Tony MacDonald\, J.D.\, Director\, Urban Coast Institute. \nCallas created much of the work in Ocean Bodies during an artist residency with Monmouth University’s Urban Coast Institute\, with additional research conducted at the Archive for Research in Archetypal Symbolism (ARAS) and an artist residency at the Arts Quarter Budapest. This body of work seeks to merge art\, science\, and archetypal symbols to foster a deeper understanding of humanity’s place within the natural world and inspire meaningful environmental action. \nAbout the Artist \nKimberly Callas is a multimedia artist\, sculptor\, and the lead artist of the Social Practice project Discovering the Ecological Self. Her work delves into the human/nature relationship\, focusing on the concept of the ecological self. Recently\, she has incorporated cutting-edge technologies\, such as 3D printing with bio-filaments and CNC\, into her life-size sculptures. Art New England described her series Portrait of the Ecological Self as “unforgettable.” \nCallas’s work often involves community engagement. With her Discovering the Ecological Self social practice project\, featured in The Huffington Post\, she has led workshops across the U.S. and internationally. Her art has been showcased in prestigious galleries and museums worldwide\, earning her numerous awards and grants\, including the Pollination Project Grant\, the Urban Coast Artist-in-Residence award\, and the Puffin Foundation Grant. Her accolades include First Place in Sculpture at the Catharine Lorillard Wolfe Art Club’s Annual Exhibit in New York City. \nCallas’s recent exhibitions include the International New Media Exhibit at the CICA Museum in South Korea\, Crossing Boundaries: Art and the Future of Energy at the Pensacola Museum of Art\, and Ocean Swimmers (Entanglement)\, a solo exhibition in Budapest. In May 2025\, she will unveil a public art commission for the Lambert Castle Renovation in Paterson\, New Jersey. \nCallas holds an MFA from the New York Academy of Art and a BFA from the University of Michigan. She is currently an Associate Professor of Art at Monmouth University and maintains studios in Maine and New Jersey. \nEvent Details: \nExhibition: Ocean Bodies\nLocation: Ice House Gallery\, Monmouth University\, 400 Cedar Ave # 600\, West Long Branch\, NJ 07764\nOpening Reception: February 6\, 2025\, 5:30–7:30 PM\nExhibition Dates: February 6\, 2025 – April 27\, 2025\nGallery Hours: Mon-Fri\, 10am-5pm\, \nFor additional information\, please contact Scott Knauer\, 732.923.4786  or visit https://kimberlycallas.com/. \n 
URL:https://www.monmouth.edu/events/event/ocean-bodies-a-solo-exhibit-by-eco-artist-kimberly-callas-2/
LOCATION:Rotary Ice House Gallery
CATEGORIES:Academic Calendar,Alumni Calendar Featured,Art and Design,Art Exhibitions,Arts at Monmouth,Free
ATTACH;FMTTYPE=image/jpeg:https://www.monmouth.edu/events/wp-content/uploads/sites/19/2024/12/callas_header-1.jpg
ORGANIZER;CN="Art and Design Department":MAILTO:sknauer@monmouth.edu
END:VEVENT
BEGIN:VEVENT
DTSTART;TZID=America/New_York:20250329T000000
DTEND;TZID=America/New_York:20250329T235959
DTSTAMP:20260423T025658
CREATED:20250326T174034Z
LAST-MODIFIED:20250329T175609Z
UID:40810119046-1743206400-1743292799@www.monmouth.edu
SUMMARY:Men's Track and Field vs Monmouth Season Opener
DESCRIPTION:Monmouth University Men’s Track and Field vs Monmouth Season Opener\nStreaming Video: https://go.flosports.tv/partner/caa?utm_campaign=caa&utm_medium=partner&utm_source=teams&utm_content=teams&rtid=monmouth&coverage_id=
URL:https://www.monmouth.edu/events/event/monmouth-university-mens-track-and-field-vs-monmouth-season-opener-2/
LOCATION:Kessler Stadium\, 107 Larchwood Ave\, West Long Branch\, NJ\, United States
CATEGORIES:Men's Track & Field
GEO:40.279417;-74.010815
X-APPLE-STRUCTURED-LOCATION;VALUE=URI;X-ADDRESS=Kessler Stadium 107 Larchwood Ave West Long Branch NJ United States;X-APPLE-RADIUS=500;X-TITLE=107 Larchwood Ave:geo:-74.010815,40.279417
END:VEVENT
BEGIN:VEVENT
DTSTART;TZID=America/New_York:20250329T000000
DTEND;TZID=America/New_York:20250329T235959
DTSTAMP:20260423T025658
CREATED:20250326T214030Z
LAST-MODIFIED:20250329T214108Z
UID:40810119054-1743206400-1743292799@www.monmouth.edu
SUMMARY:Women's Track and Field vs Monmouth Season Opener
DESCRIPTION:Monmouth University Women’s Track and Field vs Monmouth Season Opener\nStreaming Video: https://go.flosports.tv/partner/caa?utm_campaign=caa&utm_medium=partner&utm_source=teams&utm_content=teams&rtid=monmouth&coverage_id=
URL:https://www.monmouth.edu/events/event/monmouth-university-womens-track-and-field-vs-monmouth-season-opener-2/
LOCATION:Kessler Stadium\, 107 Larchwood Ave\, West Long Branch\, NJ\, United States
CATEGORIES:Women's Track & Field
GEO:40.279417;-74.010815
X-APPLE-STRUCTURED-LOCATION;VALUE=URI;X-ADDRESS=Kessler Stadium 107 Larchwood Ave West Long Branch NJ United States;X-APPLE-RADIUS=500;X-TITLE=107 Larchwood Ave:geo:-74.010815,40.279417
END:VEVENT
BEGIN:VEVENT
DTSTART;TZID=America/New_York:20250329T110000
DTEND;TZID=America/New_York:20250329T140000
DTSTAMP:20260423T025658
CREATED:20241223T162514Z
LAST-MODIFIED:20250329T144108Z
UID:40810117197-1743246000-1743256800@www.monmouth.edu
SUMMARY:Men's Lacrosse at Hampton
DESCRIPTION:Monmouth University Men’s Lacrosse at Hampton\nStreaming Video: https://go.flosports.tv/partner/caa?utm_campaign=caa&utm_medium=partner&utm_source=teams&utm_content=teams&rtid=monmouth&coverage_id=
URL:https://www.monmouth.edu/events/event/monmouth-university-mens-lacrosse-at-hampton/
LOCATION:Hampton\, VA
CATEGORIES:Men's Lacrosse
END:VEVENT
BEGIN:VEVENT
DTSTART;TZID=America/New_York:20250329T120000
DTEND;TZID=America/New_York:20250329T140000
DTSTAMP:20260423T025658
CREATED:20250106T191116Z
LAST-MODIFIED:20250328T204108Z
UID:40810117596-1743249600-1743256800@www.monmouth.edu
SUMMARY:Softball vs UNCW
DESCRIPTION:Monmouth University Softball vs UNCW
URL:https://www.monmouth.edu/events/event/monmouth-university-softball-vs-uncw-2/
LOCATION:West Long Branch\, NJ
CATEGORIES:Women's Softball
END:VEVENT
BEGIN:VEVENT
DTSTART;TZID=America/New_York:20250329T130000
DTEND;TZID=America/New_York:20250329T160000
DTSTAMP:20260423T025658
CREATED:20250102T214101Z
LAST-MODIFIED:20250328T222608Z
UID:40810117401-1743253200-1743264000@www.monmouth.edu
SUMMARY:Baseball at Towson
DESCRIPTION:Monmouth University Baseball at Towson\nStreaming Video: https://go.flosports.tv/partner/caa?utm_campaign=caa&utm_medium=partner&utm_source=teams&utm_content=teams&rtid=monmouth&coverage_id=
URL:https://www.monmouth.edu/events/event/monmouth-university-baseball-at-towson-2/
LOCATION:Towson\, MD
CATEGORIES:Men's Baseball
END:VEVENT
BEGIN:VEVENT
DTSTART;TZID=America/New_York:20250329T140000
DTEND;TZID=America/New_York:20250329T160000
DTSTAMP:20260423T025658
CREATED:20250109T170634Z
LAST-MODIFIED:20250305T180640Z
UID:40810117781-1743256800-1743264000@www.monmouth.edu
SUMMARY:Blue Hawk Records in the Great Hall
DESCRIPTION:Experience the ultimate music showcase at Blue Hawk Records in the Great Hall\, for an unforgettable afternoon of live performances. Enjoy the vibrant energy\, great tunes\, and a dynamic atmosphere as the night comes alive with music and creativity! Saturday\, March 29\, 2-4 pm\, Great Hall\, 1st Floor
URL:https://www.monmouth.edu/events/event/blue-hawk-records-after-dark/
LOCATION:Great Hall 1st Floor
CATEGORIES:Featured
ATTACH;FMTTYPE=image/jpeg:https://www.monmouth.edu/events/wp-content/uploads/sites/19/2025/01/israel-palacio-Y20JJ_ddy9M-unsplash-1-scaled-2.jpg
END:VEVENT
BEGIN:VEVENT
DTSTART;TZID=America/New_York:20250329T210000
DTEND;TZID=America/New_York:20250329T230000
DTSTAMP:20260423T025658
CREATED:20250319T145755Z
LAST-MODIFIED:20250319T191246Z
UID:40810119031-1743282000-1743289200@www.monmouth.edu
SUMMARY:Destress Crafts:  Paint and Sip
DESCRIPTION:Paint & Sip: A Creative Night Out! 🎨☕ \nUnleash your inner artist at our Paint & Sip event! Join us for a fun and relaxing evening where you can paint your own masterpiece while sipping on delicious mocktails and refreshments. Saturday\, March 29\, Pinewood Lounge\, 9-11 pm \n🎨 What to Expect:All painting supplies providedMocktails\, snacks\, and good vibesA fun\, stress-free atmosphere to unwind and get creative \nBring your friends\, enjoy some great music\, and take home a work of art that’s uniquely yours! 🎶✨
URL:https://www.monmouth.edu/events/event/destress-crafts-paint-and-sip/
LOCATION:Pinewood Hall Lounge
ATTACH;FMTTYPE=image/webp:https://www.monmouth.edu/events/wp-content/uploads/sites/19/2025/03/paint-sip-materials.webp
END:VEVENT
END:VCALENDAR