BEGIN:VCALENDAR
VERSION:2.0
PRODID:-//Events - ECPv6.15.20//NONSGML v1.0//EN
CALSCALE:GREGORIAN
METHOD:PUBLISH
X-ORIGINAL-URL:https://www.monmouth.edu/events
X-WR-CALDESC:Events for Events
REFRESH-INTERVAL;VALUE=DURATION:PT1H
X-Robots-Tag:noindex
X-PUBLISHED-TTL:PT1H
BEGIN:VTIMEZONE
TZID:America/New_York
BEGIN:DAYLIGHT
TZOFFSETFROM:-0500
TZOFFSETTO:-0400
TZNAME:EDT
DTSTART:20240310T070000
END:DAYLIGHT
BEGIN:STANDARD
TZOFFSETFROM:-0400
TZOFFSETTO:-0500
TZNAME:EST
DTSTART:20241103T060000
END:STANDARD
BEGIN:DAYLIGHT
TZOFFSETFROM:-0500
TZOFFSETTO:-0400
TZNAME:EDT
DTSTART:20250309T070000
END:DAYLIGHT
BEGIN:STANDARD
TZOFFSETFROM:-0400
TZOFFSETTO:-0500
TZNAME:EST
DTSTART:20251102T060000
END:STANDARD
BEGIN:DAYLIGHT
TZOFFSETFROM:-0500
TZOFFSETTO:-0400
TZNAME:EDT
DTSTART:20260308T070000
END:DAYLIGHT
BEGIN:STANDARD
TZOFFSETFROM:-0400
TZOFFSETTO:-0500
TZNAME:EST
DTSTART:20261101T060000
END:STANDARD
END:VTIMEZONE
BEGIN:VEVENT
DTSTART;TZID=America/New_York:20250121T000000
DTEND;TZID=America/New_York:20250323T235959
DTSTAMP:20260423T010243
CREATED:20241002T195039Z
LAST-MODIFIED:20241218T181455Z
UID:40810114439-1737417600-1742774399@www.monmouth.edu
SUMMARY:Michael Malpass: Renaissance Man
DESCRIPTION:Through the alchemy of welding and traditional blacksmithing\, Michael Malpass commanded steel\, bronze\, copper\, and brass with a sculptor’s precision. He elevated these industrial remnants\, liberating them from their utilitarian past\, and reimagined them as vibrant works of art— imbuing them with new life and meaning. \nOpening Reception: Friday\, February 7\, 5:30pm – 7:30pm
URL:https://www.monmouth.edu/events/event/michael-malpass-renaissance-man/
LOCATION:DiMattio Gallery at Rechnitz Hall
CATEGORIES:Art Exhibitions,Arts at Monmouth,Free
ATTACH;FMTTYPE=image/jpeg:https://www.monmouth.edu/events/wp-content/uploads/sites/19/2024/10/header_malpass.jpg
END:VEVENT
BEGIN:VEVENT
DTSTART;TZID=America/New_York:20250206T000000
DTEND;TZID=America/New_York:20250427T235959
DTSTAMP:20260423T010243
CREATED:20250306T225532Z
LAST-MODIFIED:20250306T225625Z
UID:40810115923-1738800000-1745798399@www.monmouth.edu
SUMMARY:Ocean Bodies\, A Solo Exhibit by Kimberly Callas
DESCRIPTION:Monmouth University’s Ice House Gallery presents Ocean Bodies\, a powerful solo exhibition by multimedia artist Kimberly Callas. The exhibition will open on February 6\, 2025\, with an evening reception from 5:30 to 7:30 PM\, and will run through April 27\, 2025. Ocean Bodies offers an immersive exploration of humanity’s interconnectedness with the ocean\, drawing on symbols\, archetypes\, and ecological narratives to invite contemplation and action. \nThrough sculptures\, large-scale drawings\, and mixed-media works\, Callas examines the “crisis of meaning” at the heart of the climate crisis and advocates for a shift in consciousness toward an “ecological self.” This concept\, central to her work\, reflects humanity’s integral role within nature rather than apart from it. In Ocean Bodies\, she uses water-based materials\, such as dyed fabrics\, India ink\, and water-soluble graphite\, to invoke the sea’s physical presence while exploring the symbolic depth of whales\, the horizon\, and the ocean itself as metaphors for the psyche and cosmos. \nAmong the featured works is a series of 10-foot mixed-media drawings inspired by historical nautical charts\, which pair psychological journeys with the migration of critically endangered North Atlantic right whales. Complementing these works are colorful life-size figurative sculptures and reliefs\, 3D-printed using bio-filament\, that further explore themes of renewal and interconnection. Through these works\, Callas poses urgent questions about the loss of meaning\, wisdom\, and biodiversity in the Anthropocene. \n“The ocean has a unique way to connect with people in an immediate and emotional way. Science and data can only tell us so much; art can speak to each of us in a way that is both uniquely personal and universal. Having Kimberly as the Urban Coast Institute artist-in-residence provided inspiration for some of the artwork in the Ocean Bodies exhibit\, which will in turn inspire others. She was also able to share her creative process with her students\, conducting lectures and using her art and sculpture as a pathway to ‘discovering the ecological self.’ This work reminds us that the worlds of art and science are two sides of the same coin\,” said Tony MacDonald\, J.D.\, Director\, Urban Coast Institute. \nCallas created much of the work in Ocean Bodies during an artist residency with Monmouth University’s Urban Coast Institute\, with additional research conducted at the Archive for Research in Archetypal Symbolism (ARAS) and an artist residency at the Arts Quarter Budapest. This body of work seeks to merge art\, science\, and archetypal symbols to foster a deeper understanding of humanity’s place within the natural world and inspire meaningful environmental action. \nAbout the Artist \nKimberly Callas is a multimedia artist\, sculptor\, and the lead artist of the Social Practice project Discovering the Ecological Self. Her work delves into the human/nature relationship\, focusing on the concept of the ecological self. Recently\, she has incorporated cutting-edge technologies\, such as 3D printing with bio-filaments and CNC\, into her life-size sculptures. Art New England described her series Portrait of the Ecological Self as “unforgettable.” \nCallas’s work often involves community engagement. With her Discovering the Ecological Self social practice project\, featured in The Huffington Post\, she has led workshops across the U.S. and internationally. Her art has been showcased in prestigious galleries and museums worldwide\, earning her numerous awards and grants\, including the Pollination Project Grant\, the Urban Coast Artist-in-Residence award\, and the Puffin Foundation Grant. Her accolades include First Place in Sculpture at the Catharine Lorillard Wolfe Art Club’s Annual Exhibit in New York City. \nCallas’s recent exhibitions include the International New Media Exhibit at the CICA Museum in South Korea\, Crossing Boundaries: Art and the Future of Energy at the Pensacola Museum of Art\, and Ocean Swimmers (Entanglement)\, a solo exhibition in Budapest. In May 2025\, she will unveil a public art commission for the Lambert Castle Renovation in Paterson\, New Jersey. \nCallas holds an MFA from the New York Academy of Art and a BFA from the University of Michigan. She is currently an Associate Professor of Art at Monmouth University and maintains studios in Maine and New Jersey. \nEvent Details: \nExhibition: Ocean Bodies\nLocation: Ice House Gallery\, Monmouth University\, 400 Cedar Ave # 600\, West Long Branch\, NJ 07764\nOpening Reception: February 6\, 2025\, 5:30–7:30 PM\nExhibition Dates: February 6\, 2025 – April 27\, 2025\nGallery Hours: Mon-Fri\, 10am-5pm\, \nFor additional information\, please contact Scott Knauer\, 732.923.4786  or visit https://kimberlycallas.com/. \n 
URL:https://www.monmouth.edu/events/event/ocean-bodies-a-solo-exhibit-by-eco-artist-kimberly-callas-2/
LOCATION:Rotary Ice House Gallery
CATEGORIES:Academic Calendar,Alumni Calendar Featured,Art and Design,Art Exhibitions,Arts at Monmouth,Free
ATTACH;FMTTYPE=image/jpeg:https://www.monmouth.edu/events/wp-content/uploads/sites/19/2024/12/callas_header-1.jpg
ORGANIZER;CN="Art and Design Department":MAILTO:sknauer@monmouth.edu
END:VEVENT
BEGIN:VEVENT
DTSTART;TZID=America/New_York:20250313T090000
DTEND;TZID=America/New_York:20250313T150000
DTSTAMP:20260423T010243
CREATED:20250310T150017Z
LAST-MODIFIED:20250310T150017Z
UID:40810119003-1741856400-1741878000@www.monmouth.edu
SUMMARY:SNAP & Health Insurance Assistance
DESCRIPTION:Are you unsure if you qualify for SNAP and Health Insurance? Fulfill NJ will be on campus this Thursday\, March 13th from 9am-3pm on the 3rd Floor of the Student Center\, near the Counseling and Prevention Services office. \nGet FREE\, in-person assistance! NO APPOINTMENTS NECESSARY! \nWhat to bring: Photo ID\, SSNs of household members\, Proof of Residence\, Earned/unearned income\, Rent/mortgage\, utility receipts. \nFor more information\, call Fulfill NJ 732-643-5888  (se habla espanol)
URL:https://www.monmouth.edu/events/event/snap-health-insurance-assistance/
LOCATION:Student Center – 3rd Floor
ATTACH;FMTTYPE=image/png:https://www.monmouth.edu/events/wp-content/uploads/sites/19/2025/03/Fulfill-TV-Ads.png
ORGANIZER;CN="Office of Student Support &amp%3B Veteran Services":MAILTO:xramirez@monmouth.edu
END:VEVENT
BEGIN:VEVENT
DTSTART;TZID=America/New_York:20250313T120000
DTEND;TZID=America/New_York:20250313T150000
DTSTAMP:20260423T010243
CREATED:20250109T170702Z
LAST-MODIFIED:20250109T170702Z
UID:40810117772-1741867200-1741878000@www.monmouth.edu
SUMMARY:OSE National Popcorn Day Pop-Up Event
DESCRIPTION:Celebrate National Popcorn Day at the OSE Pop-Up Event\, where you can enjoy a variety of delicious\, freshly popped popcorn flavors! Whether you prefer sweet or savory\, there’s a tasty treat for everyone to enjoy as you snack and mingle with friends!
URL:https://www.monmouth.edu/events/event/ose-national-popcorn-day-pop-up-event/
LOCATION:Student Center – 2nd Floor
ATTACH;FMTTYPE=image/jpeg:https://www.monmouth.edu/events/wp-content/uploads/sites/19/2025/01/Simply-Recipes-Perfect-Popcorn-LEAD-41-4a75a18443ae45aa96053f30a3ed0a6b.jpg
END:VEVENT
BEGIN:VEVENT
DTSTART;TZID=America/New_York:20250313T143000
DTEND;TZID=America/New_York:20250313T163000
DTSTAMP:20260423T010243
CREATED:20250122T164831Z
LAST-MODIFIED:20250313T055608Z
UID:40810114287-1741876200-1741883400@www.monmouth.edu
SUMMARY:Women's Basketball vs #13 Hampton - Second Round
DESCRIPTION:Monmouth University Women’s Basketball vs #13 Hampton – Second Round\nStreaming Video: https://www.flocollege.com/collections/6743769-caa-womens-basketball\nTickets: https://www.ticketmaster.com/event/1500616EB1572C1F
URL:https://www.monmouth.edu/events/event/womens-basketball-vs-caa-tournament/
LOCATION:CareFirst Arena – Washington\, DC
CATEGORIES:Women's Basketball
END:VEVENT
BEGIN:VEVENT
DTSTART;TZID=America/New_York:20250313T180000
DTEND;TZID=America/New_York:20250313T200000
DTSTAMP:20260423T010243
CREATED:20250225T215940Z
LAST-MODIFIED:20250225T220026Z
UID:40810118809-1741888800-1741896000@www.monmouth.edu
SUMMARY:CAC Presentation Series: "Medical Trauma: Emotional Implications and Crisis Intervention"
DESCRIPTION:CAC Presentation Series: Alumni Status\n\nMedical Trauma: Emotional Implications and Crisis Intervention\n\nPresenter: Alison Kulick\, M.S.\, LPC\, NCC\, CVT\n\n\nPrice: $20 for Alumni and Professionals\, Free for Students \n\n\n\n2 CE Hours Provided \n\n\n\nTraumatic medical events such as illness\, diagnostic\, or therapeutic procedures can have a myriad of emotional consequences which can include PTSD\, chronic anxiety\, varying somatic symptoms such as panic attacks\, and can lead to the avoidance of necessary medical procedures. This presentation will discuss the physical and psychological challenges associated with medical trauma as well as therapeutic interventions which may help mitigate the emotional suffering of these potentially profoundly distressing scenarios. \n\n\n\nAlison Kulick graduated with her master’s degree from the Clinical Mental Health program in 2019 from Monmouth University. She has her bachelor’s degree in Animal Science from Rutgers University/Cook College. She is a licensed professional counselor and national certified counselor and still maintains her credentialing as a certified veterinary technician.
URL:https://www.monmouth.edu/events/event/cac-presentation-series-medical-trauma-emotional-implications-and-crisis-intervention/
LOCATION:Edison Hall E201
CATEGORIES:Alumni,Community Member,Lectures,Lectures/Workshops/Symposiums,Professional Counseling,School of Humanities and Social Sciences,Workshops and Professional Development
END:VEVENT
BEGIN:VEVENT
DTSTART;TZID=America/New_York:20250313T200000
DTEND;TZID=America/New_York:20250313T213000
DTSTAMP:20260423T010243
CREATED:20250207T152949Z
LAST-MODIFIED:20250207T154344Z
UID:40810118589-1741896000-1741901400@www.monmouth.edu
SUMMARY:Thursday Night Alternative - Game Night
DESCRIPTION:Thursday Night Alternative – Game Night! \nTake a break from studying and level up your Thursday nights with TNA – Game Night! 🏆 Whether you’re into board games\, dominos\, trivia games\, or card games we’ve got something for everyone. Bring your competitive spirit\, enjoy free snacks\, and challenge your friends (or make new ones) in a fun\, laid-back atmosphere.  Thursday\, March 13 @ 8 pm\, Pinewood Lounge
URL:https://www.monmouth.edu/events/event/thursday-night-alternative-game-night/
LOCATION:Pinewood Hall Lounge
ATTACH;FMTTYPE=image/jpeg:https://www.monmouth.edu/events/wp-content/uploads/sites/19/2025/01/download-1-2.jpg
END:VEVENT
END:VCALENDAR