BEGIN:VCALENDAR
VERSION:2.0
PRODID:-//Events - ECPv6.15.20//NONSGML v1.0//EN
CALSCALE:GREGORIAN
METHOD:PUBLISH
X-ORIGINAL-URL:https://www.monmouth.edu/events
X-WR-CALDESC:Events for Events
REFRESH-INTERVAL;VALUE=DURATION:PT1H
X-Robots-Tag:noindex
X-PUBLISHED-TTL:PT1H
BEGIN:VTIMEZONE
TZID:America/New_York
BEGIN:DAYLIGHT
TZOFFSETFROM:-0500
TZOFFSETTO:-0400
TZNAME:EDT
DTSTART:20240310T070000
END:DAYLIGHT
BEGIN:STANDARD
TZOFFSETFROM:-0400
TZOFFSETTO:-0500
TZNAME:EST
DTSTART:20241103T060000
END:STANDARD
BEGIN:DAYLIGHT
TZOFFSETFROM:-0500
TZOFFSETTO:-0400
TZNAME:EDT
DTSTART:20250309T070000
END:DAYLIGHT
BEGIN:STANDARD
TZOFFSETFROM:-0400
TZOFFSETTO:-0500
TZNAME:EST
DTSTART:20251102T060000
END:STANDARD
BEGIN:DAYLIGHT
TZOFFSETFROM:-0500
TZOFFSETTO:-0400
TZNAME:EDT
DTSTART:20260308T070000
END:DAYLIGHT
BEGIN:STANDARD
TZOFFSETFROM:-0400
TZOFFSETTO:-0500
TZNAME:EST
DTSTART:20261101T060000
END:STANDARD
END:VTIMEZONE
BEGIN:VEVENT
DTSTART;TZID=America/New_York:20250121T000000
DTEND;TZID=America/New_York:20250323T235959
DTSTAMP:20260423T061602
CREATED:20241002T195039Z
LAST-MODIFIED:20241218T181455Z
UID:40810114439-1737417600-1742774399@www.monmouth.edu
SUMMARY:Michael Malpass: Renaissance Man
DESCRIPTION:Through the alchemy of welding and traditional blacksmithing\, Michael Malpass commanded steel\, bronze\, copper\, and brass with a sculptor’s precision. He elevated these industrial remnants\, liberating them from their utilitarian past\, and reimagined them as vibrant works of art— imbuing them with new life and meaning. \nOpening Reception: Friday\, February 7\, 5:30pm – 7:30pm
URL:https://www.monmouth.edu/events/event/michael-malpass-renaissance-man/
LOCATION:DiMattio Gallery at Rechnitz Hall
CATEGORIES:Art Exhibitions,Arts at Monmouth,Free
ATTACH;FMTTYPE=image/jpeg:https://www.monmouth.edu/events/wp-content/uploads/sites/19/2024/10/header_malpass.jpg
END:VEVENT
BEGIN:VEVENT
DTSTART;TZID=America/New_York:20250206T000000
DTEND;TZID=America/New_York:20250427T235959
DTSTAMP:20260423T061602
CREATED:20250306T225532Z
LAST-MODIFIED:20250306T225625Z
UID:40810115923-1738800000-1745798399@www.monmouth.edu
SUMMARY:Ocean Bodies\, A Solo Exhibit by Kimberly Callas
DESCRIPTION:Monmouth University’s Ice House Gallery presents Ocean Bodies\, a powerful solo exhibition by multimedia artist Kimberly Callas. The exhibition will open on February 6\, 2025\, with an evening reception from 5:30 to 7:30 PM\, and will run through April 27\, 2025. Ocean Bodies offers an immersive exploration of humanity’s interconnectedness with the ocean\, drawing on symbols\, archetypes\, and ecological narratives to invite contemplation and action. \nThrough sculptures\, large-scale drawings\, and mixed-media works\, Callas examines the “crisis of meaning” at the heart of the climate crisis and advocates for a shift in consciousness toward an “ecological self.” This concept\, central to her work\, reflects humanity’s integral role within nature rather than apart from it. In Ocean Bodies\, she uses water-based materials\, such as dyed fabrics\, India ink\, and water-soluble graphite\, to invoke the sea’s physical presence while exploring the symbolic depth of whales\, the horizon\, and the ocean itself as metaphors for the psyche and cosmos. \nAmong the featured works is a series of 10-foot mixed-media drawings inspired by historical nautical charts\, which pair psychological journeys with the migration of critically endangered North Atlantic right whales. Complementing these works are colorful life-size figurative sculptures and reliefs\, 3D-printed using bio-filament\, that further explore themes of renewal and interconnection. Through these works\, Callas poses urgent questions about the loss of meaning\, wisdom\, and biodiversity in the Anthropocene. \n“The ocean has a unique way to connect with people in an immediate and emotional way. Science and data can only tell us so much; art can speak to each of us in a way that is both uniquely personal and universal. Having Kimberly as the Urban Coast Institute artist-in-residence provided inspiration for some of the artwork in the Ocean Bodies exhibit\, which will in turn inspire others. She was also able to share her creative process with her students\, conducting lectures and using her art and sculpture as a pathway to ‘discovering the ecological self.’ This work reminds us that the worlds of art and science are two sides of the same coin\,” said Tony MacDonald\, J.D.\, Director\, Urban Coast Institute. \nCallas created much of the work in Ocean Bodies during an artist residency with Monmouth University’s Urban Coast Institute\, with additional research conducted at the Archive for Research in Archetypal Symbolism (ARAS) and an artist residency at the Arts Quarter Budapest. This body of work seeks to merge art\, science\, and archetypal symbols to foster a deeper understanding of humanity’s place within the natural world and inspire meaningful environmental action. \nAbout the Artist \nKimberly Callas is a multimedia artist\, sculptor\, and the lead artist of the Social Practice project Discovering the Ecological Self. Her work delves into the human/nature relationship\, focusing on the concept of the ecological self. Recently\, she has incorporated cutting-edge technologies\, such as 3D printing with bio-filaments and CNC\, into her life-size sculptures. Art New England described her series Portrait of the Ecological Self as “unforgettable.” \nCallas’s work often involves community engagement. With her Discovering the Ecological Self social practice project\, featured in The Huffington Post\, she has led workshops across the U.S. and internationally. Her art has been showcased in prestigious galleries and museums worldwide\, earning her numerous awards and grants\, including the Pollination Project Grant\, the Urban Coast Artist-in-Residence award\, and the Puffin Foundation Grant. Her accolades include First Place in Sculpture at the Catharine Lorillard Wolfe Art Club’s Annual Exhibit in New York City. \nCallas’s recent exhibitions include the International New Media Exhibit at the CICA Museum in South Korea\, Crossing Boundaries: Art and the Future of Energy at the Pensacola Museum of Art\, and Ocean Swimmers (Entanglement)\, a solo exhibition in Budapest. In May 2025\, she will unveil a public art commission for the Lambert Castle Renovation in Paterson\, New Jersey. \nCallas holds an MFA from the New York Academy of Art and a BFA from the University of Michigan. She is currently an Associate Professor of Art at Monmouth University and maintains studios in Maine and New Jersey. \nEvent Details: \nExhibition: Ocean Bodies\nLocation: Ice House Gallery\, Monmouth University\, 400 Cedar Ave # 600\, West Long Branch\, NJ 07764\nOpening Reception: February 6\, 2025\, 5:30–7:30 PM\nExhibition Dates: February 6\, 2025 – April 27\, 2025\nGallery Hours: Mon-Fri\, 10am-5pm\, \nFor additional information\, please contact Scott Knauer\, 732.923.4786  or visit https://kimberlycallas.com/. \n 
URL:https://www.monmouth.edu/events/event/ocean-bodies-a-solo-exhibit-by-eco-artist-kimberly-callas-2/
LOCATION:Rotary Ice House Gallery
CATEGORIES:Academic Calendar,Alumni Calendar Featured,Art and Design,Art Exhibitions,Arts at Monmouth,Free
ATTACH;FMTTYPE=image/jpeg:https://www.monmouth.edu/events/wp-content/uploads/sites/19/2024/12/callas_header-1.jpg
ORGANIZER;CN="Art and Design Department":MAILTO:sknauer@monmouth.edu
END:VEVENT
BEGIN:VEVENT
DTSTART;TZID=America/New_York:20250214T000000
DTEND;TZID=America/New_York:20250215T235959
DTSTAMP:20260423T061602
CREATED:20240927T234045Z
LAST-MODIFIED:20250215T222608Z
UID:40810114379-1739491200-1739663999@www.monmouth.edu
SUMMARY:Bowling vs Fairleigh Dickinson
DESCRIPTION:Monmouth University Bowling vs Fairleigh Dickinson
URL:https://www.monmouth.edu/events/event/monmouth-university-bowling-vs-fairleigh-dickinson-2/
LOCATION:Altoona\, PA
CATEGORIES:Women's Bowling
END:VEVENT
BEGIN:VEVENT
DTSTART;TZID=America/New_York:20250214T000000
DTEND;TZID=America/New_York:20250215T235959
DTSTAMP:20260423T061602
CREATED:20240927T234045Z
LAST-MODIFIED:20250215T222609Z
UID:40810114382-1739491200-1739663999@www.monmouth.edu
SUMMARY:Bowling vs LIU
DESCRIPTION:Monmouth University Bowling vs LIU
URL:https://www.monmouth.edu/events/event/monmouth-university-bowling-vs-liu-2/
LOCATION:Altoona\, PA
CATEGORIES:Women's Bowling
END:VEVENT
BEGIN:VEVENT
DTSTART;TZID=America/New_York:20250214T000000
DTEND;TZID=America/New_York:20250215T235959
DTSTAMP:20260423T061602
CREATED:20240927T234045Z
LAST-MODIFIED:20250215T222609Z
UID:40810114385-1739491200-1739663999@www.monmouth.edu
SUMMARY:Bowling vs Mercyhurst
DESCRIPTION:Monmouth University Bowling vs Mercyhurst
URL:https://www.monmouth.edu/events/event/monmouth-university-bowling-vs-mercyhurst-2/
LOCATION:Altoona\, PA
CATEGORIES:Women's Bowling
END:VEVENT
BEGIN:VEVENT
DTSTART;TZID=America/New_York:20250214T000000
DTEND;TZID=America/New_York:20250215T235959
DTSTAMP:20260423T061602
CREATED:20240927T234045Z
LAST-MODIFIED:20250215T222609Z
UID:40810114388-1739491200-1739663999@www.monmouth.edu
SUMMARY:Bowling vs Duquesne
DESCRIPTION:Monmouth University Bowling vs Duquesne
URL:https://www.monmouth.edu/events/event/monmouth-university-bowling-vs-duquesne-2/
LOCATION:Altoona\, PA
CATEGORIES:Women's Bowling
END:VEVENT
BEGIN:VEVENT
DTSTART;TZID=America/New_York:20250214T000000
DTEND;TZID=America/New_York:20250215T235959
DTSTAMP:20260423T061602
CREATED:20240927T234045Z
LAST-MODIFIED:20250215T222609Z
UID:40810114391-1739491200-1739663999@www.monmouth.edu
SUMMARY:Bowling vs Niagara
DESCRIPTION:Monmouth University Bowling vs Niagara
URL:https://www.monmouth.edu/events/event/monmouth-university-bowling-vs-niagara-2/
LOCATION:Altoona\, PA
CATEGORIES:Women's Bowling
END:VEVENT
BEGIN:VEVENT
DTSTART;TZID=America/New_York:20250214T000000
DTEND;TZID=America/New_York:20250215T235959
DTSTAMP:20260423T061602
CREATED:20240927T234045Z
LAST-MODIFIED:20250215T222609Z
UID:40810114394-1739491200-1739663999@www.monmouth.edu
SUMMARY:Bowling vs Wagner
DESCRIPTION:Monmouth University Bowling vs Wagner
URL:https://www.monmouth.edu/events/event/monmouth-university-bowling-vs-wagner-2/
LOCATION:Altoona\, PA
CATEGORIES:Women's Bowling
END:VEVENT
BEGIN:VEVENT
DTSTART;TZID=America/New_York:20250215T000000
DTEND;TZID=America/New_York:20250215T235959
DTSTAMP:20260423T061602
CREATED:20241126T191029Z
LAST-MODIFIED:20250215T194109Z
UID:40810115883-1739577600-1739663999@www.monmouth.edu
SUMMARY:Men's Track and Field at NYU Invitational
DESCRIPTION:Monmouth University Men’s Track and Field at NYU Invitational
URL:https://www.monmouth.edu/events/event/monmouth-university-mens-track-and-field-at-nyu-invitational/
LOCATION:New York\, NY
CATEGORIES:Men's Track & Field
END:VEVENT
BEGIN:VEVENT
DTSTART;TZID=America/New_York:20250215T000000
DTEND;TZID=America/New_York:20250215T235959
DTSTAMP:20260423T061602
CREATED:20241127T185516Z
LAST-MODIFIED:20250215T185608Z
UID:40810115914-1739577600-1739663999@www.monmouth.edu
SUMMARY:Women's Track and Field at NYU Invitational
DESCRIPTION:Monmouth University Women’s Track and Field at NYU Invitational
URL:https://www.monmouth.edu/events/event/monmouth-university-womens-track-and-field-at-nyu-invitational/
LOCATION:New York\, NY
CATEGORIES:Women's Track & Field
END:VEVENT
BEGIN:VEVENT
DTSTART;TZID=America/New_York:20250215T093000
DTEND;TZID=America/New_York:20250215T123000
DTSTAMP:20260423T061602
CREATED:20250102T214032Z
LAST-MODIFIED:20250214T221108Z
UID:40810117333-1739611800-1739622600@www.monmouth.edu
SUMMARY:Baseball vs Michigan State
DESCRIPTION:Monmouth University Baseball vs Michigan State\nStreaming Video: https://usabaseball.watch.pixellot.tv/
URL:https://www.monmouth.edu/events/event/monmouth-university-baseball-vs-michigan-state/
LOCATION:Cary\, NC
CATEGORIES:Men's Baseball
END:VEVENT
BEGIN:VEVENT
DTSTART;TZID=America/New_York:20250215T130000
DTEND;TZID=America/New_York:20250215T160000
DTSTAMP:20260423T061602
CREATED:20250102T214033Z
LAST-MODIFIED:20250214T221108Z
UID:40810117336-1739624400-1739635200@www.monmouth.edu
SUMMARY:Baseball vs Michigan State
DESCRIPTION:Monmouth University Baseball vs Michigan State\nStreaming Video: https://usabaseball.watch.pixellot.tv/
URL:https://www.monmouth.edu/events/event/monmouth-university-baseball-vs-michigan-state-2/
LOCATION:Cary\, NC
CATEGORIES:Men's Baseball
END:VEVENT
BEGIN:VEVENT
DTSTART;TZID=America/New_York:20250215T140000
DTEND;TZID=America/New_York:20250215T160000
DTSTAMP:20260423T061602
CREATED:20240905T154104Z
LAST-MODIFIED:20250215T182825Z
UID:40810113728-1739628000-1739635200@www.monmouth.edu
SUMMARY:Monmouth University Men's Basketball at Towson
DESCRIPTION:Monmouth University Men’s Basketball at Towson\nStreaming Video: https://go.flosports.tv/partner/caa?utm_campaign=caa&utm_medium=partner&utm_source=teams&utm_content=teams&rtid=monmouth&coverage_id=\nStreaming Audio: https://monmouthhawks.com/watch/?Live=125&type=Live
URL:https://www.monmouth.edu/events/event/monmouth-university-mens-basketball-at-towson/
LOCATION:TU Arena – Towson\, MD
CATEGORIES:Men's Basketball
END:VEVENT
BEGIN:VEVENT
DTSTART;TZID=America/New_York:20250215T140000
DTEND;TZID=America/New_York:20250215T170000
DTSTAMP:20260423T061602
CREATED:20241227T185513Z
LAST-MODIFIED:20250215T152609Z
UID:40810117221-1739628000-1739638800@www.monmouth.edu
SUMMARY:Women's Lacrosse vs Bryant
DESCRIPTION:Monmouth University Women’s Lacrosse vs Bryant\nStreaming Video: https://go.flosports.tv/partner/caa?utm_campaign=caa&utm_medium=partner&utm_source=teams&utm_content=teams&rtid=monmouth&coverage_id=
URL:https://www.monmouth.edu/events/event/monmouth-university-womens-lacrosse-vs-bryant/
LOCATION:Kessler Stadium\, 107 Larchwood Ave\, West Long Branch\, NJ\, United States
CATEGORIES:Women's Lacrosse
GEO:40.279417;-74.010815
X-APPLE-STRUCTURED-LOCATION;VALUE=URI;X-ADDRESS=Kessler Stadium 107 Larchwood Ave West Long Branch NJ United States;X-APPLE-RADIUS=500;X-TITLE=107 Larchwood Ave:geo:-74.010815,40.279417
END:VEVENT
BEGIN:VEVENT
DTSTART;TZID=America/New_York:20250215T150000
DTEND;TZID=America/New_York:20250215T170000
DTSTAMP:20260423T061602
CREATED:20250106T191034Z
LAST-MODIFIED:20250214T232609Z
UID:40810117519-1739631600-1739638800@www.monmouth.edu
SUMMARY:Softball vs Idaho State
DESCRIPTION:Monmouth University Softball vs Idaho State\nStreaming Video: https://www.youtube.com/live/FKHjiEbULvc
URL:https://www.monmouth.edu/events/event/monmouth-university-softball-vs-idaho-state/
LOCATION:Las Vegas\, NV
CATEGORIES:Women's Softball
END:VEVENT
BEGIN:VEVENT
DTSTART;TZID=America/New_York:20250215T180000
DTEND;TZID=America/New_York:20250215T210000
DTSTAMP:20260423T061602
CREATED:20250102T201030Z
LAST-MODIFIED:20250215T235707Z
UID:40810117275-1739642400-1739653200@www.monmouth.edu
SUMMARY:Men's Tennis at Quinnipiac
DESCRIPTION:Monmouth University Men’s Tennis at Quinnipiac
URL:https://www.monmouth.edu/events/event/monmouth-university-mens-tennis-at-quinnipiac/
LOCATION:Hamden\, CT
CATEGORIES:Men's Tennis
END:VEVENT
BEGIN:VEVENT
DTSTART;TZID=America/New_York:20250215T200000
DTEND;TZID=America/New_York:20250215T200000
DTSTAMP:20260423T061602
CREATED:20240923T133304Z
LAST-MODIFIED:20250121T174702Z
UID:40810114308-1739649600-1739649600@www.monmouth.edu
SUMMARY:A Bronx Tale: The One Man Show starring Chazz Palminteri
DESCRIPTION:Bronx-born and raised Chazz Palminteri wrote A Bronx Tale in 1988. The powerful one-man stage play depicted his bruising childhood which included witnessing a gangland killing when he was nine years old. \nPalminteri played 18 characters and brought them all to life in his autobiographical play. His friends\, enemies and family came alive on stage. Hollywood Studios went crazy after seeing it and offered him millions of dollars to turn it into a major movie. There was one catch. They wanted to put a star in the role of Sonny and someone else to write the screenplay. With $200 dollars in the bank…Palminteri said No… he would hold out and wait. He wanted to play Sonny and write the screenplay. Then one night Palminteri walked into his dressing room and sitting there was Robert De Niro who just saw the show.  Robert DeNiro gave Palminteri the chance he was waiting for; and as they say in Hollywood the rest is history. \nPalminteri wrote the screenplay for the film A Bronx Tale and then most recently wrote the book for the Broadway Musical. It was the first time in history that the same actor wrote the one-man play\, the movie\, and the Broadway Musical and starred in each one. \nIn the past 35 years\, Chazz has appeared in over 60 films.  To name a few – The Usual Suspects\, Analyze This\, Mulholland Falls\, Jade\, Guide to Recognizing Your Saints\, Legend\, and Bullets over Broadway\, which he was nominated for an Academy Award.  He has starred in over 20 television series and has won 3 Emmy’s. Chazz is most recently seen in Modern Family\, Godfather of Harlem\, Law & Order and Gravesend.
URL:https://www.monmouth.edu/events/event/a-bronx-tale-the-one-man-show-starring-chazz-palminteri/
LOCATION:Pollak Theatre
CATEGORIES:Alumni,Alumni Affairs,Alumni Events,Arts at Monmouth,Featured,Theatre
ATTACH;FMTTYPE=image/jpeg:https://www.monmouth.edu/events/wp-content/uploads/sites/19/2024/09/header_bronx.jpg
END:VEVENT
BEGIN:VEVENT
DTSTART;TZID=America/New_York:20250215T200000
DTEND;TZID=America/New_York:20250215T230000
DTSTAMP:20260423T061602
CREATED:20250109T170441Z
LAST-MODIFIED:20250202T172928Z
UID:40810117749-1739649600-1739660400@www.monmouth.edu
SUMMARY:HawkMania Pro Wrestling Night
DESCRIPTION:Get ready for an action-packed evening at HawkMania Pro Wrestling Night\, where the fiercest wrestlers battle it out in the ring for ultimate glory! Join us for high-energy matches\, thrilling moments\, and unforgettable entertainment that will leave you on the edge of your seat!  Saturday\, February 15\, 8 pm in Anacon Hall.  Limited space\, first come\, first served!
URL:https://www.monmouth.edu/events/event/hawkmania-pro-wrestling-night/
LOCATION:Student Center – Anacon Hall
ATTACH;FMTTYPE=image/png:https://www.monmouth.edu/events/wp-content/uploads/sites/19/2025/01/OSE-Hawkmania-v2-Flyer.png
END:VEVENT
END:VCALENDAR