BEGIN:VCALENDAR
VERSION:2.0
PRODID:-//Events - ECPv6.15.20//NONSGML v1.0//EN
CALSCALE:GREGORIAN
METHOD:PUBLISH
X-ORIGINAL-URL:https://www.monmouth.edu/events
X-WR-CALDESC:Events for Events
REFRESH-INTERVAL;VALUE=DURATION:PT1H
X-Robots-Tag:noindex
X-PUBLISHED-TTL:PT1H
BEGIN:VTIMEZONE
TZID:America/New_York
BEGIN:DAYLIGHT
TZOFFSETFROM:-0500
TZOFFSETTO:-0400
TZNAME:EDT
DTSTART:20240310T070000
END:DAYLIGHT
BEGIN:STANDARD
TZOFFSETFROM:-0400
TZOFFSETTO:-0500
TZNAME:EST
DTSTART:20241103T060000
END:STANDARD
BEGIN:DAYLIGHT
TZOFFSETFROM:-0500
TZOFFSETTO:-0400
TZNAME:EDT
DTSTART:20250309T070000
END:DAYLIGHT
BEGIN:STANDARD
TZOFFSETFROM:-0400
TZOFFSETTO:-0500
TZNAME:EST
DTSTART:20251102T060000
END:STANDARD
BEGIN:DAYLIGHT
TZOFFSETFROM:-0500
TZOFFSETTO:-0400
TZNAME:EDT
DTSTART:20260308T070000
END:DAYLIGHT
BEGIN:STANDARD
TZOFFSETFROM:-0400
TZOFFSETTO:-0500
TZNAME:EST
DTSTART:20261101T060000
END:STANDARD
END:VTIMEZONE
BEGIN:VEVENT
DTSTART;TZID=America/New_York:20250121T000000
DTEND;TZID=America/New_York:20250128T235959
DTSTAMP:20260423T212134
CREATED:20240903T140436Z
LAST-MODIFIED:20240904T165329Z
UID:40810113293-1737417600-1738108799@www.monmouth.edu
SUMMARY:Late Registration / Add-Drop / Leave of Absence
DESCRIPTION:
URL:https://www.monmouth.edu/events/event/late-registration-add-drop-leave-of-absence/
CATEGORIES:Academic Calendar
END:VEVENT
BEGIN:VEVENT
DTSTART;TZID=America/New_York:20250121T000000
DTEND;TZID=America/New_York:20250323T235959
DTSTAMP:20260423T212134
CREATED:20241002T195039Z
LAST-MODIFIED:20241218T181455Z
UID:40810114439-1737417600-1742774399@www.monmouth.edu
SUMMARY:Michael Malpass: Renaissance Man
DESCRIPTION:Through the alchemy of welding and traditional blacksmithing\, Michael Malpass commanded steel\, bronze\, copper\, and brass with a sculptor’s precision. He elevated these industrial remnants\, liberating them from their utilitarian past\, and reimagined them as vibrant works of art— imbuing them with new life and meaning. \nOpening Reception: Friday\, February 7\, 5:30pm – 7:30pm
URL:https://www.monmouth.edu/events/event/michael-malpass-renaissance-man/
LOCATION:DiMattio Gallery at Rechnitz Hall
CATEGORIES:Art Exhibitions,Arts at Monmouth,Free
ATTACH;FMTTYPE=image/jpeg:https://www.monmouth.edu/events/wp-content/uploads/sites/19/2024/10/header_malpass.jpg
END:VEVENT
BEGIN:VEVENT
DTSTART;TZID=America/New_York:20250128T120000
DTEND;TZID=America/New_York:20250128T140000
DTSTAMP:20260423T212134
CREATED:20250108T212108Z
LAST-MODIFIED:20250108T212135Z
UID:40810117714-1738065600-1738072800@www.monmouth.edu
SUMMARY:Lego & Eggo
DESCRIPTION:Get ready for a fun-filled afternoon at Lego and Eggo\, where you can build awesome creations with LEGO sets while enjoying delicious waffles! It’s the perfect way to fuel your creativity and satisfy your cravings all in one exciting event!
URL:https://www.monmouth.edu/events/event/lego-eggo/
LOCATION:Student Center – Anacon Hall
ATTACH;FMTTYPE=image/jpeg:https://www.monmouth.edu/events/wp-content/uploads/sites/19/2025/01/xavi-cabrera-kn-UmDZQDjM-unsplash.jpg
END:VEVENT
BEGIN:VEVENT
DTSTART;TZID=America/New_York:20250128T123000
DTEND;TZID=America/New_York:20250128T133000
DTSTAMP:20260423T212135
CREATED:20250127T140338Z
LAST-MODIFIED:20250127T140338Z
UID:40810118500-1738067400-1738071000@www.monmouth.edu
SUMMARY:Study Abroad in London "Pop Up" Information Session!
DESCRIPTION:Join us at our London Study Abroad information session! Speak with our study abroad student alumnae and our CIS Abroad partners about life in London and academics at the University of Westminster. Tuesday\, January 28th at 12:30pm to 1:30pm\, Guggenheim Library 101 Lounge.
URL:https://www.monmouth.edu/events/event/study-abroad-in-london-pop-up-information-session/
LOCATION:Guggenheim Memorial Library
ORGANIZER;CN="Global Education Office":MAILTO:geo@monmouth.edu
END:VEVENT
BEGIN:VEVENT
DTSTART;TZID=America/New_York:20250128T183000
DTEND;TZID=America/New_York:20250128T193000
DTSTAMP:20260423T212135
CREATED:20250124T194555Z
LAST-MODIFIED:20250124T194555Z
UID:40810118105-1738089000-1738092600@www.monmouth.edu
SUMMARY:Zumba
DESCRIPTION:This class takes the “work” out of workout\, by mixing low-intensity and high-intensity moves for an interval-style\, calorie-burning dance fitness party.
URL:https://www.monmouth.edu/events/event/zumba/2025-01-28/
LOCATION:Boylan Gym South
ATTACH;FMTTYPE=image/jpeg:https://www.monmouth.edu/events/wp-content/uploads/sites/19/2025/01/M-Recreation-1.jpg
END:VEVENT
END:VCALENDAR