BEGIN:VCALENDAR
VERSION:2.0
PRODID:-//Events - ECPv6.15.20//NONSGML v1.0//EN
CALSCALE:GREGORIAN
METHOD:PUBLISH
X-ORIGINAL-URL:https://www.monmouth.edu/events
X-WR-CALDESC:Events for Events
REFRESH-INTERVAL;VALUE=DURATION:PT1H
X-Robots-Tag:noindex
X-PUBLISHED-TTL:PT1H
BEGIN:VTIMEZONE
TZID:America/New_York
BEGIN:DAYLIGHT
TZOFFSETFROM:-0500
TZOFFSETTO:-0400
TZNAME:EDT
DTSTART:20240310T070000
END:DAYLIGHT
BEGIN:STANDARD
TZOFFSETFROM:-0400
TZOFFSETTO:-0500
TZNAME:EST
DTSTART:20241103T060000
END:STANDARD
BEGIN:DAYLIGHT
TZOFFSETFROM:-0500
TZOFFSETTO:-0400
TZNAME:EDT
DTSTART:20250309T070000
END:DAYLIGHT
BEGIN:STANDARD
TZOFFSETFROM:-0400
TZOFFSETTO:-0500
TZNAME:EST
DTSTART:20251102T060000
END:STANDARD
BEGIN:DAYLIGHT
TZOFFSETFROM:-0500
TZOFFSETTO:-0400
TZNAME:EDT
DTSTART:20260308T070000
END:DAYLIGHT
BEGIN:STANDARD
TZOFFSETFROM:-0400
TZOFFSETTO:-0500
TZNAME:EST
DTSTART:20261101T060000
END:STANDARD
END:VTIMEZONE
BEGIN:VEVENT
DTSTART;TZID=America/New_York:20250121T000000
DTEND;TZID=America/New_York:20250128T235959
DTSTAMP:20260423T161717
CREATED:20240903T140436Z
LAST-MODIFIED:20240904T165329Z
UID:40810113293-1737417600-1738108799@www.monmouth.edu
SUMMARY:Late Registration / Add-Drop / Leave of Absence
DESCRIPTION:
URL:https://www.monmouth.edu/events/event/late-registration-add-drop-leave-of-absence/
CATEGORIES:Academic Calendar
END:VEVENT
BEGIN:VEVENT
DTSTART;TZID=America/New_York:20250121T000000
DTEND;TZID=America/New_York:20250323T235959
DTSTAMP:20260423T161717
CREATED:20241002T195039Z
LAST-MODIFIED:20241218T181455Z
UID:40810114439-1737417600-1742774399@www.monmouth.edu
SUMMARY:Michael Malpass: Renaissance Man
DESCRIPTION:Through the alchemy of welding and traditional blacksmithing\, Michael Malpass commanded steel\, bronze\, copper\, and brass with a sculptor’s precision. He elevated these industrial remnants\, liberating them from their utilitarian past\, and reimagined them as vibrant works of art— imbuing them with new life and meaning. \nOpening Reception: Friday\, February 7\, 5:30pm – 7:30pm
URL:https://www.monmouth.edu/events/event/michael-malpass-renaissance-man/
LOCATION:DiMattio Gallery at Rechnitz Hall
CATEGORIES:Art Exhibitions,Arts at Monmouth,Free
ATTACH;FMTTYPE=image/jpeg:https://www.monmouth.edu/events/wp-content/uploads/sites/19/2024/10/header_malpass.jpg
END:VEVENT
BEGIN:VEVENT
DTSTART;TZID=America/New_York:20250125T000000
DTEND;TZID=America/New_York:20250125T235959
DTSTAMP:20260423T161717
CREATED:20240927T234044Z
LAST-MODIFIED:20250125T205607Z
UID:40810114373-1737763200-1737849599@www.monmouth.edu
SUMMARY:Bowling vs Multiple Teams
DESCRIPTION:Monmouth University Bowling vs Multiple Teams
URL:https://www.monmouth.edu/events/event/monmouth-university-bowling-vs-multiple-teams-3/
LOCATION:Staten Island\, NY
CATEGORIES:Women's Bowling
END:VEVENT
BEGIN:VEVENT
DTSTART;TZID=America/New_York:20250125T120000
DTEND;TZID=America/New_York:20250125T150000
DTSTAMP:20260423T161717
CREATED:20240904T153339Z
LAST-MODIFIED:20250125T184108Z
UID:40810113470-1737806400-1737817200@www.monmouth.edu
SUMMARY:Men's Swimming vs Saint Peter's
DESCRIPTION:Monmouth University Men’s Swimming vs Saint Peter’s
URL:https://www.monmouth.edu/events/event/mens-swimming-vs-saint-peters/
LOCATION:West Long Branch\, NJ
CATEGORIES:Men's Swimming
END:VEVENT
BEGIN:VEVENT
DTSTART;TZID=America/New_York:20250125T120000
DTEND;TZID=America/New_York:20250125T150000
DTSTAMP:20260423T161717
CREATED:20240904T154406Z
LAST-MODIFIED:20250125T171109Z
UID:40810113605-1737806400-1737817200@www.monmouth.edu
SUMMARY:Women's Swimming vs Saint Peter's
DESCRIPTION:Monmouth University Women’s Swimming vs Saint Peter’s
URL:https://www.monmouth.edu/events/event/monmouth-university-womens-swimming-vs-saint-peters/
LOCATION:West Long Branch\, NJ
CATEGORIES:Women's Swimming
END:VEVENT
BEGIN:VEVENT
DTSTART;TZID=America/New_York:20250125T120000
DTEND;TZID=America/New_York:20250125T170000
DTSTAMP:20260423T161717
CREATED:20250108T211551Z
LAST-MODIFIED:20250108T211551Z
UID:40810117687-1737806400-1737824400@www.monmouth.edu
SUMMARY:Shuttle to Freehold Mall
DESCRIPTION:Hop on our convenient shuttle to Freehold Mall and enjoy a stress-free ride to your favorite shopping destination! Whether you’re looking for fashion\, food\, or fun\, let us take you there in comfort and style.
URL:https://www.monmouth.edu/events/event/shuttle-to-freehold-mall/
LOCATION:Student Center
ATTACH;FMTTYPE=image/jpeg:https://www.monmouth.edu/events/wp-content/uploads/sites/19/2025/01/FRM_Center-Court-1920x800-1.jpg
END:VEVENT
BEGIN:VEVENT
DTSTART;TZID=America/New_York:20250125T123000
DTEND;TZID=America/New_York:20250125T170000
DTSTAMP:20260423T161717
CREATED:20240517T180736Z
LAST-MODIFIED:20240926T171011Z
UID:40810112453-1737808200-1737824400@www.monmouth.edu
SUMMARY:Aida
DESCRIPTION:Soprano Angel Blue makes her long-awaited Met role debut as the Ethiopian princess torn between love and country\, one of opera’s defining roles. Music Director Yannick Nézet-Séguin takes the podium for Michael Mayer’s spectacular new staging\, which brings audiences inside the towering pyramids and gilded tombs of ancient Egypt with intricate projections and dazzling animations. Mezzo-soprano Judit Kutasi\, following her 2024 debut in Verdi’s La Forza del Destino\, is Aida’s Egyptian rival Amneris\, and tenor Piotr Beczała is the soldier Radamès—completing opera’s greatest love triangle. The all-star cast also features baritone Quinn Kelsey as Amonasro and bass Dmitry Belosselskiy as Ramfis. This live cinema transmission is part of the Met’s award-winning Live in HD series\, bringing opera to movie theaters across the globe.
URL:https://www.monmouth.edu/events/event/aida-3/
LOCATION:Pollak Theatre
CATEGORIES:Alumni,Alumni Affairs,Alumni Events,Arts at Monmouth,Broadcast in HD,Music
ATTACH;FMTTYPE=image/jpeg:https://www.monmouth.edu/events/wp-content/uploads/sites/19/2024/05/Aida_header.jpg
END:VEVENT
BEGIN:VEVENT
DTSTART;TZID=America/New_York:20250125T140000
DTEND;TZID=America/New_York:20250125T160000
DTSTAMP:20260423T161717
CREATED:20240905T154052Z
LAST-MODIFIED:20250125T151108Z
UID:40810113710-1737813600-1737820800@www.monmouth.edu
SUMMARY:Men's Basketball at William & Mary
DESCRIPTION:Monmouth University Men’s Basketball at William & Mary\nStreaming Video: https://go.flosports.tv/partner/caa?utm_campaign=caa&utm_medium=partner&utm_source=teams&utm_content=teams&rtid=monmouth&coverage_id=\nStreaming Audio: https://monmouthhawks.com/watch/?Live=123&type=Live
URL:https://www.monmouth.edu/events/event/monmouth-university-mens-basketball-at-william-mary/
LOCATION:Kaplan Arena – Williamsburg\, VA
CATEGORIES:Men's Basketball
END:VEVENT
BEGIN:VEVENT
DTSTART;TZID=America/New_York:20250125T180000
DTEND;TZID=America/New_York:20250125T200000
DTSTAMP:20260423T161717
CREATED:20250121T194915Z
LAST-MODIFIED:20250121T194915Z
UID:40810118003-1737828000-1737835200@www.monmouth.edu
SUMMARY:BHR Song Writers Series - Evening of Music
DESCRIPTION:Discover the next big thing in music at the BHR (Blue Hawk Records) Songwriters Series\, a night filled with live performances by talented songwriters sharing their original tracks and stories behind the music. Don’t miss this unforgettable experience\, perfect for college students looking to unwind\, connect\, and get inspired!  We’ll also have free snacks and refreshments! \nSaturday\, January 25\, 2025 at 6 pm\, 1st floor of the Great Hall
URL:https://www.monmouth.edu/events/event/bhr-song-writers-series-evening-of-music/
LOCATION:Great Hall 1st Floor
ATTACH;FMTTYPE=application/pdf:https://www.monmouth.edu/events/wp-content/uploads/sites/19/2025/01/BHR-Song-writers-series-Jan-251.pdf
END:VEVENT
BEGIN:VEVENT
DTSTART;TZID=America/New_York:20250125T200000
DTEND;TZID=America/New_York:20250125T230000
DTSTAMP:20260423T161717
CREATED:20250108T211611Z
LAST-MODIFIED:20250108T211611Z
UID:40810117688-1737835200-1737846000@www.monmouth.edu
SUMMARY:Future is Yours Hypnotist and Psychic Night
DESCRIPTION:Prepare for an unforgettable evening at our Hypnotist and Psychic Night\, where you’ll experience mind-bending hypnotic shows and gain fascinating insights from gifted psychics. Dive into a night of mystery\, entertainment\, and discovery—your future awaits!
URL:https://www.monmouth.edu/events/event/future-is-yours-hypnotist-and-psychic-night/
LOCATION:Student Center – Anacon Hall
ATTACH;FMTTYPE=image/jpeg:https://www.monmouth.edu/events/wp-content/uploads/sites/19/2025/01/custom-tarot-card-art-and-design.jpg
END:VEVENT
END:VCALENDAR