BEGIN:VCALENDAR
VERSION:2.0
PRODID:-//Events - ECPv6.15.20//NONSGML v1.0//EN
CALSCALE:GREGORIAN
METHOD:PUBLISH
X-ORIGINAL-URL:https://www.monmouth.edu/events
X-WR-CALDESC:Events for Events
REFRESH-INTERVAL;VALUE=DURATION:PT1H
X-Robots-Tag:noindex
X-PUBLISHED-TTL:PT1H
BEGIN:VTIMEZONE
TZID:America/New_York
BEGIN:DAYLIGHT
TZOFFSETFROM:-0500
TZOFFSETTO:-0400
TZNAME:EDT
DTSTART:20240310T070000
END:DAYLIGHT
BEGIN:STANDARD
TZOFFSETFROM:-0400
TZOFFSETTO:-0500
TZNAME:EST
DTSTART:20241103T060000
END:STANDARD
BEGIN:DAYLIGHT
TZOFFSETFROM:-0500
TZOFFSETTO:-0400
TZNAME:EDT
DTSTART:20250309T070000
END:DAYLIGHT
BEGIN:STANDARD
TZOFFSETFROM:-0400
TZOFFSETTO:-0500
TZNAME:EST
DTSTART:20251102T060000
END:STANDARD
BEGIN:DAYLIGHT
TZOFFSETFROM:-0500
TZOFFSETTO:-0400
TZNAME:EDT
DTSTART:20260308T070000
END:DAYLIGHT
BEGIN:STANDARD
TZOFFSETFROM:-0400
TZOFFSETTO:-0500
TZNAME:EST
DTSTART:20261101T060000
END:STANDARD
END:VTIMEZONE
BEGIN:VEVENT
DTSTART;TZID=America/New_York:20250121T000000
DTEND;TZID=America/New_York:20250128T235959
DTSTAMP:20260423T161717
CREATED:20240903T140436Z
LAST-MODIFIED:20240904T165329Z
UID:40810113293-1737417600-1738108799@www.monmouth.edu
SUMMARY:Late Registration / Add-Drop / Leave of Absence
DESCRIPTION:
URL:https://www.monmouth.edu/events/event/late-registration-add-drop-leave-of-absence/
CATEGORIES:Academic Calendar
END:VEVENT
BEGIN:VEVENT
DTSTART;TZID=America/New_York:20250121T000000
DTEND;TZID=America/New_York:20250323T235959
DTSTAMP:20260423T161717
CREATED:20241002T195039Z
LAST-MODIFIED:20241218T181455Z
UID:40810114439-1737417600-1742774399@www.monmouth.edu
SUMMARY:Michael Malpass: Renaissance Man
DESCRIPTION:Through the alchemy of welding and traditional blacksmithing\, Michael Malpass commanded steel\, bronze\, copper\, and brass with a sculptor’s precision. He elevated these industrial remnants\, liberating them from their utilitarian past\, and reimagined them as vibrant works of art— imbuing them with new life and meaning. \nOpening Reception: Friday\, February 7\, 5:30pm – 7:30pm
URL:https://www.monmouth.edu/events/event/michael-malpass-renaissance-man/
LOCATION:DiMattio Gallery at Rechnitz Hall
CATEGORIES:Art Exhibitions,Arts at Monmouth,Free
ATTACH;FMTTYPE=image/jpeg:https://www.monmouth.edu/events/wp-content/uploads/sites/19/2024/10/header_malpass.jpg
END:VEVENT
BEGIN:VEVENT
DTSTART;TZID=America/New_York:20250123T120000
DTEND;TZID=America/New_York:20250123T160000
DTSTAMP:20260423T161717
CREATED:20250108T211812Z
LAST-MODIFIED:20250108T211812Z
UID:40810117690-1737633600-1737648000@www.monmouth.edu
SUMMARY:OSE Pop-Up Winter Welcome
DESCRIPTION:Kick off the season with the Office of Student Engagement’s Winter Welcome Pop-Up\, where you can enjoy free giveaways\, and connect with your campus community! Embrace the winter vibes and start your semester off right with fun\, surprises\, and plenty of winter cheer.
URL:https://www.monmouth.edu/events/event/ose-pop-up-winter-welcome/
LOCATION:Student Center – 2nd Floor
ATTACH;FMTTYPE=image/jpeg:https://www.monmouth.edu/events/wp-content/uploads/sites/19/2025/01/1140-free-stuff-price-tag.jpg
END:VEVENT
BEGIN:VEVENT
DTSTART;TZID=America/New_York:20250123T180000
DTEND;TZID=America/New_York:20250123T193000
DTSTAMP:20260423T161717
CREATED:20250102T214643Z
LAST-MODIFIED:20260226T184537Z
UID:40810117328-1737655200-1737660600@www.monmouth.edu
SUMMARY:Rings & Dragons
DESCRIPTION:Candlelight Concerts were created with the intention of democratizing access to classical music\, and the space and performers are illuminated by thousands of candles to create a truly magical experience. Featuring works from Vivaldi\, Mozart\, and Chopin\, and including tributes to Queen\, ABBA\, Coldplay\, and more\, Candlelight Concerts allow audiences to connect with the most iconic pieces of the greatest composers and listen to the top hits of well-known artists in a different way. \nThe Listeso String Quartet will be performing themes from The Lord of the Rings by Howard Shore and themes from Game of Thrones by Ramin Djawadi.
URL:https://www.monmouth.edu/events/event/candlelight-concert-rings-dragons-2/
LOCATION:Pollak Theatre
CATEGORIES:Alumni,Alumni Affairs,Alumni Events,Arts at Monmouth,Community Member,CommWorks,Concerts,Council of Endowed Chairs,Current Student,Faculty,Graduate Student,Honors School,Institute for Health and Wellness,Media,Music,Undergraduate Student
ATTACH;FMTTYPE=image/jpeg:https://www.monmouth.edu/events/wp-content/uploads/sites/19/2025/01/CandeleLight_withoutQR_header-1.jpg
ORGANIZER;CN="Center for the Arts":MAILTO:kbarratt@monmouth.edu
END:VEVENT
BEGIN:VEVENT
DTSTART;TZID=America/New_York:20250123T180000
DTEND;TZID=America/New_York:20250123T200000
DTSTAMP:20260423T161717
CREATED:20250117T161612Z
LAST-MODIFIED:20250123T174557Z
UID:40810117908-1737655200-1737662400@www.monmouth.edu
SUMMARY:Trivia Night
DESCRIPTION:Get ready for a fun-filled evening of friendly competition at our Trivia Night! Test your knowledge across various categories and connect with others in a lively atmosphere\, all while vying for exciting prizes.
URL:https://www.monmouth.edu/events/event/trivia-night/
LOCATION:Pinewood Hall Lounge
ATTACH;FMTTYPE=image/jpeg:https://www.monmouth.edu/events/wp-content/uploads/sites/19/2025/01/shutterstock_686118184-2.jpg
END:VEVENT
BEGIN:VEVENT
DTSTART;TZID=America/New_York:20250123T190000
DTEND;TZID=America/New_York:20250123T210000
DTSTAMP:20260423T161717
CREATED:20240905T154052Z
LAST-MODIFIED:20250123T145620Z
UID:40810113707-1737658800-1737666000@www.monmouth.edu
SUMMARY:Men's Basketball at Elon
DESCRIPTION:Monmouth University Men’s Basketball at Elon\nStreaming Video: https://go.flosports.tv/partner/caa?utm_campaign=caa&utm_medium=partner&utm_source=teams&utm_content=teams&rtid=monmouth&coverage_id=\nStreaming Audio: https://monmouthhawks.com/watch/?Live=122&type=Live
URL:https://www.monmouth.edu/events/event/monmouth-university-mens-basketball-at-elon/
LOCATION:Schar Center – Elon\, NC
CATEGORIES:Men's Basketball
END:VEVENT
BEGIN:VEVENT
DTSTART;TZID=America/New_York:20250123T190000
DTEND;TZID=America/New_York:20250123T220000
DTSTAMP:20260423T161717
CREATED:20250121T134523Z
LAST-MODIFIED:20250121T165300Z
UID:40810118002-1737658800-1737669600@www.monmouth.edu
SUMMARY:Carry the Love Tour 2025 at Monmouth
DESCRIPTION:Carry The Love is a Circuit Rider movement empowering university students to spark a Jesus movement right here at Monmouth University. This isn’t just an event—it’s a time for believers to unite\, be trained\, and get activated to reach your campus with the love and message of Jesus. \n​Together we can change the culture of your campus. This gathering is for those who are ready to move from dreaming to doing—so if you’re ready to take action\, this event is for you. \nWe hope to see you on Thursday night! \n– Monmouth University Cru Club \nRegistration link: https://lu.ma/3b433jio?tk=c4GoqH
URL:https://www.monmouth.edu/events/event/carry-the-love-tour-2025-at-monmouth/
LOCATION:Great Hall Auditorium
CATEGORIES:Featured Student Activites,Free,Special Events,Student Activities
ATTACH;FMTTYPE=image/jpeg:https://www.monmouth.edu/events/wp-content/uploads/sites/19/2025/01/Carry_The_Love_MU_Cru.jpg
END:VEVENT
BEGIN:VEVENT
DTSTART;TZID=America/New_York:20250123T193000
DTEND;TZID=America/New_York:20250123T210000
DTSTAMP:20260423T161717
CREATED:20250106T170456Z
LAST-MODIFIED:20250107T142706Z
UID:40810117496-1737660600-1737666000@www.monmouth.edu
SUMMARY:Yacht Rock!
DESCRIPTION:Class Schedule: Thursdays\, January  23 & 30| 7:30 – 9:00 PM\n\nThis two-session virtual course\, taught by Kit O’Toole\, explores the origins and rise of Yacht Rock\, the smooth R&B and jazz-inspired genre.\n\nThe term “Yacht Rock” exploded in popularity since the eponymous satirical web series debuted 20 years ago. But what exactly is the genre? How did it start\, and which songs qualify as Yacht Rock? The first of two courses examines the roots of the genre—where did it originate\, who were its founders\, and how did it in popularity? Part one explores Yacht Rock from its earliest years through 1980. The class will sail the R&B and jazzy seas of smooth sounds through multimedia presentations and class discussion.\n\nZoom Link will be provided upon registration.
URL:https://www.monmouth.edu/events/event/adult-ed-yacht-rock/
LOCATION:Virtual
CATEGORIES:Alumni,Arts at Monmouth,Current Student,Lectures,Music,Music + Theatre Arts,Workshops and Professional Development
ATTACH;FMTTYPE=image/png:https://www.monmouth.edu/events/wp-content/uploads/sites/19/2025/01/OToole-header.png
END:VEVENT
END:VCALENDAR