BEGIN:VCALENDAR
VERSION:2.0
PRODID:-//Events - ECPv6.15.20//NONSGML v1.0//EN
CALSCALE:GREGORIAN
METHOD:PUBLISH
X-WR-CALNAME:Events
X-ORIGINAL-URL:https://www.monmouth.edu/events
X-WR-CALDESC:Events for Events
REFRESH-INTERVAL;VALUE=DURATION:PT1H
X-Robots-Tag:noindex
X-PUBLISHED-TTL:PT1H
BEGIN:VTIMEZONE
TZID:America/New_York
BEGIN:DAYLIGHT
TZOFFSETFROM:-0500
TZOFFSETTO:-0400
TZNAME:EDT
DTSTART:20240310T070000
END:DAYLIGHT
BEGIN:STANDARD
TZOFFSETFROM:-0400
TZOFFSETTO:-0500
TZNAME:EST
DTSTART:20241103T060000
END:STANDARD
BEGIN:DAYLIGHT
TZOFFSETFROM:-0500
TZOFFSETTO:-0400
TZNAME:EDT
DTSTART:20250309T070000
END:DAYLIGHT
BEGIN:STANDARD
TZOFFSETFROM:-0400
TZOFFSETTO:-0500
TZNAME:EST
DTSTART:20251102T060000
END:STANDARD
BEGIN:DAYLIGHT
TZOFFSETFROM:-0500
TZOFFSETTO:-0400
TZNAME:EDT
DTSTART:20260308T070000
END:DAYLIGHT
BEGIN:STANDARD
TZOFFSETFROM:-0400
TZOFFSETTO:-0500
TZNAME:EST
DTSTART:20261101T060000
END:STANDARD
END:VTIMEZONE
BEGIN:VEVENT
DTSTART;TZID=America/New_York:20250121T000000
DTEND;TZID=America/New_York:20250128T235959
DTSTAMP:20260422T220316
CREATED:20240903T140436Z
LAST-MODIFIED:20240904T165329Z
UID:40810113293-1737417600-1738108799@www.monmouth.edu
SUMMARY:Late Registration / Add-Drop / Leave of Absence
DESCRIPTION:
URL:https://www.monmouth.edu/events/event/late-registration-add-drop-leave-of-absence/
CATEGORIES:Academic Calendar
END:VEVENT
BEGIN:VEVENT
DTSTART;TZID=America/New_York:20250121T000000
DTEND;TZID=America/New_York:20250323T235959
DTSTAMP:20260422T220316
CREATED:20241002T195039Z
LAST-MODIFIED:20241218T181455Z
UID:40810114439-1737417600-1742774399@www.monmouth.edu
SUMMARY:Michael Malpass: Renaissance Man
DESCRIPTION:Through the alchemy of welding and traditional blacksmithing\, Michael Malpass commanded steel\, bronze\, copper\, and brass with a sculptor’s precision. He elevated these industrial remnants\, liberating them from their utilitarian past\, and reimagined them as vibrant works of art— imbuing them with new life and meaning. \nOpening Reception: Friday\, February 7\, 5:30pm – 7:30pm
URL:https://www.monmouth.edu/events/event/michael-malpass-renaissance-man/
LOCATION:DiMattio Gallery at Rechnitz Hall
CATEGORIES:Art Exhibitions,Arts at Monmouth,Free
ATTACH;FMTTYPE=image/jpeg:https://www.monmouth.edu/events/wp-content/uploads/sites/19/2024/10/header_malpass.jpg
END:VEVENT
BEGIN:VEVENT
DTSTART;TZID=America/New_York:20250122T000000
DTEND;TZID=America/New_York:20250122T235959
DTSTAMP:20260422T220316
CREATED:20240903T134840Z
LAST-MODIFIED:20240904T165319Z
UID:40810113284-1737504000-1737590399@www.monmouth.edu
SUMMARY:End of Final Grading Period
DESCRIPTION:
URL:https://www.monmouth.edu/events/event/end-of-final-grading-period-2/
CATEGORIES:Academic Calendar
END:VEVENT
BEGIN:VEVENT
DTSTART;TZID=America/New_York:20250122T080000
DTEND;TZID=America/New_York:20250122T170000
DTSTAMP:20260422T220316
CREATED:20250122T211804Z
LAST-MODIFIED:20250122T211804Z
UID:40810118073-1737532800-1737565200@www.monmouth.edu
SUMMARY:SGA Sexual Awareness Education Week - Guess the STI with Prizes!
DESCRIPTION:Test your knowledge at SGA Sexual Awareness Education Week: Guess the STI and win exciting prizes! Learn important facts while having fun in this interactive and educational event!  Wednesday\, April 2\, 1-2 p.m.\, 1st Floor of the Student Center
URL:https://www.monmouth.edu/events/event/sga-sexual-awareness-education-week-guess-the-sti-with-prizes/
LOCATION:1st floor of the Student Center
ATTACH;FMTTYPE=image/jpeg:https://www.monmouth.edu/events/wp-content/uploads/sites/19/2025/01/19-SGA-logo-final.jpg
END:VEVENT
BEGIN:VEVENT
DTSTART;TZID=America/New_York:20250122T090000
DTEND;TZID=America/New_York:20250122T170000
DTSTAMP:20260422T220316
CREATED:20250108T210832Z
LAST-MODIFIED:20250108T210832Z
UID:40810117680-1737536400-1737565200@www.monmouth.edu
SUMMARY:Poster Sale
DESCRIPTION:Brighten up your space at our Poster Sale\, featuring a wide selection of designs to suit every style and taste! From iconic artwork to trendy prints\, find the perfect piece to add personality and flair to your walls.
URL:https://www.monmouth.edu/events/event/poster-sale-4/2025-01-22/
LOCATION:Student Center – Anacon Hall
ATTACH;FMTTYPE=image/jpeg:https://www.monmouth.edu/events/wp-content/uploads/sites/19/2025/01/Monmouth_IGpost_DIGITALONLY.jpg
END:VEVENT
BEGIN:VEVENT
DTSTART;TZID=America/New_York:20250122T090000
DTEND;TZID=America/New_York:20250122T170000
DTSTAMP:20260422T220316
CREATED:20250116T191242Z
LAST-MODIFIED:20250116T191242Z
UID:40810117903-1737536400-1737565200@www.monmouth.edu
SUMMARY:Hot Chocolate/Coffee Bar with OSE
DESCRIPTION:Come warm up at the Hot Chocolate/Coffee Bar with OSE\, where you can enjoy a delicious drink and great conversation!
URL:https://www.monmouth.edu/events/event/hot-chocolate-coffee-bar-with-ose/
LOCATION:Student Center – 1st Floor
ATTACH;FMTTYPE=image/jpeg:https://www.monmouth.edu/events/wp-content/uploads/sites/19/2025/01/a317085b479e7cdff35a3c69f0d57b02.jpg
END:VEVENT
BEGIN:VEVENT
DTSTART;TZID=America/New_York:20250122T120000
DTEND;TZID=America/New_York:20250122T150000
DTSTAMP:20260422T220316
CREATED:20250108T211522Z
LAST-MODIFIED:20250108T211522Z
UID:40810117683-1737547200-1737558000@www.monmouth.edu
SUMMARY:DIY Wellness Kits with Hackensack Meridian Health
DESCRIPTION:Create your own personalized wellness kit with Hackensack Meridian Health\, designed to promote relaxation\, self-care\, and mental well-being. Join us for a fun and informative session as you assemble your very own toolkit for a healthier\, more balanced lifestyle!
URL:https://www.monmouth.edu/events/event/diy-wellness-kits-with-hackensack-meridian-health/
LOCATION:Student Center – 1st Floor
ATTACH;FMTTYPE=image/png:https://www.monmouth.edu/events/wp-content/uploads/sites/19/2025/01/hackensack-meridian-health-logo-vector.png
END:VEVENT
BEGIN:VEVENT
DTSTART;TZID=America/New_York:20250122T120000
DTEND;TZID=America/New_York:20250122T150000
DTSTAMP:20260422T220316
CREATED:20250117T161558Z
LAST-MODIFIED:20250117T161558Z
UID:40810117906-1737547200-1737558000@www.monmouth.edu
SUMMARY:New Year\, New Intentions\, Intentional Journaling and Affirmation
DESCRIPTION:Join us for a transformative New Year event focused on setting clear intentions\, practicing intentional journaling\, and harnessing the power of affirmations to manifest your goals. Embrace the opportunity to start 2025 with clarity\, purpose\, and a renewed mindset for success and personal growth.
URL:https://www.monmouth.edu/events/event/new-year-new-intentions-intentional-journaling-and-affirmation/
LOCATION:Student Center Cafeteria
ATTACH;FMTTYPE=image/jpeg:https://www.monmouth.edu/events/wp-content/uploads/sites/19/2025/01/the-illustrated-journal-barbara-chase.jpg
END:VEVENT
BEGIN:VEVENT
DTSTART;TZID=America/New_York:20250122T150000
DTEND;TZID=America/New_York:20250122T160000
DTSTAMP:20260422T220316
CREATED:20241105T200706Z
LAST-MODIFIED:20241105T200706Z
UID:40810115446-1737558000-1737561600@www.monmouth.edu
SUMMARY:Orientation Leader Information Session
DESCRIPTION:Interested in becoming an Orientation Leader? Stop by to learn more about the role and ask any questions you may have!
URL:https://www.monmouth.edu/events/event/orientation-leader-information-session-4/
LOCATION:Student Center 202 A
ATTACH;FMTTYPE=image/png:https://www.monmouth.edu/events/wp-content/uploads/sites/19/2024/10/Spring-2025-Info-Session-Flyer.png
END:VEVENT
BEGIN:VEVENT
DTSTART;TZID=America/New_York:20250122T180000
DTEND;TZID=America/New_York:20250122T180000
DTSTAMP:20260422T220316
CREATED:20241206T211231Z
LAST-MODIFIED:20241206T211248Z
UID:40810115982-1737568800-1737568800@www.monmouth.edu
SUMMARY:First-Time Home Buyer Workshop
DESCRIPTION:This virtual program hosted by Thomas Vogel\, seasoned loan officer with OceanFirst Bank\, will inform first-time home buyers on the steps needed to be mortgage ready while discussing budget creation and credit building. Included in this workshop will also be an overview of the process and documents needed\, as well as information on several special programs for first-time home buyers and recent changes in the rules for real estate agents.
URL:https://www.monmouth.edu/events/event/first-time-home-buyer-workshop/
LOCATION:Virtual (Zoom)
CATEGORIES:Alumni,Alumni Events,Community Member,Free,Virtual,Workshops and Professional Development
END:VEVENT
BEGIN:VEVENT
DTSTART;TZID=America/New_York:20250122T193000
DTEND;TZID=America/New_York:20250122T213000
DTSTAMP:20260422T220316
CREATED:20250116T191226Z
LAST-MODIFIED:20250116T191226Z
UID:40810117902-1737574200-1737581400@www.monmouth.edu
SUMMARY:Meet the Greeks
DESCRIPTION:Join us for Meet the Greeks\, an exciting opportunity to learn about the fraternities and sororities on campus! Whether you’re interested in joining or just curious\, come connect with members\, ask questions\, and discover how Greek life can enhance your college experience!
URL:https://www.monmouth.edu/events/event/meet-the-greeks-2/
LOCATION:OceanFirst Bank Center Track
ATTACH;FMTTYPE=image/jpeg:https://www.monmouth.edu/events/wp-content/uploads/sites/19/2025/01/JDB_0298.jpg
END:VEVENT
END:VCALENDAR