BEGIN:VCALENDAR
VERSION:2.0
PRODID:-//Events - ECPv6.15.20//NONSGML v1.0//EN
CALSCALE:GREGORIAN
METHOD:PUBLISH
X-WR-CALNAME:Events
X-ORIGINAL-URL:https://www.monmouth.edu/events
X-WR-CALDESC:Events for Events
REFRESH-INTERVAL;VALUE=DURATION:PT1H
X-Robots-Tag:noindex
X-PUBLISHED-TTL:PT1H
BEGIN:VTIMEZONE
TZID:America/New_York
BEGIN:DAYLIGHT
TZOFFSETFROM:-0500
TZOFFSETTO:-0400
TZNAME:EDT
DTSTART:20240310T070000
END:DAYLIGHT
BEGIN:STANDARD
TZOFFSETFROM:-0400
TZOFFSETTO:-0500
TZNAME:EST
DTSTART:20241103T060000
END:STANDARD
BEGIN:DAYLIGHT
TZOFFSETFROM:-0500
TZOFFSETTO:-0400
TZNAME:EDT
DTSTART:20250309T070000
END:DAYLIGHT
BEGIN:STANDARD
TZOFFSETFROM:-0400
TZOFFSETTO:-0500
TZNAME:EST
DTSTART:20251102T060000
END:STANDARD
BEGIN:DAYLIGHT
TZOFFSETFROM:-0500
TZOFFSETTO:-0400
TZNAME:EDT
DTSTART:20260308T070000
END:DAYLIGHT
BEGIN:STANDARD
TZOFFSETFROM:-0400
TZOFFSETTO:-0500
TZNAME:EST
DTSTART:20261101T060000
END:STANDARD
END:VTIMEZONE
BEGIN:VEVENT
DTSTART;TZID=America/New_York:20250114T193000
DTEND;TZID=America/New_York:20250114T213000
DTSTAMP:20260423T075245
CREATED:20240610T205902Z
LAST-MODIFIED:20240926T171249Z
UID:40810112510-1736883000-1736890200@www.monmouth.edu
SUMMARY:Harold Pinter\, Betrayal
DESCRIPTION:Join us for Tuesday Night Book Club! Hosted by Monmouth University’s Ken Womack. This month’s novel is Harold Pinter\, Betrayal. \nOne of the most essential artists produced by the twentieth century. Pinter’s work gets under our skin more than that of any living playwright.” New York Times \nUpon its premiere at the National Theatre\, Betrayal was immediately recognized as a masterpiece. It won the Olivier Award for best new play\, and has since been performed all around the world and made into an Academy Award-nominated film starring Jeremy Irons\, Ben Kingsley\, and Patricia Hodge. Betrayal begins with a meeting between adulterous lovers\, Emma and Jerry\, two years after their affair has ended. During the nine scenes of the play\, we move back in time through the stages of their affair\, ending in the house of Emma and her husband Robert\, Jerry’s best friend. \nWhen you register you will be provided the meeting link to join the conversation.
URL:https://www.monmouth.edu/events/event/harold-pinter-betrayal/
LOCATION:Virtual
CATEGORIES:Alumni,Alumni Affairs,Alumni Events,Arts at Monmouth,English,Free,Lectures,Lectures/Workshops/Symposiums
ATTACH;FMTTYPE=image/jpeg:https://www.monmouth.edu/events/wp-content/uploads/sites/19/2024/06/betrayal_header.jpg
END:VEVENT
END:VCALENDAR