BEGIN:VCALENDAR
VERSION:2.0
PRODID:-//Events - ECPv6.15.20//NONSGML v1.0//EN
CALSCALE:GREGORIAN
METHOD:PUBLISH
X-ORIGINAL-URL:https://www.monmouth.edu/events
X-WR-CALDESC:Events for Events
REFRESH-INTERVAL;VALUE=DURATION:PT1H
X-Robots-Tag:noindex
X-PUBLISHED-TTL:PT1H
BEGIN:VTIMEZONE
TZID:America/New_York
BEGIN:DAYLIGHT
TZOFFSETFROM:-0500
TZOFFSETTO:-0400
TZNAME:EDT
DTSTART:20230312T070000
END:DAYLIGHT
BEGIN:STANDARD
TZOFFSETFROM:-0400
TZOFFSETTO:-0500
TZNAME:EST
DTSTART:20231105T060000
END:STANDARD
BEGIN:DAYLIGHT
TZOFFSETFROM:-0500
TZOFFSETTO:-0400
TZNAME:EDT
DTSTART:20240310T070000
END:DAYLIGHT
BEGIN:STANDARD
TZOFFSETFROM:-0400
TZOFFSETTO:-0500
TZNAME:EST
DTSTART:20241103T060000
END:STANDARD
BEGIN:DAYLIGHT
TZOFFSETFROM:-0500
TZOFFSETTO:-0400
TZNAME:EDT
DTSTART:20250309T070000
END:DAYLIGHT
BEGIN:STANDARD
TZOFFSETFROM:-0400
TZOFFSETTO:-0500
TZNAME:EST
DTSTART:20251102T060000
END:STANDARD
END:VTIMEZONE
BEGIN:VEVENT
DTSTART;TZID=America/New_York:20240516T193000
DTEND;TZID=America/New_York:20240516T210000
DTSTAMP:20260425T154924
CREATED:20231204T184921Z
LAST-MODIFIED:20240306T151553Z
UID:40810112228-1715887800-1715893200@www.monmouth.edu
SUMMARY:British Invasion\, Part 4: The Fourth Wave
DESCRIPTION:Class Schedule: Thursdays – May 9 & 16 | 7:30 – 9:00 PM \nThis two-session virtual course taught by Kit O’Toole will survey some of the major artists of the Third Wave period\, from the late 1970s through the 1980s and beyond. It will cover genres from punk through new wave\, synth pop\, rock\, and much more. How does the Third Wave of the British Invasion continue to influence today’s music? The course will explore artists such as Duran Duran\, Elvis Costello\, the Cure\, Depeche Mode\, Dire Straits\, Eurythmics\, Psychedelic Furs\, Human League\, Nick Lowe\, Madness\, Joy Division\, Howard Jones\, Joe Jackson\, New Order\, Gary Numan\, Pretenders\, Style Council\, and George Michael/Wham\, and their impact on both British and American music. The role of MTV on the Third Wave of the British Invasion will also be discussed. \nZoom Link will be provided upon registration.
URL:https://www.monmouth.edu/events/event/british-invasion-part-4-the-fourth-wave/2024-05-16/
LOCATION:Virtual
CATEGORIES:Arts at Monmouth,Lectures,Lectures/Workshops/Symposiums
ATTACH;FMTTYPE=image/jpeg:https://www.monmouth.edu/events/wp-content/uploads/sites/19/2023/12/kitpart4webheader.jpg
END:VEVENT
END:VCALENDAR