BEGIN:VCALENDAR
VERSION:2.0
PRODID:-//Events - ECPv6.15.20//NONSGML v1.0//EN
CALSCALE:GREGORIAN
METHOD:PUBLISH
X-ORIGINAL-URL:https://www.monmouth.edu/events
X-WR-CALDESC:Events for Events
REFRESH-INTERVAL;VALUE=DURATION:PT1H
X-Robots-Tag:noindex
X-PUBLISHED-TTL:PT1H
BEGIN:VTIMEZONE
TZID:America/New_York
BEGIN:DAYLIGHT
TZOFFSETFROM:-0500
TZOFFSETTO:-0400
TZNAME:EDT
DTSTART:20170312T070000
END:DAYLIGHT
BEGIN:STANDARD
TZOFFSETFROM:-0400
TZOFFSETTO:-0500
TZNAME:EST
DTSTART:20171105T060000
END:STANDARD
BEGIN:DAYLIGHT
TZOFFSETFROM:-0500
TZOFFSETTO:-0400
TZNAME:EDT
DTSTART:20180311T070000
END:DAYLIGHT
BEGIN:STANDARD
TZOFFSETFROM:-0400
TZOFFSETTO:-0500
TZNAME:EST
DTSTART:20181104T060000
END:STANDARD
BEGIN:DAYLIGHT
TZOFFSETFROM:-0500
TZOFFSETTO:-0400
TZNAME:EDT
DTSTART:20190310T070000
END:DAYLIGHT
BEGIN:STANDARD
TZOFFSETFROM:-0400
TZOFFSETTO:-0500
TZNAME:EST
DTSTART:20191103T060000
END:STANDARD
END:VTIMEZONE
BEGIN:VEVENT
DTSTART;TZID=America/New_York:20180401T100000
DTEND;TZID=America/New_York:20180531T190000
DTSTAMP:20260423T080801
CREATED:20180725T203339Z
LAST-MODIFIED:20190301T154430Z
UID:40810101020-1522576800-1527793200@www.monmouth.edu
SUMMARY:Artivism
DESCRIPTION:As a universal language\, the arts have always been an effective tool for addressing social issues. Artivism or “activist art” is a form of social protest that explores cultural and political concerns. However\, it is much more than just an innovative tactic\, Artivism involves an entire practice that attempts to inspire positive change in society. This juried exhibition features works of art that employ spectacle\, symbolism and collective participation to fight for issues of social justice including racial discrimination\, gender equality\, fair labor practices\, human rights and more. \nParticipating Artists Include: \nEllis Angel\nMarilyn M. Baldi\nJanet Boltax\nMerry Brennan\nRoberta C. Scott\nBeverly Crilly\nPatricia Dahlman\nMichael Dal Cerro\nIsabella DeAnglis\nDawn DiCicco\nMark Dornan\nAnne Dushanko Dobek\nShekira Farrell\nNette Forne Thomas\nSophie French\nJessenia Gaviria\nGhazel Ghazi\nEmily Gilman Beezley\nIndira Govindan\nSandra Gustafson\nStephen Harrison\nJesse Hill\nAnnie Hogan\nPatricia Hutchinson\nJulia Justo\nEdward Kelley\nLouise Krasniewicz\nRashna Madon\nStephen Marc\nAlexandra Martin\nBonnie McKee Totora\nIrmari Nacht\nChris Revelle\nAndrew Ricci\nPatrice Robinson\nStuart Robinson\nCharles Andrew Seaton\nRosary Solimanto\nWilliam Stoehr\nColleen Sweeney Gahrmann\nSandy Taylor\nJohn Taylor-Lehman\nBrad Terhune\nHannah Ueno\nJoseph Villa\nMaryann Vitiello\nTerrill Warrenburg\nJudy Wukitsch\nBelgin Yucelen
URL:https://www.monmouth.edu/events/event/artivism18/
LOCATION:Pollak Gallery
CATEGORIES:Art Exhibitions,Arts at Monmouth,Free
ATTACH;FMTTYPE=image/jpeg:https://www.monmouth.edu/events/wp-content/uploads/sites/19/2018/07/heroartivism.jpg
END:VEVENT
BEGIN:VEVENT
DTSTART;TZID=America/New_York:20180406T100000
DTEND;TZID=America/New_York:20180413T170000
DTSTAMP:20260423T080801
CREATED:20180725T203517Z
LAST-MODIFIED:20190301T183859Z
UID:40810101113-1523008800-1523638800@www.monmouth.edu
SUMMARY:Second Senior Show: Graphic Design
DESCRIPTION:Featuring the work of Monmouth University graduating seniors who will receive their degrees in Graphic Design.
URL:https://www.monmouth.edu/events/event/secondseniorshow18/
LOCATION:Joan and Robert Rechnitz Hall
CATEGORIES:Art and Design,Art Exhibitions,Arts at Monmouth,Free
ATTACH;FMTTYPE=image/jpeg:https://www.monmouth.edu/events/wp-content/uploads/sites/19/2018/07/secondseniorshow_hero2.jpg
END:VEVENT
BEGIN:VEVENT
DTSTART;TZID=America/New_York:20180411T150000
DTEND;TZID=America/New_York:20180411T170000
DTSTAMP:20260423T080801
CREATED:20180725T203210Z
LAST-MODIFIED:20220419T142941Z
UID:40810100909-1523458800-1523466000@www.monmouth.edu
SUMMARY:Uber Whistleblower and Time “Silence Breaker” Susan Fowler to Speak at Monmouth University
DESCRIPTION:The Leon Hess Business School Presents the 2018 H.R. Young Endowed Lecture: \n“The Adventures of Susan Fowler at Uber: Sexual Harassment in Silicon Valley”\nUber whistleblower Susan Fowler will give the 2018 H.R. Young Endowed Lecture: “The Adventures of Susan Fowler at Uber: Sexual Harassment in Silicon Valley” on Wednesday\, April 11\, at 3 p.m. in Pollak Theatre on the Monmouth University campus. \nSusan Fowler graduated from the University of Pennsylvania with a degree in physics. Following jobs at two startup companies\, she was hired by Uber as a site reliability engineer. She resigned after one year and published a blogpost detailing the harassment and discrimination she had experienced as a result of rejecting her manager’s sexual advances. Uber CEO Travis Kalanick resigned and 20 employees were fired. Under Ariana Huffington’s supervision\, Uber’s Board of Directors hired former attorney general Eric Holder and his law firm\, which conducted an investigation and proposed sweeping changes. \nIn 2017\, Fowler was recognized as the Financial Times Person of the Year and one of Time magazine’s persons of the year: “The Silence Breakers.” Her Uber adventures are the subject of an upcoming movie. \nThis free event is open to the public. RSVPs are not required for the lecture. Questions may be directed to Trish LaMarca at plamarca@monmouth.edu or 732-571-3423.
URL:https://www.monmouth.edu/events/event/uber-whistleblower-and-time-silence-breaker-susan-fowler-to-speak-at-monmouth-university/
LOCATION:Pollak Theatre
CATEGORIES:Alumni,Alumni Affairs,Community Member,Current Student,Faculty,Leon Hess Business School
ATTACH;FMTTYPE=image/png:https://www.monmouth.edu/events/wp-content/uploads/sites/19/2018/07/SusanFowlerPromo.png
END:VEVENT
END:VCALENDAR