BEGIN:VCALENDAR
VERSION:2.0
PRODID:-//Events - ECPv6.15.20//NONSGML v1.0//EN
CALSCALE:GREGORIAN
METHOD:PUBLISH
X-ORIGINAL-URL:https://www.monmouth.edu/events
X-WR-CALDESC:Events for Events
REFRESH-INTERVAL;VALUE=DURATION:PT1H
X-Robots-Tag:noindex
X-PUBLISHED-TTL:PT1H
BEGIN:VTIMEZONE
TZID:America/New_York
BEGIN:DAYLIGHT
TZOFFSETFROM:-0500
TZOFFSETTO:-0400
TZNAME:EDT
DTSTART:20160313T070000
END:DAYLIGHT
BEGIN:STANDARD
TZOFFSETFROM:-0400
TZOFFSETTO:-0500
TZNAME:EST
DTSTART:20161106T060000
END:STANDARD
BEGIN:DAYLIGHT
TZOFFSETFROM:-0500
TZOFFSETTO:-0400
TZNAME:EDT
DTSTART:20170312T070000
END:DAYLIGHT
BEGIN:STANDARD
TZOFFSETFROM:-0400
TZOFFSETTO:-0500
TZNAME:EST
DTSTART:20171105T060000
END:STANDARD
BEGIN:DAYLIGHT
TZOFFSETFROM:-0500
TZOFFSETTO:-0400
TZNAME:EDT
DTSTART:20180311T070000
END:DAYLIGHT
BEGIN:STANDARD
TZOFFSETFROM:-0400
TZOFFSETTO:-0500
TZNAME:EST
DTSTART:20181104T060000
END:STANDARD
END:VTIMEZONE
BEGIN:VEVENT
DTSTART;TZID=America/New_York:20170401T090000
DTEND;TZID=America/New_York:20170531T190000
DTSTAMP:20260420T100211
CREATED:20180725T203849Z
LAST-MODIFIED:20190301T160514Z
UID:40810101545-1491037200-1496257200@www.monmouth.edu
SUMMARY:ART+AUTISM
DESCRIPTION:Presented in partnership with Autism Speaks New Jersey\, this juried exhibition opening at the beginning of Autism Awareness Month will showcase the talents and abilities of artists living with Autism Spectrum Disorder and initiate a conversation about the unique power of art in the autism community. Each piece of work will be for sale and a portion of the proceeds will benefit Autism Speaks.   \nOpening Reception: April 2\, 5-7 PM\nThe opening reception will be presented in conjunction with the Bravo Amici benefit concert for Autism Speaks on April 2 at 8 PM.
URL:https://www.monmouth.edu/events/event/artautism/
LOCATION:Pollak Gallery
CATEGORIES:Arts at Monmouth,Autism Awareness Month
ATTACH;FMTTYPE=image/jpeg:https://www.monmouth.edu/events/wp-content/uploads/sites/19/2018/07/5603.jpg
END:VEVENT
BEGIN:VEVENT
DTSTART;VALUE=DATE:20170402
DTEND;VALUE=DATE:20170501
DTSTAMP:20260420T100211
CREATED:20180725T203806Z
LAST-MODIFIED:20190228T150712Z
UID:40810101386-1491091200-1493596799@www.monmouth.edu
SUMMARY:Light it up Blue
DESCRIPTION:Each April 2nd\, Autism Speaks celebrates the start of its signature campaign\, Light It Up Blue\, along with the international autism community in recognition of UN sanctioned World Autism Awareness Day and April\, World Autism Month . Thousands of iconic landmarks and buildings join the hundreds of thousands of homes and communities around the world to “light blue” in support of people living with autism. Monmouth University will be joining the campaign lighting dramatically lighting up the Monmouth Library and Wilson Hall for the entire month of April.
URL:https://www.monmouth.edu/events/event/light-it-up-blue/
LOCATION:The Great Hall
CATEGORIES:Autism Awareness Month
ATTACH;FMTTYPE=image/jpeg:https://www.monmouth.edu/events/wp-content/uploads/sites/19/2018/07/AT1607_d.jpg
END:VEVENT
BEGIN:VEVENT
DTSTART;TZID=America/New_York:20170419T145000
DTEND;TZID=America/New_York:20170419T170000
DTSTAMP:20260420T100211
CREATED:20180725T203744Z
LAST-MODIFIED:20190304T164423Z
UID:40810101344-1492613400-1492621200@www.monmouth.edu
SUMMARY:Blue Hawk Records: Album Release show
DESCRIPTION:Blue Hawk Records\, Monmouth University’s student-run record label\, will be releasing its 10th studio record featuring students from Monmouth University. The showcase will be free and held at the Resident Quad.
URL:https://www.monmouth.edu/events/event/blue-hawk-records-album-release-show/
LOCATION:Residential Quad
CATEGORIES:Arts at Monmouth,Music + Theatre Arts
ATTACH;FMTTYPE=image/jpeg:https://www.monmouth.edu/events/wp-content/uploads/sites/19/2018/07/560bluehawk1.jpg
END:VEVENT
BEGIN:VEVENT
DTSTART;TZID=America/New_York:20170419T200000
DTEND;TZID=America/New_York:20170419T220000
DTSTAMP:20260420T100211
CREATED:20180725T203743Z
LAST-MODIFIED:20180725T203743Z
UID:40810101338-1492632000-1492639200@www.monmouth.edu
SUMMARY:Exploration and Discovery – Dance
DESCRIPTION:Join us for an exploratory evening of dance featuring choreography developed and created by students in the Spring 2017 Choreography class. Additional works by members of the Department of Music and Theater will also be showcased.
URL:https://www.monmouth.edu/events/event/exploration-and-discovery-dance/
LOCATION:Lauren K. Woods Theatre
CATEGORIES:Dance,Music + Theatre Arts
ATTACH;FMTTYPE=image/jpeg:https://www.monmouth.edu/events/wp-content/uploads/sites/19/2018/07/mu-placeholder.jpg
END:VEVENT
END:VCALENDAR