BEGIN:VCALENDAR
VERSION:2.0
PRODID:-//Events - ECPv6.15.20//NONSGML v1.0//EN
CALSCALE:GREGORIAN
METHOD:PUBLISH
X-WR-CALNAME:Events
X-ORIGINAL-URL:https://www.monmouth.edu/events
X-WR-CALDESC:Events for Events
REFRESH-INTERVAL;VALUE=DURATION:PT1H
X-Robots-Tag:noindex
X-PUBLISHED-TTL:PT1H
BEGIN:VTIMEZONE
TZID:America/New_York
BEGIN:DAYLIGHT
TZOFFSETFROM:-0500
TZOFFSETTO:-0400
TZNAME:EDT
DTSTART:20150308T070000
END:DAYLIGHT
BEGIN:STANDARD
TZOFFSETFROM:-0400
TZOFFSETTO:-0500
TZNAME:EST
DTSTART:20151101T060000
END:STANDARD
BEGIN:DAYLIGHT
TZOFFSETFROM:-0500
TZOFFSETTO:-0400
TZNAME:EDT
DTSTART:20160313T070000
END:DAYLIGHT
BEGIN:STANDARD
TZOFFSETFROM:-0400
TZOFFSETTO:-0500
TZNAME:EST
DTSTART:20161106T060000
END:STANDARD
BEGIN:DAYLIGHT
TZOFFSETFROM:-0500
TZOFFSETTO:-0400
TZNAME:EDT
DTSTART:20170312T070000
END:DAYLIGHT
BEGIN:STANDARD
TZOFFSETFROM:-0400
TZOFFSETTO:-0500
TZNAME:EST
DTSTART:20171105T060000
END:STANDARD
END:VTIMEZONE
BEGIN:VEVENT
DTSTART;TZID=America/New_York:20160308T090000
DTEND;TZID=America/New_York:20160818T190000
DTSTAMP:20260419T094932
CREATED:20180725T204211Z
LAST-MODIFIED:20190301T185550Z
UID:40810102175-1457427600-1471546800@www.monmouth.edu
SUMMARY:Michael Malpass Retrospective
DESCRIPTION:Exhibition extended through August 18 \nPollak Gallery and outdoor locations on campus\nDocumentary Screening: May 18\, 10 AM at Wilson Hall \nMichael Malpass’ (1946-1991) artistic legacy consists of sculpture\, drawings \, collage\, paintings\, and assemblages. He is best known for his spheres\, which revitalize found industrial objects using bandsaw and traditional blacksmithing techniques. He described his sculpture\, overall\, as “a blend of artistry\, collage\, craftsmanship and movement\,” terms that could be applied to his work in other media\, as well. His vast\, stimulating and powerful body of work has established him as one of the most respected sculptors of the 20th century. \nThe opening reception will include a premiere screening of a new documentary “Michael Malpass – A Great Circle” created by Monmouth University Communication students under the direction of Erin Fleming\,\ndirector of Production Services at 7:30 pm in Pollak Theatre.
URL:https://www.monmouth.edu/events/event/michael-malpass-retrospective/
LOCATION:Pollak Gallery
ATTACH;FMTTYPE=image/jpeg:https://www.monmouth.edu/events/wp-content/uploads/sites/19/2018/07/Event-Mar-8-Michael-malpass-4.jpg
END:VEVENT
BEGIN:VEVENT
DTSTART;TZID=America/New_York:20160325T090000
DTEND;TZID=America/New_York:20160402T170000
DTSTAMP:20260419T094932
CREATED:20180725T204210Z
LAST-MODIFIED:20190301T192919Z
UID:40810102169-1458896400-1459616400@www.monmouth.edu
SUMMARY:First Senior Show – Fine Art\, Art Education\, & Animation
DESCRIPTION:DiMattio Gallery \nOpening Reception: Friday\, March 25 from 7:00 – 9:00 p.m. \nFeaturing the work of Monmouth University graduating seniors who will receive their degrees in Fine Art\, Art Education\, and Animation.
URL:https://www.monmouth.edu/events/event/first-senior-show-fine-art-art-education-animation/
LOCATION:Joan and Robert Rechnitz Hall
CATEGORIES:School of Humanities and Social Sciences
ATTACH;FMTTYPE=image/jpeg:https://www.monmouth.edu/events/wp-content/uploads/sites/19/2018/07/seniorfineart_web_resize.jpg
END:VEVENT
BEGIN:VEVENT
DTSTART;TZID=America/New_York:20160328T190000
DTEND;TZID=America/New_York:20160328T203000
DTSTAMP:20260419T094932
CREATED:20180725T204056Z
LAST-MODIFIED:20180725T204057Z
UID:40810101953-1459191600-1459197000@www.monmouth.edu
SUMMARY:Celebrated Author Erik Larson To Speak at Monmouth University
DESCRIPTION:Celebrated author Erik Larson will speak at Monmouth University on Monday\, March 28\, 2016\, from 7 – 8:30 p.m. in Pollak Theatre. This event is free and open to the public. \n \nErik Larson has written five books that have appeared on the New York Times‘ bestseller list\, including such critically acclaimed works as In the Garden of Beasts: Love\, Terror\, and an American Family in Hitler’s Berlin and The Devil in the White City. Mr. Larson’s most recent book is  Dead Wake: The Last Crossing of the Lusitania\, which deals with the implications of the sinking of the Lusitania by German torpedoes in May 1915 and will be the subject of his talk. \nThis event is the inaugural lecture in the Department of History and Anthropology’s Charles Mayes World War I Lecture Series. \nMr. Larson’s talk at Monmouth University will be his first public appearance since the release of Dead Wake in paperback. His books will be on sale before and after his talk\, and Mr. Larson will be available to sign books after his talk. \nYou can read more about Mr. Larson and his body of work at: eriklarsonbooks.com \nFor more information about this event\, please contact Ken Campbell at campbell@monmouth.edu or Melissa Ziobro at mziobro@monmouth.edu with any questions.
URL:https://www.monmouth.edu/events/event/celebrated-author-erik-larson-to-speak-at-monmouth-university/
LOCATION:Pollak Theatre
CATEGORIES:Alumni,Community Member,Current Student,Faculty,History + Anthropology,Lectures,School of Humanities and Social Sciences
ATTACH;FMTTYPE=image/png:https://www.monmouth.edu/events/wp-content/uploads/sites/19/2018/07/ErikLarsonPromo.png
END:VEVENT
END:VCALENDAR