BEGIN:VCALENDAR
VERSION:2.0
PRODID:-//Events - ECPv6.15.20//NONSGML v1.0//EN
CALSCALE:GREGORIAN
METHOD:PUBLISH
X-ORIGINAL-URL:https://www.monmouth.edu/events
X-WR-CALDESC:Events for Events
REFRESH-INTERVAL;VALUE=DURATION:PT1H
X-Robots-Tag:noindex
X-PUBLISHED-TTL:PT1H
BEGIN:VTIMEZONE
TZID:America/New_York
BEGIN:DAYLIGHT
TZOFFSETFROM:-0500
TZOFFSETTO:-0400
TZNAME:EDT
DTSTART:20140309T070000
END:DAYLIGHT
BEGIN:STANDARD
TZOFFSETFROM:-0400
TZOFFSETTO:-0500
TZNAME:EST
DTSTART:20141102T060000
END:STANDARD
BEGIN:DAYLIGHT
TZOFFSETFROM:-0500
TZOFFSETTO:-0400
TZNAME:EDT
DTSTART:20150308T070000
END:DAYLIGHT
BEGIN:STANDARD
TZOFFSETFROM:-0400
TZOFFSETTO:-0500
TZNAME:EST
DTSTART:20151101T060000
END:STANDARD
BEGIN:DAYLIGHT
TZOFFSETFROM:-0500
TZOFFSETTO:-0400
TZNAME:EDT
DTSTART:20160313T070000
END:DAYLIGHT
BEGIN:STANDARD
TZOFFSETFROM:-0400
TZOFFSETTO:-0500
TZNAME:EST
DTSTART:20161106T060000
END:STANDARD
END:VTIMEZONE
BEGIN:VEVENT
DTSTART;TZID=America/New_York:20150415T090000
DTEND;TZID=America/New_York:20150531T190000
DTSTAMP:20260419T103353
CREATED:20180725T204455Z
LAST-MODIFIED:20190301T185657Z
UID:40810102865-1429088400-1433098800@www.monmouth.edu
SUMMARY:Janet Boltax - Aging in America: Portraits and Commentary
DESCRIPTION:Aging in America: Portraits and Commentary\, is an exhibition of portraits by Janet Boltax comprised of individuals who are 90 plus years old\, along with excerpts of interviews with them. The interviews focus on interesting facets of their lives and how they are adapting to the process of aging.\n\nOpening Reception: April 15\, 6-8 pm | POLLAK GALLERY
URL:https://www.monmouth.edu/events/event/janet-boltax-aging-in-america-portraits-and-commentary/
LOCATION:Pollak Gallery
CATEGORIES:Artful Explorations of Gender
ATTACH;FMTTYPE=image/jpeg:https://www.monmouth.edu/events/wp-content/uploads/sites/19/2018/07/boltax.jpg
END:VEVENT
BEGIN:VEVENT
DTSTART;VALUE=DATE:20150506
DTEND;VALUE=DATE:20150513
DTSTAMP:20260419T103353
CREATED:20180725T204415Z
LAST-MODIFIED:20180725T204415Z
UID:40810102661-1430870400-1431475199@www.monmouth.edu
SUMMARY:Final Exam Period
DESCRIPTION:
URL:https://www.monmouth.edu/events/event/final-exam-period/
CATEGORIES:Academic Calendar
ATTACH;FMTTYPE=image/jpeg:https://www.monmouth.edu/events/wp-content/uploads/sites/19/2018/07/holiday-breaks-placeholder.jpg
END:VEVENT
BEGIN:VEVENT
DTSTART;TZID=America/New_York:20150509T100000
DTEND;TZID=America/New_York:20150509T220000
DTSTAMP:20260419T103353
CREATED:20180725T204329Z
LAST-MODIFIED:20180725T204329Z
UID:40810102406-1431165600-1431208800@www.monmouth.edu
SUMMARY:Sinatra: A Photo Exhibit
DESCRIPTION:The photo exhibit features 38 framed images spanning\nSinatra’s boyhood days in Hoboken to his final performances in the 1990s. \nIncluded are rare and classic images from inside Sinatra’s Capitol Studios recording\nsessions\, at home\, at New Jersey’s Rustic Cabin roadhouse\, on the road with the\nHoboken Four\, the Tommy Dorsey Orchestra\, and\, of course\, Sinatra’s solo\ncareer.  Photographers include Ken Veeder\, Sid Avery\, and the legendary\nHerman Leonard\, among others.
URL:https://www.monmouth.edu/events/event/sinatra-a-photo-exhibit/
LOCATION:Pollak Gallery
CATEGORIES:Alumni,Community Member,Current Student,Faculty
ATTACH;FMTTYPE=image/jpeg:https://www.monmouth.edu/events/wp-content/uploads/sites/19/2018/07/la-et-ms-frank-sinatra-exhibit-new-york-grammy-002.jpg
END:VEVENT
BEGIN:VEVENT
DTSTART;TZID=America/New_York:20150509T120000
DTEND;TZID=America/New_York:20150509T170000
DTSTAMP:20260419T103353
CREATED:20180725T204352Z
LAST-MODIFIED:20190122T194405Z
UID:40810102490-1431172800-1431190800@www.monmouth.edu
SUMMARY:Sinatra: An American Icon Symposium
DESCRIPTION:Location: Wilson Auditorium\nTickets are no longer on sale online. A limited number of tickets will be available at the door – cash only.   \n\nThe Sinatra Family and Frank Sinatra Enterprises are pleased to announce some of the major initiatives confirmed as part of this year’s Sinatra 100 centennial celebration honoring one of the most cherished entertainment legends of all time\, Frank Sinatra. An icon who forever epitomizes the American dream\, Frank Sinatra continues to have an immeasurable influence on popular culture: music\, film\, art\, theatre\, fashion and beyond. Sinatra was a true one-of-a-kind personality whose incredible achievements continue to inspire greatness in others. \nAs part of this celebration\, Monmouth University in partnership with the GRAMMY MUSEUM will be hosting a day long Sinatra Centennial symposium. \nThe schedule for the day includes (subject the change): \nNoon – President Paul Brown\, Welcome and Introduction\nKeynote\nby Bob Santelli\, executive director of the GRAMMY Museum \n12:30 – Sinatra 101 – The\nEssence of Frank Sinatra\, Associate Dean of the School of Humanities and\nSocial Sciences Michael Thomas \n12:50 – Performance by\nMU students: Kellen Brennan – Keyboards\, Connor Healy – Bass\, Dino Marino – Sax\, Liam Frank – Drums\, Nicole Govel  – Vocals \n1:00-2:00 – The Man\,\nThe Music\, The Legend\, Panel will include musicians\nMax Weinberg – Drummer\, Bandleader\,\nAuthor\nSouthside Johnny Lyon – Singer\,\nSongwriter\, Arranger\nSteve Forbert\, Singer\,\nSongwriter\, Guitarist\nMike Barris – Instructor\, “Perfectly Frank: An Appreciation of the Music of Frank Sinatra”\, Brookdale\nCommunity College\nChuck Granata – Record and Radio Producer\, Author\, Music Historian and Archivist\nFollowed\nby a Q & A \n2:00-2:45 – Somewhere\nAlong the Way – Sinatra as a social activist by Bob Santelli and Max\nWeinberg \nScreening of the short film\, “The\nHouse I Live In”. The Academy Award film starring Sinatra\, was made in 1945 to\npromote racial tolerance \n2:45-3:45 – Nothing\nbut the Best\, Panel will include Sinatra aficionados\n     Joe Amodei\, President of Virgil Films\nJoe Amore\, Businessman and Sinatraphile\nAaron Furgason\, Associate Professor of Communications\nStuart Rosenberg\, Associate Professor of Management and Decision Sciences\nFollowed by a Q & A \n3:45 – 3:55 – Performance by MU students: Kellen Brennan – Keyboards\, Connor Healy – Bass\, Dino Marino – Sax\, Liam Frank – Drums\, Nicole Govel  – Vocals \n3:55 – Bob Santelli will briefly describe the exhibit in the Pollak Gallery and encourage everyone to walk over to the Gallery \nIn conjunction with the symposium\, there will be a special Sinatra photo exhibition in Pollak Gallery. Click here for details.
URL:https://www.monmouth.edu/events/event/sinatra-an-american-icon-symposium/
LOCATION:The Great Hall
CATEGORIES:Arts at Monmouth,Lectures,Special Events
ATTACH;FMTTYPE=image/jpeg:https://www.monmouth.edu/events/wp-content/uploads/sites/19/2018/07/webfs-sinatra-100.jpg
END:VEVENT
BEGIN:VEVENT
DTSTART;TZID=America/New_York:20150509T200000
DTEND;TZID=America/New_York:20150509T230000
DTSTAMP:20260419T103353
CREATED:20180725T204350Z
LAST-MODIFIED:20180725T204350Z
UID:40810102481-1431201600-1431212400@www.monmouth.edu
SUMMARY:An Evening with NILS LOFGREN ACOUSTIC DUO
DESCRIPTION:Guitar\, multi instrumental and vocal virtuoso NILS LOFGREN joined Neil Young’s band at the age of 17. He used that credential to land his own band Grin\, a record deal in 1971. His solo career began in 1975 which spawned a string of mid-70’s rock radio hits\, “Back It Up”\, “Keith Don’t Go” and his biggest\, “I Came to Dance”. In 1984 he joined Bruce Springsteen and the E Street Band for the massive Born in the USA tour and has been with them ever since. Besides recording and/or touring with Neil Young\, Grin\, Bruce Springsteen\, Lou Reed\, and Ringo Starr’s All-Starr Band\, Nil’s solo career has been prolific\, producing a string of albums including “Nils” (1979)\, “Flip” (1985)\, “Silver Lining” (1991)\, “Damaged Goods” (1995)\, “Acoustic Live” (1997)\, “Breakaway” (2001)\, a tribute to the songs of Neil Young\, “The Loner” (2008) and spanning 45 years\, his monumental 10 disc solo work retrospective\, “Face The Music” (2014). (produced by UMT PRESENTS)
URL:https://www.monmouth.edu/events/event/an-evening-with-nils-lofgren-acoustic-duo/
LOCATION:Pollak Theatre
CATEGORIES:Concerts
ATTACH;FMTTYPE=image/jpeg:https://www.monmouth.edu/events/wp-content/uploads/sites/19/2018/07/webNilsLofgrenCOLOR1_HI.jpg
END:VEVENT
END:VCALENDAR