BEGIN:VCALENDAR
VERSION:2.0
PRODID:-//Events - ECPv6.15.20//NONSGML v1.0//EN
CALSCALE:GREGORIAN
METHOD:PUBLISH
X-ORIGINAL-URL:https://www.monmouth.edu/events
X-WR-CALDESC:Events for Events
REFRESH-INTERVAL;VALUE=DURATION:PT1H
X-Robots-Tag:noindex
X-PUBLISHED-TTL:PT1H
BEGIN:VTIMEZONE
TZID:America/New_York
BEGIN:DAYLIGHT
TZOFFSETFROM:-0500
TZOFFSETTO:-0400
TZNAME:EDT
DTSTART:20140309T070000
END:DAYLIGHT
BEGIN:STANDARD
TZOFFSETFROM:-0400
TZOFFSETTO:-0500
TZNAME:EST
DTSTART:20141102T060000
END:STANDARD
BEGIN:DAYLIGHT
TZOFFSETFROM:-0500
TZOFFSETTO:-0400
TZNAME:EDT
DTSTART:20150308T070000
END:DAYLIGHT
BEGIN:STANDARD
TZOFFSETFROM:-0400
TZOFFSETTO:-0500
TZNAME:EST
DTSTART:20151101T060000
END:STANDARD
BEGIN:DAYLIGHT
TZOFFSETFROM:-0500
TZOFFSETTO:-0400
TZNAME:EDT
DTSTART:20160313T070000
END:DAYLIGHT
BEGIN:STANDARD
TZOFFSETFROM:-0400
TZOFFSETTO:-0500
TZNAME:EST
DTSTART:20161106T060000
END:STANDARD
END:VTIMEZONE
BEGIN:VEVENT
DTSTART;TZID=America/New_York:20150415T090000
DTEND;TZID=America/New_York:20150531T190000
DTSTAMP:20260419T131409
CREATED:20180725T204455Z
LAST-MODIFIED:20190301T185657Z
UID:40810102865-1429088400-1433098800@www.monmouth.edu
SUMMARY:Janet Boltax - Aging in America: Portraits and Commentary
DESCRIPTION:Aging in America: Portraits and Commentary\, is an exhibition of portraits by Janet Boltax comprised of individuals who are 90 plus years old\, along with excerpts of interviews with them. The interviews focus on interesting facets of their lives and how they are adapting to the process of aging.\n\nOpening Reception: April 15\, 6-8 pm | POLLAK GALLERY
URL:https://www.monmouth.edu/events/event/janet-boltax-aging-in-america-portraits-and-commentary/
LOCATION:Pollak Gallery
CATEGORIES:Artful Explorations of Gender
ATTACH;FMTTYPE=image/jpeg:https://www.monmouth.edu/events/wp-content/uploads/sites/19/2018/07/boltax.jpg
END:VEVENT
BEGIN:VEVENT
DTSTART;TZID=America/New_York:20150426T090000
DTEND;TZID=America/New_York:20150505T170000
DTSTAMP:20260419T131409
CREATED:20180725T204534Z
LAST-MODIFIED:20190301T183448Z
UID:40810102985-1430038800-1430845200@www.monmouth.edu
SUMMARY:Gallery Exhibition: Annual Student Exhibition
DESCRIPTION:Rechnitz Hall’s DiMattio Gallery and Ice House Gallery\nApril 26 – May 1st 2015\nOpening reception: Sunday\, April 26\, from 1:00 – 4:00 p.m. \nFeaturing the select works by Monmouth University students in Photography\, Graphic Design\, Animation and Studio Art.
URL:https://www.monmouth.edu/events/event/gallery-exhibition-annual-student-exhibition/
LOCATION:Joan and Robert Rechnitz Hall
CATEGORIES:Art and Design,Arts at Monmouth
ATTACH;FMTTYPE=image/jpeg:https://www.monmouth.edu/events/wp-content/uploads/sites/19/2018/07/annual-student-show.jpg
END:VEVENT
BEGIN:VEVENT
DTSTART;TZID=America/New_York:20150428T170000
DTEND;TZID=America/New_York:20150428T190000
DTSTAMP:20260419T131409
CREATED:20180725T204343Z
LAST-MODIFIED:20180725T204343Z
UID:40810102454-1430240400-1430247600@www.monmouth.edu
SUMMARY:MU Chamber Orchestra
DESCRIPTION:The concert will feature the Chamber Orchestra (which is comprised of students\, faculty\, and staff)\, and some smaller ensembles and soloists. The musical bill of fare will include works by Bizet\, Mozart\, Vaughan Williams\, deFalla\, Bach\, Respighi and other important composers of different eras 
URL:https://www.monmouth.edu/events/event/mu-chamber-orchestra/
LOCATION:Lauren K. Woods Theatre
CATEGORIES:Concerts,Music + Theatre Arts
ATTACH;FMTTYPE=image/jpeg:https://www.monmouth.edu/events/wp-content/uploads/sites/19/2018/07/HolidayJoy_20121206_JR_098.jpg
END:VEVENT
END:VCALENDAR