BEGIN:VCALENDAR
VERSION:2.0
PRODID:-//Events - ECPv6.15.20//NONSGML v1.0//EN
CALSCALE:GREGORIAN
METHOD:PUBLISH
X-WR-CALNAME:Events
X-ORIGINAL-URL:https://www.monmouth.edu/events
X-WR-CALDESC:Events for Events
REFRESH-INTERVAL;VALUE=DURATION:PT1H
X-Robots-Tag:noindex
X-PUBLISHED-TTL:PT1H
BEGIN:VTIMEZONE
TZID:America/New_York
BEGIN:DAYLIGHT
TZOFFSETFROM:-0500
TZOFFSETTO:-0400
TZNAME:EDT
DTSTART:20140309T070000
END:DAYLIGHT
BEGIN:STANDARD
TZOFFSETFROM:-0400
TZOFFSETTO:-0500
TZNAME:EST
DTSTART:20141102T060000
END:STANDARD
BEGIN:DAYLIGHT
TZOFFSETFROM:-0500
TZOFFSETTO:-0400
TZNAME:EDT
DTSTART:20150308T070000
END:DAYLIGHT
BEGIN:STANDARD
TZOFFSETFROM:-0400
TZOFFSETTO:-0500
TZNAME:EST
DTSTART:20151101T060000
END:STANDARD
BEGIN:DAYLIGHT
TZOFFSETFROM:-0500
TZOFFSETTO:-0400
TZNAME:EDT
DTSTART:20160313T070000
END:DAYLIGHT
BEGIN:STANDARD
TZOFFSETFROM:-0400
TZOFFSETTO:-0500
TZNAME:EST
DTSTART:20161106T060000
END:STANDARD
END:VTIMEZONE
BEGIN:VEVENT
DTSTART;TZID=America/New_York:20150410T090000
DTEND;TZID=America/New_York:20150418T170000
DTSTAMP:20260419T131304
CREATED:20180725T204535Z
LAST-MODIFIED:20190301T193152Z
UID:40810102988-1428656400-1429376400@www.monmouth.edu
SUMMARY:Gallery Exhibition: Second Senior Show - Fine Art and Art Education
DESCRIPTION:April 10 – 18\, 2014\nRechnitz Hall’s DiMattio Gallery\nOpening Reception: Friday\, April 10\, from 7:00 – 9:00 p.m. \nFeaturing the work of Monmouth University graduating seniors who will receive their degrees in Fine Art and Art Education.
URL:https://www.monmouth.edu/events/event/gallery-exhibition-second-senior-show-fine-art-and-art-education/
LOCATION:Joan and Robert Rechnitz Hall
CATEGORIES:Art and Design,Arts at Monmouth
ATTACH;FMTTYPE=image/jpeg:https://www.monmouth.edu/events/wp-content/uploads/sites/19/2018/07/2ndshow15.jpg
END:VEVENT
BEGIN:VEVENT
DTSTART;VALUE=DATE:20150415
DTEND;VALUE=DATE:20150416
DTSTAMP:20260419T131304
CREATED:20180725T204412Z
LAST-MODIFIED:20180725T204412Z
UID:40810102616-1429056000-1429142399@www.monmouth.edu
SUMMARY:Deadline to submit substitutions and waivers for May 2015 Graduation
DESCRIPTION:
URL:https://www.monmouth.edu/events/event/deadline-to-submit-substitutions-and-waivers-for-may-2015-graduation/
CATEGORIES:Academic Calendar
ATTACH;FMTTYPE=image/jpeg:https://www.monmouth.edu/events/wp-content/uploads/sites/19/2018/07/CommencementFeaturedPhoto.jpg
END:VEVENT
BEGIN:VEVENT
DTSTART;TZID=America/New_York:20150415T090000
DTEND;TZID=America/New_York:20150531T190000
DTSTAMP:20260419T131304
CREATED:20180725T204455Z
LAST-MODIFIED:20190301T185657Z
UID:40810102865-1429088400-1433098800@www.monmouth.edu
SUMMARY:Janet Boltax - Aging in America: Portraits and Commentary
DESCRIPTION:Aging in America: Portraits and Commentary\, is an exhibition of portraits by Janet Boltax comprised of individuals who are 90 plus years old\, along with excerpts of interviews with them. The interviews focus on interesting facets of their lives and how they are adapting to the process of aging.\n\nOpening Reception: April 15\, 6-8 pm | POLLAK GALLERY
URL:https://www.monmouth.edu/events/event/janet-boltax-aging-in-america-portraits-and-commentary/
LOCATION:Pollak Gallery
CATEGORIES:Artful Explorations of Gender
ATTACH;FMTTYPE=image/jpeg:https://www.monmouth.edu/events/wp-content/uploads/sites/19/2018/07/boltax.jpg
END:VEVENT
BEGIN:VEVENT
DTSTART;TZID=America/New_York:20150415T193000
DTEND;TZID=America/New_York:20150415T213000
DTSTAMP:20260419T131304
CREATED:20180725T204426Z
LAST-MODIFIED:20180725T204426Z
UID:40810102742-1429126200-1429133400@www.monmouth.edu
SUMMARY:World Cinema Series: Ida
DESCRIPTION:World Cinema Series\n(formerly the Provost’s Film Series)\n2014-2015\n“A World at War\, 1937-1945:Triumph\, Tragedy\, Memory\, and Myth” \nWith the 70th Anniversary of the end of World War II in 2015\, Monmouth University is pleased to present five films on the life-and-death decisions that people made in the invaded countries to survive in the war\, defend their homeland and beliefs\, and protect their families. Collectively\, the films show episodes of resistance\, collaboration\, and heroism in addition to the legacy of the global war for the later 20th century and our current century as well. \nAll movies will be shown in the Pollak Theatre at Monmouth University. \nFree of charge and open to the Monmouth University community and the general public. \nHost: Dr. Thomas S. Pearson\, Professor\, Department of History & Anthropology \n“Ida”\nPart of the Global Understanding Convention\nDiscussant: Dr. Susan DouglassSpecialist Professor\, History & Anthropology \nWednesday\, April 15\, 2015\n7:30 p.m.\nPawel Pawlikowski’s “Ida” (PG-13) – Anna\, a young novitiate nun in 1960’s Poland\, is on the verge of taking her vows when she discovers a dark family secret dating back to the years of the Nazi occupation. \n\nOrganized by the Office of Global Initiatives
URL:https://www.monmouth.edu/events/event/world-cinema-series-ida/
LOCATION:Pollak Theatre
ATTACH;FMTTYPE=image/jpeg:https://www.monmouth.edu/events/wp-content/uploads/sites/19/2018/07/ida.jpg
END:VEVENT
END:VCALENDAR