BEGIN:VCALENDAR
VERSION:2.0
PRODID:-//Events - ECPv6.15.20//NONSGML v1.0//EN
CALSCALE:GREGORIAN
METHOD:PUBLISH
X-ORIGINAL-URL:https://www.monmouth.edu/events
X-WR-CALDESC:Events for Events
REFRESH-INTERVAL;VALUE=DURATION:PT1H
X-Robots-Tag:noindex
X-PUBLISHED-TTL:PT1H
BEGIN:VTIMEZONE
TZID:America/New_York
BEGIN:DAYLIGHT
TZOFFSETFROM:-0500
TZOFFSETTO:-0400
TZNAME:EDT
DTSTART:20140309T070000
END:DAYLIGHT
BEGIN:STANDARD
TZOFFSETFROM:-0400
TZOFFSETTO:-0500
TZNAME:EST
DTSTART:20141102T060000
END:STANDARD
BEGIN:DAYLIGHT
TZOFFSETFROM:-0500
TZOFFSETTO:-0400
TZNAME:EDT
DTSTART:20150308T070000
END:DAYLIGHT
BEGIN:STANDARD
TZOFFSETFROM:-0400
TZOFFSETTO:-0500
TZNAME:EST
DTSTART:20151101T060000
END:STANDARD
BEGIN:DAYLIGHT
TZOFFSETFROM:-0500
TZOFFSETTO:-0400
TZNAME:EDT
DTSTART:20160313T070000
END:DAYLIGHT
BEGIN:STANDARD
TZOFFSETFROM:-0400
TZOFFSETTO:-0500
TZNAME:EST
DTSTART:20161106T060000
END:STANDARD
END:VTIMEZONE
BEGIN:VEVENT
DTSTART;TZID=America/New_York:20150121T090000
DTEND;TZID=America/New_York:20150410T170000
DTSTAMP:20260422T004435
CREATED:20180725T204537Z
LAST-MODIFIED:20190226T205313Z
UID:40810102994-1421830800-1428685200@www.monmouth.edu
SUMMARY:Gallery Exhibition: Heeseop Yoon
DESCRIPTION:January 21 – April 10\nIce House Gallery\nOpening Reception: Thurs. February 5\, from 5:30 – 7:00 p.m.\nIllustrated Lecture: Wilson Hall Auditorium\, 4:30 – 5:30 p.m. \nI begin by taking photographs of interiors such as warehouses\, storage spaces\, junkshops and basements; places where everything is jumbled\, disorganized and filled with piles of random stuff.  From these photographs I construct a view and then start to draw freehand.  I don’t make sketches or project images to make the drawings.  Once I put lines on the surface I don’t erase or remove them.  If I want to change the drawing I just add more lines on top of the existing ones. These ‘mistakes’ that I make in the process of my drawing appear as double or multiples lines as I apply ‘corrections’. They reflect the accumulation of time\, and how my perception has changed and become less clear over time.\nMost of the drawing installations are site-specific.  I usually visit the site before I start the piece and take measurements of the space where I will install the work.  Usually I have vague ideas about how the whole installation will sit in the space\, but most of the decisions I make happen during the process of making the piece in the studio. \nMost of my drawing installations are also room scale\, so I work section by section in my studio and don’t usually get to see the entire drawing until I have finish installing it. The whole piece is attached to the wall with the same black masking tape that I use for the drawing. I give each Mylar sheet a number and make a map of the drawing that shows which number goes where\, so installing the whole piece is just like a putting together a really big puzzle. \nI am mostly attracted to representing claustrophobic environments and defunct objects. At the beginning\, it started as more of a formal interest – I was attracted to these massive piles of things\, and the anonymous\, decontextualized quality they had.  I wanted to make still life drawings that were about perception and mark-making rather than the narrative of the objects themselves.  But the more I worked with claustrophobic spaces\, I stared to realize that these are the spaces hidden within our lives.  We have so many things that we forget about. We struggle for space for ourselves and for the things we own.  Now I am interested in these as lost spaces. \nMy work deals with memory and perception within cluttered spaces. I begin by photographing interiors such as basements\, workshops\, and storage spaces\, places where everything is jumbled and time becomes ambiguous without the presence of people. From these photographs I construct a view and then I draw freehand without erasing. As I correct “mistakes” the work results in double or multiple lines\, which reflect how my perception has changed over time and makes me question my initial perception. Paradoxically\, greater concentration and more lines make the drawn objects less clear. The more I see\, the less I believe in the accuracy or reality of the images I draw. \nArtist Website: heeseopyoon.com/
URL:https://www.monmouth.edu/events/event/gallery-exhibition-heeseop-yoon/
LOCATION:Rotary Ice House Gallery
CATEGORIES:Art and Design,Arts at Monmouth
ATTACH;FMTTYPE=image/jpeg:https://www.monmouth.edu/events/wp-content/uploads/sites/19/2018/07/Yoon_SilkscreenWallpaperDetail.jpg
END:VEVENT
BEGIN:VEVENT
DTSTART;TZID=America/New_York:20150305T090000
DTEND;TZID=America/New_York:20150410T190000
DTSTAMP:20260422T004435
CREATED:20180725T204455Z
LAST-MODIFIED:20190301T185731Z
UID:40810102862-1425546000-1428692400@www.monmouth.edu
SUMMARY:Dylan Scholinski
DESCRIPTION:Lecture: March 26 at 2:30 p.m. | Pollak Theatre \nDylan Scholinski was born Daphne Scholinski. She was 15 years old she was locked up in a mental hospital\, diagnosed as “an inappropriate female”\, and spent the rest of her high school years undergoing extreme femininity training. Now 47 years old Dylan is a distinguished artist\, author\, and public speaker having appeared on 20/20\, Dateline and Today to discuss his experiences and has been featured in a variety of newspapers and magazines. Recently his award-winning book The Last Time I Wore a Dress: A Memoir was listed in the Top 10 Must Reads in Out Magazines first transgender issue. His artwork not only portrays the anguish of his hospital years but also his ultimate triumph. Dylan is the founder/witness for the Sent(a)Mental Project : A Memorial to Suicide. He frequently opens his studio to a variety of Denver metro youth\, to provide safe space to explore and discover ways of expressing and empowering themselves without bringing harm to themselves or others. \nDylan will be exhibiting his own work as well as examples of artwork by youth who have participated in his “lead with your heart” workshop. The idea is to use the image of the heart as a template to fill and show how your heart feels on the inside and to use the space outside of the heart to show what is affecting and influencing it. Each participant interprets the project their own way and displayed together the works collect the expressions of individual to show how the heart connects us all.
URL:https://www.monmouth.edu/events/event/dylan-scholinski/
LOCATION:Pollak Gallery
CATEGORIES:Artful Explorations of Gender
ATTACH;FMTTYPE=image/jpeg:https://www.monmouth.edu/events/wp-content/uploads/sites/19/2018/07/dylan.jpg
END:VEVENT
BEGIN:VEVENT
DTSTART;TZID=America/New_York:20150327T090000
DTEND;TZID=America/New_York:20150404T140000
DTSTAMP:20260422T004435
CREATED:20180725T204536Z
LAST-MODIFIED:20190301T193238Z
UID:40810102991-1427446800-1428156000@www.monmouth.edu
SUMMARY:Gallery Exhibition: First Senior Exhibition - Graphic Design and Animation
DESCRIPTION:March 27 – April 4\, 2014\nRechnitz Hall’s DiMattio Gallery\nOpening reception: Friday\, March 27\, from 7:00 – 9:00 p.m. \nFeaturing the work of Monmouth University graduating seniors who will receive their degrees in Graphic Design and Animation.
URL:https://www.monmouth.edu/events/event/gallery-exhibition-first-senior-exhibition-graphic-design-and-animation/
LOCATION:Joan and Robert Rechnitz Hall
CATEGORIES:Art and Design,Arts at Monmouth
ATTACH;FMTTYPE=image/jpeg:https://www.monmouth.edu/events/wp-content/uploads/sites/19/2018/07/1stshow.jpg
END:VEVENT
BEGIN:VEVENT
DTSTART;TZID=America/New_York:20150328T100000
DTEND;TZID=America/New_York:20150328T113000
DTSTAMP:20260422T004435
CREATED:20180725T204634Z
LAST-MODIFIED:20180725T204634Z
UID:40810103297-1427536800-1427542200@www.monmouth.edu
SUMMARY:Graduate Information Session
DESCRIPTION:This Information Session is for prospective students interested in Graduate School at Monmouth University. All programs will be represented. \nTwo additional sessions will be held following the session: \n\nPrinceton Review GMAT Strategy Session\, hosted by the Monmouth MBA Program. Free workshop for students planning to take the GMAT\, immediately following Monmouth’s MBA Information Session.\nPrinceton Review GRE Strategy Session\, hosted by Monmouth University’s Graduate School. Free workshop for students planning to take the GRE\, immediately following Monmouth’s Graduate School Information Session.\n\nFor more information and to register\, please visit our Graduate Information Session registration site.
URL:https://www.monmouth.edu/events/event/graduate-information-session-6/
LOCATION:The Great Hall -104
CATEGORIES:Community Member
ATTACH;FMTTYPE=image/jpeg:https://www.monmouth.edu/events/wp-content/uploads/sites/19/2018/07/monmouth-welcome-710x355.jpg
END:VEVENT
BEGIN:VEVENT
DTSTART;TZID=America/New_York:20150328T200000
DTEND;TZID=America/New_York:20150328T230000
DTSTAMP:20260422T004435
CREATED:20180725T204458Z
LAST-MODIFIED:20180725T204458Z
UID:40810102874-1427572800-1427583600@www.monmouth.edu
SUMMARY:Willie Nile and Anthony D'Amato join Songwriters By The Sea
DESCRIPTION:Songwriters By The Sea hosts\, and accomplished New Jersey songwriters\, Joe D’Urso and Joe Rapolla\, bring their popular songwriters series to the historic Lauren K. Woods Theater. The series began as an intimate\, casual coffeehouse jam in Asbury Park\, NJ and has evolved into a regional and national show. The series has attracted the attention and participation of many of the most revered singers and songwriters on the scene today.  \nThis show features the tireless touring Greenwich Village troubadour\, Willie Nile.  Willie makes a stop at the Monmouth University right in the middle of his European tour where he’s been showcasing songs from his new CD\, American Ride. Also joining Rapolla and D’Urso is breakthrough artist Anthony D’Amato*.  D’Amato just signed to New West Records and released his critically acclaimed CD\, coincidentally titled\, The Shipwreck from the Shore. Monmouth University Blue Hawk Records’ artists Natalie Zeller and Brittany Cannarozzi​ will open the show. \nIncluded with the ticket price is a reception\, sponsored by the Leon Hess Business School\, before the show at 7 p.m. \n*Please note that Anthony D’Amato will be replacing Sam Llanas
URL:https://www.monmouth.edu/events/event/willie-nile-and-anthony-damato-join-songwriters-by-the-sea/
LOCATION:Lauren K. Woods Theatre
CATEGORIES:Music + Theatre Arts
ATTACH;FMTTYPE=image/jpeg:https://www.monmouth.edu/events/wp-content/uploads/sites/19/2018/07/Songwriters_Thumb1.jpg
END:VEVENT
END:VCALENDAR