BEGIN:VCALENDAR
VERSION:2.0
PRODID:-//Events - ECPv6.15.20//NONSGML v1.0//EN
CALSCALE:GREGORIAN
METHOD:PUBLISH
X-WR-CALNAME:Events
X-ORIGINAL-URL:https://www.monmouth.edu/events
X-WR-CALDESC:Events for Events
REFRESH-INTERVAL;VALUE=DURATION:PT1H
X-Robots-Tag:noindex
X-PUBLISHED-TTL:PT1H
BEGIN:VTIMEZONE
TZID:America/New_York
BEGIN:DAYLIGHT
TZOFFSETFROM:-0500
TZOFFSETTO:-0400
TZNAME:EDT
DTSTART:20130310T070000
END:DAYLIGHT
BEGIN:STANDARD
TZOFFSETFROM:-0400
TZOFFSETTO:-0500
TZNAME:EST
DTSTART:20131103T060000
END:STANDARD
BEGIN:DAYLIGHT
TZOFFSETFROM:-0500
TZOFFSETTO:-0400
TZNAME:EDT
DTSTART:20140309T070000
END:DAYLIGHT
BEGIN:STANDARD
TZOFFSETFROM:-0400
TZOFFSETTO:-0500
TZNAME:EST
DTSTART:20141102T060000
END:STANDARD
BEGIN:DAYLIGHT
TZOFFSETFROM:-0500
TZOFFSETTO:-0400
TZNAME:EDT
DTSTART:20150308T070000
END:DAYLIGHT
BEGIN:STANDARD
TZOFFSETFROM:-0400
TZOFFSETTO:-0500
TZNAME:EST
DTSTART:20151101T060000
END:STANDARD
END:VTIMEZONE
BEGIN:VEVENT
DTSTART;VALUE=DATE:20140617
DTEND;VALUE=DATE:20140618
DTSTAMP:20260419T203020
CREATED:20180725T204548Z
LAST-MODIFIED:20180725T204548Z
UID:40810103054-1402963200-1403049599@www.monmouth.edu
SUMMARY:Semester D Classes Begin
DESCRIPTION:
URL:https://www.monmouth.edu/events/event/semester-d-classes-begin/
CATEGORIES:Current Student
ATTACH;FMTTYPE=image/jpeg:https://www.monmouth.edu/events/wp-content/uploads/sites/19/2018/07/holiday-breaks-placeholder.jpg
END:VEVENT
BEGIN:VEVENT
DTSTART;TZID=America/New_York:20140617T190000
DTEND;TZID=America/New_York:20140617T213000
DTSTAMP:20260419T203020
CREATED:20180725T204549Z
LAST-MODIFIED:20190301T204542Z
UID:40810103057-1403031600-1403040600@www.monmouth.edu
SUMMARY:Film: When Comedy Went to School
DESCRIPTION:Why are there so many Jewish comedians? When Comedy Went to School answers this question with an entertaining portrait of this country’s greatest generation of comics – the generation that includes the likes of Jerry Lewis\, Sid Caesar\, Jackie Mason\, Mort Sahl\, and Jerry Stiller – all of whom make appearances in the film\, telling jokes and telling their stories. The answer is also found in upstate New York’s Catskill Mountains\, aka the Borscht Belt\, where Jewish immigrants transformed lush farmland into the 20th century’s largest resort complex. Thos Catskill hotels and bungalow colonies provided the setting for a remarkable group of young Jewish-American comedians to hone their craft and become worldwide legends. It was truly When Comedy Went to School. \nCommentary: Mr. Lawrence Richards\, Director \nOrganized by the Jewish Cultural Studies Program and the Office for Global Initiatives \nFor more information please contact 732-571-4474 \nMonmouth University appreciates the generosity of a group of Hollywood Golf Club members who enable multi-year support for the Monmouth University Jewish Cultural Studies Program.
URL:https://www.monmouth.edu/events/event/film-when-comedy-went-to-school/
LOCATION:Magill Commons
CATEGORIES:Alumni,Community Member,Current Student
ATTACH;FMTTYPE=image/jpeg:https://www.monmouth.edu/events/wp-content/uploads/sites/19/2018/07/WhenComedyWentToSchool.jpg
END:VEVENT
END:VCALENDAR