BEGIN:VCALENDAR
VERSION:2.0
PRODID:-//Events - ECPv6.15.20//NONSGML v1.0//EN
CALSCALE:GREGORIAN
METHOD:PUBLISH
X-ORIGINAL-URL:https://www.monmouth.edu/events
X-WR-CALDESC:Events for Events
REFRESH-INTERVAL;VALUE=DURATION:PT1H
X-Robots-Tag:noindex
X-PUBLISHED-TTL:PT1H
BEGIN:VTIMEZONE
TZID:America/New_York
BEGIN:DAYLIGHT
TZOFFSETFROM:-0500
TZOFFSETTO:-0400
TZNAME:EDT
DTSTART:20130310T070000
END:DAYLIGHT
BEGIN:STANDARD
TZOFFSETFROM:-0400
TZOFFSETTO:-0500
TZNAME:EST
DTSTART:20131103T060000
END:STANDARD
BEGIN:DAYLIGHT
TZOFFSETFROM:-0500
TZOFFSETTO:-0400
TZNAME:EDT
DTSTART:20140309T070000
END:DAYLIGHT
BEGIN:STANDARD
TZOFFSETFROM:-0400
TZOFFSETTO:-0500
TZNAME:EST
DTSTART:20141102T060000
END:STANDARD
BEGIN:DAYLIGHT
TZOFFSETFROM:-0500
TZOFFSETTO:-0400
TZNAME:EDT
DTSTART:20150308T070000
END:DAYLIGHT
BEGIN:STANDARD
TZOFFSETFROM:-0400
TZOFFSETTO:-0500
TZNAME:EST
DTSTART:20151101T060000
END:STANDARD
END:VTIMEZONE
BEGIN:VEVENT
DTSTART;TZID=America/New_York:20140121T090000
DTEND;TZID=America/New_York:20140411T170000
DTSTAMP:20260419T233550
CREATED:20180725T205214Z
LAST-MODIFIED:20190228T143313Z
UID:40810104311-1390294800-1397235600@www.monmouth.edu
SUMMARY:Gallery Exhibition: Jeremiah Teipen's Inforifices
DESCRIPTION:  \nInforifices\, an exhibition by Jeremiah Teipen\, features new works that aestheticize the processes by which we consume (and digest) large amounts of visual information. Teipen creates mesmerizing experiences that mirror our current hyper-saturated mediascape\, but also allow the viewer to transcend it. \nOpening Reception: Thurs. February 6\, from 4:30 – 7 p.m\nRotary Ice House Gallery Hours \n  \nMonday – Friday\, 9 a.m. to 5 p.m.
URL:https://www.monmouth.edu/events/event/gallery-exhibition-jeremiah-teipens-inforifices/
LOCATION:Rotary Ice House Gallery
ATTACH;FMTTYPE=image/jpeg:https://www.monmouth.edu/events/wp-content/uploads/sites/19/2018/07/teipen_thumb.jpg
END:VEVENT
BEGIN:VEVENT
DTSTART;TZID=America/New_York:20140313T090000
DTEND;TZID=America/New_York:20140430T235900
DTSTAMP:20260419T233550
CREATED:20180725T204707Z
LAST-MODIFIED:20190301T182031Z
UID:40810103435-1394701200-1398902340@www.monmouth.edu
SUMMARY:Gallery Exhibition: Art in Science
DESCRIPTION:March 14 – April 30 \nOpening Reception: Thurs. March 13 from 6-8 pm \nIntended to express and highlight the beauty of science – through images\, drawings\, and photos of natural forms and visualization of scientific\, mathematic\, and engineering processes based on the research and coursework of MU faculty and students. Images will reveal the elegance of science art in scientific results\, observations\, and failures. \nPollak Gallery: Monday – Friday\, 9 a.m. to 7 p.m. (Except during openings)
URL:https://www.monmouth.edu/events/event/gallery-exhibition-art-in-science/
LOCATION:Pollak Gallery
ATTACH;FMTTYPE=image/jpeg:https://www.monmouth.edu/events/wp-content/uploads/sites/19/2018/07/Event-Jan-19-artinscience.jpg
END:VEVENT
BEGIN:VEVENT
DTSTART;VALUE=DATE:20140408
DTEND;VALUE=DATE:20140419
DTSTAMP:20260419T233550
CREATED:20180725T204626Z
LAST-MODIFIED:20180725T204626Z
UID:40810103261-1396915200-1397865599@www.monmouth.edu
SUMMARY:Priority/Early Registration for Summer/Fall/Spring
DESCRIPTION:
URL:https://www.monmouth.edu/events/event/priority-early-registration-for-summer-fall-spring/
CATEGORIES:Academic Calendar
ATTACH;FMTTYPE=image/jpeg:https://www.monmouth.edu/events/wp-content/uploads/sites/19/2018/07/holiday-breaks-placeholder.jpg
END:VEVENT
BEGIN:VEVENT
DTSTART;TZID=America/New_York:20140410T113000
DTEND;TZID=America/New_York:20140410T124500
DTSTAMP:20260419T233550
CREATED:20180725T204620Z
LAST-MODIFIED:20190102T160002Z
UID:40810103207-1397129400-1397133900@www.monmouth.edu
SUMMARY:Contemporary Chinese Sound Art and the Politics of Equality
DESCRIPTION:Location: Young Auditorium\, Bey Hall \nContemporary Chinese Sound Art and the Politics of Equality (Lecture and discussion)\nProf. Andrew Demirjian\, Department of Communication\nXiaoying Yuan\, Independent Art Curator \nSince its import into China\, the evolution of and the practice of Sound Art\, like the art of New Media\, has been completely re-shaped by the political system\, social structure\, and market economy of contemporary China. Sound Art in China – as it’s been greatly affected by the local culture – has very little in common with its original reference in Western art history. In a classroom colloquium format\, media art curator Xiaoying Yuan will discuss artists in contemporary China who work with sound as their medium and the issues of equality they encounter from a social\, political\, and institutional perspective. During her presentation she will play excerpts of compositions and video documentation of influential performances of this vibrant and extremely creative experimental art community that has limited access to gain the attention of Western art media. \nAbout the Lecturer\nXiaoying Juliette Yuan holds a Master of Generative Literature from Paris III (la Sorbonne Nouvelle\, Paris\, France)\, and is currently a Ph.D. candidate at Planetary Collegium (University of Plymouth\, UK)\, under the direction of Roy Ascott. She has worked in the media arts field since 2004\, and is one of the most active figures in the Chinese media arts scene. \nHer accomplished projects include international exhibitions\, conferences and workshops. Her collaborators include governmental institutions\, academies\, museums\, festivals\, private institutions\, and foundations\, both in China and overseas. She is also an active editor and writer\, and has widely published surveys and critiques in mainstream Chinese and international magazines.
URL:https://www.monmouth.edu/events/event/contemporary-chinese-sound-art-and-the-politics-of-equality/
CATEGORIES:Lectures
ATTACH;FMTTYPE=image/jpeg:https://www.monmouth.edu/events/wp-content/uploads/sites/19/2018/07/holiday-breaks-placeholder.jpg
END:VEVENT
BEGIN:VEVENT
DTSTART;TZID=America/New_York:20140410T140000
DTEND;TZID=America/New_York:20140410T150000
DTSTAMP:20260419T233550
CREATED:20180725T204620Z
LAST-MODIFIED:20190430T142950Z
UID:40810103210-1397138400-1397142000@www.monmouth.edu
SUMMARY:President's Inauguration
DESCRIPTION:Join us on the steps of Wilson Hall for the Inauguration of President Paul R. Brown\, Ph.D. \nCan’t make it? A live stream of the inauguration will be available.
URL:https://www.monmouth.edu/events/event/presidents-inauguration/
ATTACH;FMTTYPE=image/jpeg:https://www.monmouth.edu/events/wp-content/uploads/sites/19/2018/07/monmouth-welcome-710x355.jpg
END:VEVENT
BEGIN:VEVENT
DTSTART;TZID=America/New_York:20140410T163000
DTEND;TZID=America/New_York:20140425T235900
DTSTAMP:20260419T233550
CREATED:20180725T204625Z
LAST-MODIFIED:20190304T153010Z
UID:40810103237-1397147400-1398470340@www.monmouth.edu
SUMMARY:A Judgment of War: An Exhibit of Selected Works by Jacob Landau
DESCRIPTION:Opening Reception: April 10\, 2014 at 4:30 p.m. \nMonmouth University Galleries presents an exhibition of works exploring the theme of war by American artist\, humanist\, and teacher Jacob Landau in Monmouth University Library.  A Judgment of War: An Exhibit of Selected Works by Jacob Landau will be on view from April 10 – April 25 in the Library Seminar Room (102). \nOn Thursday\, April 17 at 4:30 p.m. Steven Brower\, Assistant Professor of Art at Marywood University\, will give a talk on Landau’s comic books\, including “The Sniper\,” which he did while serving in the Italian theatre during World War II. \nAll events are free & open to the public. Docent tours are available (for times\, contact Professor Susan Douglass 732-263-5509; sdouglas@monmouth.edu). \nFor additional information on the exhibition and other gallery events on the West Long Branch campus of Monmouth University\, please contact call 732-263-5712 or visit www.monmouth.edu/arts.
URL:https://www.monmouth.edu/events/event/a-judgment-of-war-an-exhibit-of-selected-works-by-jacob-landau/
LOCATION:Monmouth University Library
ATTACH;FMTTYPE=image/jpeg:https://www.monmouth.edu/events/wp-content/uploads/sites/19/2018/07/landau_web.jpg
END:VEVENT
BEGIN:VEVENT
DTSTART;TZID=America/New_York:20140410T193000
DTEND;TZID=America/New_York:20140410T230000
DTSTAMP:20260419T233550
CREATED:20180725T205200Z
LAST-MODIFIED:20190905T142137Z
UID:40810104272-1397158200-1397170800@www.monmouth.edu
SUMMARY:Sean Tyrrell
DESCRIPTION:One of Ireland’s major folk voices returns to Monmouth University for another extraordinary evening of deeply moving\, engaging music and storytelling. Longtime traditional musician\, renowned storyteller and performance artist since the 1960’s\, Sean Tyrrell has traveled extensively all over the world\, collaborating with folks such as Tommy Peoples and Paddy Keenan. Siobhan Long of the Irish Times Review writes: “Here be folk music as it was meant to be: pugilistic at times\, all embracing at others. Tyrrell’s appetite for telling it like it is as unquenchable as ever.” \nCosponsored by the Irish Studies Program
URL:https://www.monmouth.edu/events/event/sean-tyrrell-2/
LOCATION:Lauren K. Woods Theatre
CATEGORIES:Arts at Monmouth,Concerts
ATTACH;FMTTYPE=image/jpeg:https://www.monmouth.edu/events/wp-content/uploads/sites/19/2018/07/sean_tyrell_full.jpg
END:VEVENT
BEGIN:VEVENT
DTSTART;TZID=America/New_York:20140410T200000
DTEND;TZID=America/New_York:20140410T220000
DTSTAMP:20260419T233550
CREATED:20180725T204620Z
LAST-MODIFIED:20190430T143418Z
UID:40810103204-1397160000-1397167200@www.monmouth.edu
SUMMARY:GUC Featured Movie and Conversation
DESCRIPTION:Location: Young Auditorium\, Bey Hall \nSpanning seven years\, “My So-Called Enemy” follows Palestinian and Israeli teenage girls who participated in a women’s leadership program in New Jersey called Building Bridges for Peace. It documents how the transformative experience of knowing their “enemies” as human beings collides with the realities of their lives in Palestine and Israel. The heart and mind-opening film presents the complexities of the Israeli/Palestinian conflict through a human lens and opens up the possibility for hope that comes from listening to each other’s stories. Viewers will have the opportunity to dialogue with Lisa Gossels\, the dynamic director of this award-winning documentary. \nThis film will be shown as part of Prof. Saliba Sarsar’s “Comparative Politics of the Middle East” class. It is sponsored by the Monmouth Center for World Religions and Ethical Thought (MCWRET)\, the Monmouth Dialogue Group\, and the U.S. President’s Interfaith Initiative at Monmouth University. A continental breakfast will be served. \n 
URL:https://www.monmouth.edu/events/event/guc-featured-movie-and-conversation/
ATTACH;FMTTYPE=image/jpeg:https://www.monmouth.edu/events/wp-content/uploads/sites/19/2018/07/GUC-image.jpg
END:VEVENT
END:VCALENDAR