BEGIN:VCALENDAR
VERSION:2.0
PRODID:-//Events - ECPv6.15.20//NONSGML v1.0//EN
CALSCALE:GREGORIAN
METHOD:PUBLISH
X-ORIGINAL-URL:https://www.monmouth.edu/events
X-WR-CALDESC:Events for Events
REFRESH-INTERVAL;VALUE=DURATION:PT1H
X-Robots-Tag:noindex
X-PUBLISHED-TTL:PT1H
BEGIN:VTIMEZONE
TZID:America/New_York
BEGIN:DAYLIGHT
TZOFFSETFROM:-0500
TZOFFSETTO:-0400
TZNAME:EDT
DTSTART:20120311T070000
END:DAYLIGHT
BEGIN:STANDARD
TZOFFSETFROM:-0400
TZOFFSETTO:-0500
TZNAME:EST
DTSTART:20121104T060000
END:STANDARD
BEGIN:DAYLIGHT
TZOFFSETFROM:-0500
TZOFFSETTO:-0400
TZNAME:EDT
DTSTART:20130310T070000
END:DAYLIGHT
BEGIN:STANDARD
TZOFFSETFROM:-0400
TZOFFSETTO:-0500
TZNAME:EST
DTSTART:20131103T060000
END:STANDARD
BEGIN:DAYLIGHT
TZOFFSETFROM:-0500
TZOFFSETTO:-0400
TZNAME:EDT
DTSTART:20140309T070000
END:DAYLIGHT
BEGIN:STANDARD
TZOFFSETFROM:-0400
TZOFFSETTO:-0500
TZNAME:EST
DTSTART:20141102T060000
END:STANDARD
END:VTIMEZONE
BEGIN:VEVENT
DTSTART;TZID=America/New_York:20130903T090000
DTEND;TZID=America/New_York:20131213T170000
DTSTAMP:20260422T093330
CREATED:20180725T204643Z
LAST-MODIFIED:20190301T190215Z
UID:40810103351-1378198800-1386954000@www.monmouth.edu
SUMMARY:Selections from the Monmouth University Permanent Collection
DESCRIPTION:Selections from the Monmouth University permanent collection featuring works by various artists\, including ebony carvings\, etchings by Adam Wurtz\, and lithographs by Salvadore Dali.
URL:https://www.monmouth.edu/events/event/selections-from-the-monmouth-university-permanent-collection/
LOCATION:Pollak Gallery
ATTACH;FMTTYPE=image/jpeg:https://www.monmouth.edu/events/wp-content/uploads/sites/19/2018/07/dali3.jpg
END:VEVENT
BEGIN:VEVENT
DTSTART;TZID=America/New_York:20131111T184500
DTEND;TZID=America/New_York:20131216T230000
DTSTAMP:20260422T093330
CREATED:20180725T204640Z
LAST-MODIFIED:20180725T204640Z
UID:40810103336-1384195500-1387234800@www.monmouth.edu
SUMMARY:Argentine Tango Classes (Session II)
DESCRIPTION:November 11 – December 16Monday EveningsAdvanced Class: 6:45 pmBeginner Class: 8:00 pmEyas Lounge in the MAC Please\n join instructor Lee Sager of Tango Pantera for a six week session of\nArgentine Tango Classes. No partner or experience necessary. \nFor more information about Tango Pantera visit www.TangoPantera.Blogspot.com
URL:https://www.monmouth.edu/events/event/argentine-tango-classes-session-ii/
LOCATION:MAC At Monmouth
CATEGORIES:Dance
ATTACH;FMTTYPE=image/jpeg:https://www.monmouth.edu/events/wp-content/uploads/sites/19/2018/07/WEBTango2waterAP.jpg
END:VEVENT
BEGIN:VEVENT
DTSTART;TZID=America/New_York:20131212T193000
DTEND;TZID=America/New_York:20131212T230000
DTSTAMP:20260422T093330
CREATED:20180725T205141Z
LAST-MODIFIED:20180725T205141Z
UID:40810104206-1386876600-1386889200@www.monmouth.edu
SUMMARY:WinterSong\, A Holiday Concert
DESCRIPTION:ALL SEATED TICKETS ARE SOLD OUT! Standing room tickets will be sold the night of the show. \nAn evening of holiday poetry and music for choir\, orchestra\, and handbells performed in the majestic festive atmosphere of Wilson Hall. The concert is conducted by Professor Michael Gillette and Dr. David M. Tripold and features the Colts Neck Reformed Church Exultation Ringers conducted by Maggie Tripold.
URL:https://www.monmouth.edu/events/event/wintersong-a-holiday-concert/
LOCATION:The Great Hall
CATEGORIES:Arts at Monmouth,Concerts
ATTACH;FMTTYPE=image/jpeg:https://www.monmouth.edu/events/wp-content/uploads/sites/19/2018/07/wintersong_Full.jpg
END:VEVENT
END:VCALENDAR